Workbook
Name Database: #REF!
Name Database: #REF!
Name Database: #REF!
Name Database: #REF!
Name Database: #REF!
Name Datenbank2: #REF!
Name Druckbereich1: #REF!
Name Druckbereich1: #REF!
Name Druckbereich1: #REF!
Name Druckbereich1: #REF!
Name Druckbereich1.1: #REF!
Name Druckbereich1.1: #REF!
Name Druckbereich1.1: #REF!
Name Druckbereich11: #REF!
Name Druckbereich11: #REF!
Name Druckbereich11: #REF!
Name Druckbereich4: #REF!
Name Druckbereich4: #REF!
Name Druckbereich4: #REF!
Name Print_Area: '3'!$A$1:$L$50
Name Print_Area: 'Grafiken1-2'!$A$1:$H$63
Name Print_Titles: '1'!$1:$5
Name Print_Titles: '2'!$1:$9
Name Print_Titles: '6'!$1:$5

Sheet Titel
B2: Statistischer
B3: Bericht
C5: L III 6 - j / 25
C7: Finanzvermögen der Kern und Extrahaushalte des öffentlichen Gesamthaushalts im Land Berlin am 31.12.2025

Sheet Impressum
A21: Impressum
B23: Statistischer Bericht
B24: L III 6 - j / 25
B26: Erscheinungsfolge: jährlich
B27: Erschienen im September 2026
A34: Herausgeber | D34: Zeichenerklärung
B36: Amt für Statistik Berlin-Brandenburg | D36: 0 | E36: weniger als die Hälfte von 1
B37: Steinstraße 104–106 | E37: in der letzten besetzten Stelle,
B38: 14480 Potsdam | E38: jedoch mehr als nichts
B39: info@statistik-bbb.de | D39: – | E39: nichts vorhanden
B40: www.statistik-berlin-brandenburg.de | D40: … | E40: Angabe fällt später an
D41: ( ) | E41: Aussagewert ist eingeschränkt
B42: Tel. 0331 8173-1777 | D42: / | E42: Zahlenwert nicht sicher genug
B43: Fax 0331 817330-4091 | D43: • | E43: Zahlenwert unbekannt oder
E44: geheim zu halten
D45: x | E45: Tabellenfach gesperrt
D46: p | E46: vorläufige Zahl
D47: r | E47: berichtigte Zahl
D48: s | E48: geschätzte Zahl
B51: Amt für Statistik Berlin-Brandenburg,
B52: Potsdam, 2026
B55: Dieses Werk ist unter einer Creative Commons Lizenz vom Typ Namensnennung 3.0 Deutschland zugänglich. Um eine Kopie dieser Lizenz einzusehen, konsultieren Sie
B57: http://creativecommons.org/licenses/by/3.0/de/

Sheet Inhaltsverzeichnis
A1: Inhaltsverzeichnis
C2: Seite
B4: Metadaten zu dieser Statistik (externer Link)
B6: Grafiken
A7: 1 | B7: Finanzvermögen im Land Brandenburg beim nicht-öffentlichen Bereich am 31.12. | C7: 5
A9: 2 | B9: Finanzvermögen im Land Brandenburg beim öffentlichen Bereich sowie Anteilsrechte am 31.12. | C9: 5
A11: 3 | B11: Anteile der Vermögensarten beim nicht öffentlichen Bereich am Finanzvermögen
B12: im Land Berlin am 31.12.2025 | C12: 12
A14: 4 | B14: Anteile der Körperschaftsgruppen am Finanzvermögen beim nicht-öffentlichen Bereich
B15: des Landes Berlin am 31.12.2025 | C15: 13
B18: Tabellen
A19: 1 | B19: Finanzvermögen des Landes nach Körperschaftsgruppen am 31.12.2021 bis 2025 | C19: 6
A21: 2 | B21: Finanzvermögen des Landes nach Körperschaftsgruppen und Art des Vermögens am 31.12.2025 | C21: 8
A23: 3 | B23: Finanzvermögen des Landes einschl. Extrahaushalte nach Arten, Körperschaftsgruppen und
B24: Größenklassen beim nicht-öffentlichen Bereich am 31.12.2025 | C24: 12
A26: 4 | B26: Finanzvermögen des Landes einschl. Extrahaushalte nach Arten, Körperschaftsgruppen
B27: und Größenklassen beim öffentlichen Bereich am 31.12.2025 | C27: 14
A29: 5 | B29: Finanzvermögen des Landes einschl. Extrahaushalte beim nicht-öffentlichen Bereich
B30: nach Körperschaftsgruppen und Größenklassen - Vorjahresvergleich | C30: 16
A32: 6 | B32: Finanzvermögen des Landes einschl. Extrahaushalte nach Art des Vermögens
B33: - Vorjahresvergleich | C33: 17

Sheet Grafiken1-2
A2: 1 Finanzvermögen im Land Berlin beim nicht-öffentlichen Bereich am 31.12. | M2: in 1 000 Euro
N3: ='1'!#REF! -> #REF! | O3: ='1'!B3 -> 2021 | P3: ='1'!C3 -> 2022 | Q3: 2023 | R3: 2024 | S3: 2025
M4: Bargeld und Einlagen | N4: ='1'!#REF! -> #REF! | O4: ='1'!B7 -> 14692601 | P4: ='1'!C7 -> 13005444 | Q4: ='1'!D7 -> 7388355 | R4: ='1'!E7 -> 8111273 | S4: ='1'!F7 -> 8088728
M5: Wertpapiere vom nicht-öffentlichen Bereich | N5: ='1'!#REF! -> #REF! | O5: ='1'!B12 -> 4327352 | P5: ='1'!C12 -> 6408385 | Q5: ='1'!D12 -> 4218366 | R5: ='1'!E12 -> 3002993 | S5: ='1'!F12 -> 2622005
M6: Ausleihungen an nicht-öffentlichen Bereich | N6: ='1'!#REF! -> #REF! | O6: ='1'!B22 -> 3169849 | P6: ='1'!C22 -> 4578429 | Q6: ='1'!D22 -> 6037343 | R6: ='1'!E22 -> 3749886 | S6: ='1'!F22 -> 4260436
M7: Sonstige Forderungen an den nicht-öffentlichen Bereich | N7: ='1'!#REF! -> #REF! | O7: ='1'!B31 -> 3314304 | P7: ='1'!C31 -> 3605212 | Q7: ='1'!D31 -> 3523099 | R7: ='1'!E31 -> 5082047 | S7: ='1'!F31 -> 5124962
M8: Anteilsrechte an Einheiten außerhalb des Sektors Staat | N8: ='1'!#REF! -> #REF! | O8: ='1'!B34 -> 3484806 | P8: ='1'!C34 -> 3344804 | Q8: ='1'!D34 -> 17590612 | R8: ='1'!E34 -> 19869383 | S8: ='1'!F34 -> 18828330
M15: Wertpapiere vom öffentlichen Bereich | N15: ='1'!#REF! -> #REF! | O15: ='1'!B42 -> 273646 | P15: ='1'!C42 -> 219405 | Q15: ='1'!D42 -> 251137 | R15: ='1'!E42 -> 246421 | S15: ='1'!F42 -> 180389
M16: Ausleihungen an öffentlichen Bereich | N16: ='1'!#REF! -> #REF! | O16: ='1'!B46 -> 5040643 | P16: ='1'!C46 -> 5394470 | Q16: ='1'!D46 -> 5883386 | R16: ='1'!E46 -> 5764261 | S16: ='1'!F46 -> 5315892
M17: Sonstige Forderungen an den öffentlichen Bereich | N17: ='1'!#REF! -> #REF! | O17: ='1'!B50 -> 953110 | P17: ='1'!C50 -> 1149657 | Q17: ='1'!D50 -> 1621082 | R17: ='1'!E50 -> 1383022 | S17: ='1'!F50 -> 1373945
M18: Anteilsrechte an Extrahaushalten | N18: ='1'!#REF! -> #REF! | O18: ='1'!B53 -> 4623329 | P18: ='1'!C53 -> 5079509 | Q18: ='1'!D53 -> 2498211 | R18: ='1'!E53 -> 2488901 | S18: ='1'!F53 -> 3628889
A36: 2 Finanzvermögen im Land Berlin beim öffentlichen Bereich am 31.12.

Sheet 1
A1: 1 Finanzvermögen des Landes nach Körperschaftsgruppen am 31.12.2021 bis 2025
A3: Körperschaftsgruppen | B3: 2021 | C3: 2022 | D3: 2023 | E3: 2024 | F3: 2025
B4: 1 000 EUR
B6: Finanzvermögen beim nicht-öffentlichen Bereich
A7: Bargeld und Einlagen | B7: 14692601 | C7: 13005444 | D7: 7388355 | E7: 8111273 | F7: 8088728
A8: Bargeld | B8: 11165 | C8: 8833 | D8: 8517 | E8: 13378 | F8: 6441
A9: Sichteinlagen | B9: 10115649 | C9: 10642781 | D9: 1444763 | E9: 2066676 | F9: 1671066
A10: Sonstige Einlagen | B10: 4565787 | C10: 2353829 | D10: 5935074 | E10: 6031219 | F10: 6411222
A11: darunter: Zahlungsmittelbestände des Cash-Pools | B11: 7766337 | C11: 9368123 | D11: 5459878 | E11: 5422590 | F11: 6407028
A12: Wertpapiere vom nicht-öffentlichen Bereich | B12: 4327352 | C12: 6408385 | D12: 4218366 | E12: 3002993 | F12: 2622005
A13: Geldmarktpapiere mit einer Ursprungslaufzeit bis einschließlich 1 Jahr | B13: 1021899 | C13: 228197 | D13: 69414 | E13: 45001 | F13: 41583
A14: von Kreditinstituten | B14: 38199 | C14: 43784 | D14: 39761 | E14: 40819 | F14: 37234
A15: vom sonstigen inländischen Bereich | B15: 983700 | C15: 184413 | D15: 29653 | E15: 4182 | F15: 4349
A16: vom sonstigen ausländischen Bereich | B16: – | C16: – | D16: – | E16: – | F16: 0
A17: Kapitalmarktpapiere mit einer Ursprungslaufzeit von mehr als 1 Jahr | B17: 3305453 | C17: 6180189 | D17: 4148951 | E17: 2957992 | F17: 2580422
A18: von Kreditinstituten | B18: 117887 | C18: 1993170 | D18: 1336559 | E18: 469566 | F18: 445606
A19: vom sonstigen inländischen Bereich | B19: 2526959 | C19: 3585738 | D19: 2118901 | E19: 1711417 | F19: 1235677
A20: vom sonstigen ausländischen Bereich | B20: 660607 | C20: 601281 | D20: 693491 | E20: 777008 | F20: 899138
A21: darunter: durch Cash-Pool-Führer (CF) in Wertpapieren vom nicht-öffentlichen Bereich angelegter Zahlungsmittelbestand des Cash-Pools (ohne Finanzderivate) | B21: 3500141 | C21: 5629321 | D21: 3323836 | E21: 2006917 | F21: 1471546
A22: Ausleihungen an nicht-öffentlichen Bereich | B22: 3169849 | C22: 4578429 | D22: 6037343 | E22: 3749886 | F22: 4260436
A23: Ausleihungen mit einer Ursprungslaufzeit bis einschließlich 1 Jahr | B23: 1135896 | C23: 2843529 | D23: 4462750 | E23: 2314003 | F23: 2615974
A24: an Kreditinstitute | B24: 985000 | C24: 2665000 | D24: 4248000 | E24: 2314000 | F24: 2389000
A25: an sonstigen inländischen Bereich | B25: 150896 | C25: 178529 | D25: 214750 | E25: – | F25: 226974
A26: an sonstigen ausländischen Bereich | B26: – | C26: – | D26: – | E26: 3 | F26: 0
A27: Ausleihungen mit einer Ursprungslaufzeit von mehr als 1 Jahr | B27: 2033953 | C27: 1734901 | D27: 1574594 | E27: 1435883 | F27: 1644462
A28: an Kreditinstitute | B28: 1939461 | C28: 1627416 | D28: 1461208 | E28: 1313731 | F28: 1538990
A29: an sonstigen inländischen Bereich | B29: 94492 | C29: 107484 | D29: 113386 | E29: 120512 | F29: 105472
A30: an sonstigen ausländischen Bereich | B30: – | C30: – | D30: – | E30: 1640 | F30: 0
A31: Sonstige Forderungen an den nicht-öffentlichen Bereich | B31: 3314304 | C31: 3605212 | D31: 3523099 | E31: 5082047 | F31: 5124962
A32: Forderungen aus Dienstleistungen | B32: 453375 | C32: 369084 | D32: 128572 | E32: 152241 | F32: 151360
A33: übrige Forderungen | B33: 2860929 | C33: 3236127 | D33: 3394527 | E33: 4929807 | F33: 4973602
A34: Anteilsrechte an Einheiten außerhalb des Sektors Staat | B34: 3484806 | C34: 3344804 | D34: 17590612 | E34: 19869383 | F34: 18828330
A35: Börsennotierte Aktien | B35: 644661 | C35: 617037 | D35: 804035 | E35: 877580 | F35: 1023184
A36: Nichtbörsennotierte Aktien | B36: – | C36: – | D36: 2596509 | E36: 2596509 | F36: 2870869
A37: Sonstige Anteilsrechte | B37: 2153579 | C37: 2133659 | D37: 13583841 | E37: 15785297 | F37: 14316892
A38: Investmentzertifikate | B38: 686566 | C38: 594108 | D38: 606227 | E38: 609997 | F38: 617385
A39: Insgesamt | B39: 28988912 | C39: 30942274 | D39: 38757774 | E39: 39815582 | F39: 38924461
B41: Finanzvermögen beim öffentlichen Bereich
A42: Wertpapiere vom öffentlichen Bereich | B42: 273646 | C42: 219405 | D42: 251137 | E42: 246421 | F42: 180389
A43: Geldmarktpapiere mit einer Ursprungslaufzeit bis einschließlich 1 Jahr | B43: 1896 | C43: 1836 | D43: 3587 | E43: 3682 | F43: 5143
...

Sheet 2
A1: 2 Finanzvermögen des Landes nach Körperschaftsgruppen und Art des Vermögens am 31.12.2025
A3: lfd. Nr. | B3: Art des Vermögens | C3: Insgesamt | D3: Land | E3: Davon | G3: Gemeinden und Gemeinde- verbände | H3: Davon | J3: Sozialver- sicherungen unter Landes- aufsicht | K3: Davon | M3: lfd. Nr.
E4: Kern-haushalte | F4: Extra-haushalte | H4: Kern-haushalte | I4: Extra-haushalte | K4: Kern- haushalte | L4: Extra- haushalte
C8: 1000 EUR | G8: 1000 EUR
C10: Finanzvermögen beim nicht-öffentlichen Bereich | G10: Finanzvermögen beim nicht-öffentlichen Bereich
A11: 1 | B11: Bargeld und Einlagen | C11: 8088728 | D11: 1680521 | E11: 280501 | F11: 1400020 | G11: 16432 | H11: 0 | I11: 16432 | J11: 6391775 | K11: 42804 | L11: 6348970 | M11: 1
A12: 2 | B12: Bargeld | C12: 6441 | D12: 6436 | E12: 3551 | F12: 2884 | G12: 0 | H12: 0 | I12: 0 | J12: 5 | K12: 0 | L12: 5 | M12: 2
A13: 3 | B13: Sichteinlagen | C13: 1671066 | D13: 1386636 | E13: 129050 | F13: 1257585 | G13: 7932 | H13: 0 | I13: 7932 | J13: 276498 | K13: 42804 | L13: 233694 | M13: 3
A14: 4 | B14: Sonstige Einlagen | C14: 6411222 | D14: 287450 | E14: 147900 | F14: 139550 | G14: 8500 | H14: 0 | I14: 8500 | J14: 6115271 | K14: 0 | L14: 6115271 | M14: 4
A15: 5 | B15: darunter: Zahlungsmittelbestände des Cash-Pools | C15: 6407028 | D15: 137098 | E15: 137098 | F15: 0 | G15: 0 | H15: 0 | I15: 0 | J15: 6269929 | K15: 0 | L15: 6269929 | M15: 5
A16: 6 | B16: Wertpapiere vom nicht-öffentlichen Bereich | C16: 2622005 | D16: 1145710 | E16: 140 | F16: 1145570 | G16: 0 | H16: 0 | I16: 0 | J16: 1476294 | K16: 0 | L16: 1476294 | M16: 6
A17: 7 | B17: Geldmarktpapiere mit einer Ursprungslaufzeit bis einschließlich 1 Jahr | C17: 41583 | D17: 41583 | E17: 0 | F17: 41583 | G17: 0 | H17: 0 | I17: 0 | J17: 0 | K17: 0 | L17: 0 | M17: 7
A18: 8 | B18: von Kreditinstituten | C18: 37234 | D18: 37234 | E18: 0 | F18: 37234 | G18: 0 | H18: 0 | I18: 0 | J18: 0 | K18: 0 | L18: 0 | M18: 8
A19: 9 | B19: vom sonstigen inländischen Bereich | C19: 4349 | D19: 4349 | E19: 0 | F19: 4349 | G19: 0 | H19: 0 | I19: 0 | J19: 0 | K19: 0 | L19: 0 | M19: 9
A20: 10 | B20: vom sonstigen ausländischen Bereich | C20: 0 | D20: 0 | E20: 0 | F20: 0 | G20: 0 | H20: 0 | I20: 0 | J20: 0 | K20: 0 | L20: 0 | M20: 10
A21: 11 | B21: Kapitalmarktpapiere mit einer Ursprungslaufzeit von mehr als 1 Jahr | C21: 2580422 | D21: 1104127 | E21: 140 | F21: 1103987 | G21: 0 | H21: 0 | I21: 0 | J21: 1476294 | K21: 0 | L21: 1476294 | M21: 11
A22: 12 | B22: von Kreditinstituten | C22: 445606 | D22: 197358 | E22: 0 | F22: 197358 | G22: 0 | H22: 0 | I22: 0 | J22: 248248 | K22: 0 | L22: 248248 | M22: 12
... A24: 14 | B24: vom sonstigen ausländischen Bereich | C24: 899138 | D24: 899138 | E24: 0 | F24: 899138 | G24: 0 | H24: 0 | I24: 0 | J24: 0 | K24: 0 | L24: 0 | M24: 14
A25: 15 | B25: darunter: durch Cash-Pool-Führer (CF) in Wertpapieren vom nicht-öffentlichen Bereich angelegter Zahlungsmittelbestand des Cash-Pools (ohne Finanzderivate) | C25: 1471546 | D25: 0 | E25: 0 | F25: 0 | G25: 0 | H25: 0 | I25: 0 | J25: 1471546 | K25: 0 | L25: 1471546 | M25: 15
A26: 16 | B26: Ausleihungen an nicht-öffentlichen Bereich | C26: 4260436 | D26: 4260436 | E26: 4252561 | F26: 7875 | G26: 0 | H26: 0 | I26: 0 | J26: 0 | K26: 0 | L26: 0 | M26: 16
A27: 17 | B27: Ausleihungen mit einer Ursprungslaufzeit bis einschließlich 1 Jahr | C27: 2615974 | D27: 2615974 | E27: 2615974 | F27: 0 | G27: 0 | H27: 0 | I27: 0 | J27: 0 | K27: 0 | L27: 0 | M27: 17
A28: 18 | B28: an Kreditinstitute | C28: 2389000 | D28: 2389000 | E28: 2389000 | F28: 0 | G28: 0 | H28: 0 | I28: 0 | J28: 0 | K28: 0 | L28: 0 | M28: 18
A29: 19 | B29: an sonstigen inländischen Bereich | C29: 226974 | D29: 226974 | E29: 226974 | F29: 0 | G29: 0 | H29: 0 | I29: 0 | J29: 0 | K29: 0 | L29: 0 | M29: 19
A30: 20 | B30: an sonstigen ausländischen Bereich | C30: 0 | D30: 0 | E30: 0 | F30: 0 | G30: 0 | H30: 0 | I30: 0 | J30: 0 | K30: 0 | L30: 0 | M30: 20
A31: 21 | B31: Ausleihungen mit einer Ursprungslaufzeit von mehr als 1 Jahr | C31: 1644462 | D31: 1644462 | E31: 1636587 | F31: 7875 | G31: 0 | H31: 0 | I31: 0 | J31: 0 | K31: 0 | L31: 0 | M31: 21
A32: 22 | B32: an Kreditinstitute | C32: 1538990 | D32: 1538990 | E32: 1537990 | F32: 1000 | G32: 0 | H32: 0 | I32: 0 | J32: 0 | K32: 0 | L32: 0 | M32: 22
A33: 23 | B33: an sonstigen inländischen Bereich | C33: 105472 | D33: 105472 | E33: 98597 | F33: 6875 | G33: 0 | H33: 0 | I33: 0 | J33: 0 | K33: 0 | L33: 0 | M33: 23
A34: 24 | B34: an sonstigen ausländischen Bereich | C34: 0 | D34: 0 | E34: 0 | F34: 0 | G34: 0 | H34: 0 | I34: 0 | J34: 0 | K34: 0 | L34: 0 | M34: 24
A35: 25 | B35: Sonstige Forderungen an den nicht-öffentlichen Bereich | C35: 5124962 | D35: 5095861 | E35: 4859189 | F35: 236673 | G35: 1344 | H35: 0 | I35: 1344 | J35: 27756 | K35: 6172 | L35: 21585 | M35: 25
A36: 26 | B36: Forderungen aus Dienstleistungen | C36: 151360 | D36: 146004 | E36: 341 | F36: 145664 | G36: 72 | H36: 0 | I36: 72 | J36: 5284 | K36: 3417 | L36: 1867 | M36: 26
A37: 27 | B37: übrige Forderungen | C37: 4973602 | D37: 4949857 | E37: 4858848 | F37: 91009 | G37: 1272 | H37: 0 | I37: 1272 | J37: 22473 | K37: 2755 | L37: 19718 | M37: 27
... A43: 33 | B43: Insgesamt | C43: 38924461 | D43: 29926995 | E43: 24692096 | F43: 5234900 | G43: 17777 | H43: 0 | I43: 17777 | J43: 8979689 | K43: 48976 | L43: 8930713 | M43: 33
C45: Finanzvermögen beim öffentlichen Bereich | G45: Finanzvermögen beim öffentlichen Bereich
A46: 34 | B46: Wertpapiere vom öffentlichen Bereich | C46: 180389 | D46: 180389 | E46: 384 | F46: 180005 | G46: 0 | H46: 0 | I46: 0 | J46: 0 | K46: 0 | L46: 0 | M46: 34
A47: 35 | B47: Geldmarktpapiere mit einer Ursprungslaufzeit bis einschließlich 1 Jahr | C47: 5143 | D47: 5143 | E47: 0 | F47: 5143 | G47: 0 | H47: 0 | I47: 0 | J47: 0 | K47: 0 | L47: 0 | M47: 35
A48: 36 | B48: Kapitalmarktpapiere mit einer Ursprungslaufzeit von mehr als 1 Jahr | C48: 175246 | D48: 175246 | E48: 384 | F48: 174862 | G48: 0 | H48: 0 | I48: 0 | J48: 0 | K48: 0 | L48: 0 | M48: 36
A49: 37 | B49: darunter: durch Cash-Pool-Führer (CF) in Wertpapieren vom öffentlichen Bereich angelegter Zahlungsmittelbestand des Cash-Pools (ohne Finanzderivate) | C49: 0 | D49: 0 | E49: 0 | F49: 0 | G49: 0 | H49: 0 | I49: 0 | J49: 0 | K49: 0 | L49: 0 | M49: 37
A50: 38 | B50: Ausleihungen an öffentlichen Bereich | C50: 5315892 | D50: 5314704 | E50: 1490390 | F50: 3824314 | G50: 0 | H50: 0 | I50: 0 | J50: 1189 | K50: 289 | L50: 900 | M50: 38
A51: 39 | B51: Ausleihungen mit einer Ursprungslaufzeit bis einschl. 1 Jahr | C51: 4542831 | D51: 4541931 | E51: 720000 | F51: 3821931 | G51: 0 | H51: 0 | I51: 0 | J51: 900 | K51: 0 | L51: 900 | M51: 39
A52: 40 | B52: Ausleihungen mit einer Ursprungslaufzeit von mehr als 1 Jahr | C52: 773061 | D52: 772772 | E52: 770390 | F52: 2382 | G52: 0 | H52: 0 | I52: 0 | J52: 289 | K52: 289 | L52: 0 | M52: 40
...

Sheet 3
B1: 3 Finanzvermögen des Landes einschl. Extrahaushalte nach Arten, Körperschaftsgruppen und Größenklassen beim nicht-öffentlichen Bereich am 31.12.2025
B3: lfd. Nr. | C3: Körperschaftsgruppen und Einwohnergrößenklassen | D3: Insgesamt | E3: Bargeld und Einlagen | F3: Wertpapiere vom nicht-öffentlichen Bereich | G3: Ausleihungen an nicht-öffentlichen Bereich | J3: Sonstige Forderungen an den nicht- öffentlichen Bereich | K3: Anteilsrechte an Einheiten außerhalb des Sektor Staat | L3: lfd. Nr.
G4: zusammen | H4: Ursprungslaufzeit
H5: bis einschl. 1 Jahr | I5: mehr als 1 Jahr
D6: 1 000 EUR | F6: 1 000 EUR
B8: 1 | C8: Land zusammen | D8: 29926995 | E8: 1680521 | F8: 1145710 | G8: 4260436 | H8: 2615974 | I8: 1644462 | J8: 5095861 | K8: 17744466 | L8: 1
B9: 2 | C9: Kernhaushalt des Landes | D9: 24692096 | E9: 280501 | F9: 140 | G9: 4252561 | H9: 2615974 | I9: 1636587 | J9: 4859189 | K9: 15299704 | L9: 2
B10: 3 | C10: Extrahaushalte des Landes | D10: 5234900 | E10: 1400020 | F10: 1145570 | G10: 7875 | H10: 0 | I10: 7875 | J10: 236673 | K10: 2444762 | L10: 3
B11: 4 | C11: Gemeinden/Gv. zusammen ¹ | D11: 17777 | E11: 16432 | F11: 0 | G11: 0 | H11: 0 | I11: 0 | J11: 1344 | K11: 0 | L11: 4
B12: 5 | C12: Extrahaushalte der Gemeinden/Gv. ¹ | D12: 17777 | E12: 16432 | F12: 0 | G12: 0 | H12: 0 | I12: 0 | J12: 1344 | K12: 0 | L12: 5
B13: 6 | C13: Sozialversicherungen unter Landesaufsicht | D13: 8979689 | E13: 6391775 | F13: 1476294 | G13: 0 | H13: 0 | I13: 0 | J13: 27756 | K13: 1083864 | L13: 6
B14: 7 | C14: Kernhaushalte der Sozialversicherungen | D14: 48976 | E14: 42804 | F14: 0 | G14: 0 | H14: 0 | I14: 0 | J14: 6172 | K14: 0 | L14: 7
B15: 8 | C15: Extrahaushalte der Sozialversicherungen | D15: 8930713 | E15: 6348970 | F15: 1476294 | G15: 0 | H15: 0 | I15: 0 | J15: 21585 | K15: 1083864 | L15: 8
B16: 9 | C16: Insgesamt | D16: 38924461 | E16: 8088728 | F16: 2622005 | G16: 4260436 | H16: 2615974 | I16: 1644462 | J16: 5124962 | K16: 18828330 | L16: 9
B17: 10 | C17: Kernhaushalte | D17: 24741071 | E17: 323306 | F17: 140 | G17: 4252561 | H17: 2615974 | I17: 1636587 | J17: 4865360 | K17: 15299704 | L17: 10
B18: 11 | C18: Extrahaushalte | D18: 14183390 | E18: 7765423 | F18: 2621865 | G18: 7875 | H18: 0 | I18: 7875 | J18: 259602 | K18: 3528626 | L18: 11
C19: _____
C20: 1 länderübergreifende Einheiten, die ihren Sitz in Berlin haben
B22: 3 Anteile der Vermögensarten beim nicht öffentlichen Bereich am Finanzvermögen im Land Berlin am 31.12.2025 | F22: 4 Anteile der Körperschaftsgruppen am Finanzvermögen beim nicht-öffentlichen Bereich des Landes Berlin am 31.12.2025

Sheet 4
B1: 4 Finanzvermögen des Landes einschl. Extrahaushalte nach Arten, Körperschaftsgruppen und Größenklassen beim öffentlichen Bereich am 31.12.2025
B3: lfd. Nr. | C3: Körperschaftsgruppen und Einwohnergrößenklassen | D3: Insgesamt | E3: Wertpapiere vom öffentlichen Bereich | F3: Ausleihungen | G3: an öffentlichen Bereich | I3: Sonstige Forderungen an den öffentlichen Bereich | J3: Anteilsrechte an Extra- haushalten | K3: lfd. Nr.
F4: zusammen | G4: Ursprungslaufzeit
G5: bis einschl. 1 Jahr | H5: mehr als 1 Jahr
D6: 1 000 EUR
B8: 1 | C8: Land zusammen | D8: 9792626 | E8: 246421 | F8: 5763967 | G8: 4887119 | H8: 876849 | I8: 1345253 | J8: 2436985 | K8: 1
B9: 2 | C9: Kernhaushalt des Landes | D9: 4399082 | E9: 384 | F9: 1749344 | G9: 950000 | H9: 799344 | I9: 216237 | J9: 2433116 | K9: 2
B10: 3 | C10: Extrahaushalte des Landes | D10: 5393544 | E10: 246036 | F10: 4014624 | G10: 3937119 | H10: 77505 | I10: 1129016 | J10: 3869 | K10: 3
B11: 4 | C11: Gemeinden / Gv. zusammen ¹ | D11: 33330 | E11: – | F11: – | G11: – | H11: – | I11: 33326 | J11: 4 | K11: 4
B12: 5 | C12: Extrahaushalte der Gemeinden / Gv. ¹ | D12: 33330 | E12: – | F12: – | G12: – | H12: – | I12: 33326 | J12: 4 | K12: 5
B13: 6 | C13: Sozialversicherungen unter Landesaufsicht | D13: 56648 | E13: – | F13: 293 | G13: – | H13: 293 | I13: 4443 | J13: 51912 | K13: 6
B14: 7 | C14: Kernhaushalte der Sozialversicherungen | D14: 2389 | E14: – | F14: 293 | G14: – | H14: 293 | I14: 2096 | J14: – | K14: 7
B15: 8 | C15: Extrahaushalte der Sozialversicherungen | D15: 54259 | E15: – | F15: – | G15: – | H15: – | I15: 2347 | J15: 51912 | K15: 8
B16: 9 | C16: Insgesamt | D16: 9882605 | E16: 246421 | F16: 5764261 | G16: 4887119 | H16: 877142 | I16: 1383022 | J16: 2488901 | K16: 9
B17: 10 | C17: Kernhaushalte | D17: 4401471 | E17: 384 | F17: 1749637 | G17: 950000 | H17: 799637 | I17: 218333 | J17: 2433116 | K17: 10
B18: 11 | C18: Extrahaushalte | D18: 5481134 | E18: 246036 | F18: 4014624 | G18: 3937119 | H18: 77505 | I18: 1164689 | J18: 55785 | K18: 11
C19: _____
C20: 1 länderübergreifende Einheiten, die ihren Sitz in Berlin haben

Sheet 5
A1: 5 Finanzvermögen des Landes einschl. Extrahaushalte beim nicht-öffentlichen Bereich nach Körperschaftsgruppen und Größenklassen - Vorjahresvergleich
A3: Körperschaftsgruppen und Größenklassen | B3: Stand 31.12. 2025 | C3: Stand 31.12. 2024 | D3: Veränderung gegenüber Vorjahr
B4: 1 000 EUR | E4: %
A6: Land zusammen | B6: 29926995 | C6: 31185757 | D6: =B6-C6 -> -1258762 | E6: -4
A7: Kernhaushalt des Landes | B7: 24692096 | C7: 22943552 | D7: =B7-C7 -> 1748544 | E7: 7.6
A8: Extrahaushalte des Landes | B8: 5234900 | C8: 8242205 | D8: =B8-C8 -> -3007305 | E8: -36.5
A9: Gemeinden/Gv. zusammen ¹ | B9: 17777 | C9: 20404 | D9: =B9-C9 -> -2627 | E9: -12.9
A10: Extrahaushalte der Gemeinden/Gv. ¹ | B10: 17777 | C10: 20404 | D10: =B10-C10 -> -2627 | E10: -12.9
A11: Sozialversicherungen unter Landesaufsicht | B11: 8979689 | C11: 8609421 | D11: =B11-C11 -> 370268 | E11: 4.3
A12: Kernhaushalte der Sozialversicherungen | B12: 48976 | C12: 39277 | D12: =B12-C12 -> 9699 | E12: 24.7
A13: Extrahaushalte der Sozialversicherungen | B13: 8930713 | C13: 8570144 | D13: =B13-C13 -> 360569 | E13: 4.2
A15: Insgesamt | B15: 38924461 | C15: 39815582 | D15: =B15-C15 -> -891121 | E15: -2.2
A16: Kernhaushalte | B16: 24741071 | C16: 22982829 | D16: =B16-C16 -> 1758242 | E16: 7.7
A17: Extrahaushalte | B17: 14183390 | C17: 16832753 | D17: =B17-C17 -> -2649363 | E17: -15.7
A18: _____
A19: 1 länderübergreifende Einheiten, die ihren Sitz in Berlin haben

Sheet 6
A1: 6 Finanzvermögen des Landes einschl. Extrahaushalte nach Art des Vermögens - Vorjahresvergleich
A3: Art des Vermögens | B3: Stand 31.12. 2025 | C3: Stand 31.12. 2024 | D3: Veränderung gegenüber Vorjahr
B4: 1 000 EUR | E4: %
B6: Finanzvermögen beim nicht-öffentlichen Bereich
A7: Bargeld und Einlagen | B7: 8088728 | C7: 8111273 | D7: =B7-C7 -> -22545 | E7: -0.3
A8: Bargeld | B8: 6441 | C8: 13378 | D8: =B8-C8 -> -6937 | E8: -51.9
A9: Sichteinlagen | B9: 1671066 | C9: 2066676 | D9: =B9-C9 -> -395610 | E9: -19.1
A10: Sonstige Einlagen | B10: 6411222 | C10: 6031219 | D10: =B10-C10 -> 380003 | E10: 6.3
A11: darunter: Zahlungsmittelbestände des Cash-Pools | B11: 6407028 | C11: 5422590 | D11: =B11-C11 -> 984438 | E11: 18.2
A12: Wertpapiere vom nicht-öffentlichen Bereich | B12: 2622005 | C12: 3002993 | D12: =B12-C12 -> -380988 | E12: -12.7
A13: Geldmarktpapiere mit einer Ursprungslaufzeit bis einschließlich 1 Jahr | B13: 41583 | C13: 45001 | D13: =B13-C13 -> -3418 | E13: -7.6
A14: von Kreditinstituten | B14: 37234 | C14: 40819 | D14: =B14-C14 -> -3585 | E14: -8.8
A15: vom sonstigen inländischen Bereich | B15: 4349 | C15: 4182 | D15: =B15-C15 -> 167 | E15: 4
A16: vom sonstigen ausländischen Bereich | B16: 0 | C16: 0 | D16: =B16-C16 -> 0 | E16: 0
A17: Kapitalmarktpapiere mit einer Ursprungslaufzeit von mehr als 1 Jahr | B17: 2580422 | C17: 2957992 | D17: =B17-C17 -> -377570 | E17: -12.8
A18: von Kreditinstituten | B18: 445606 | C18: 469566 | D18: =B18-C18 -> -23960 | E18: -5.1
... A39: Insgesamt | B39: 38924461 | C39: 39815582 | D39: =B39-C39 -> -891121 | E39: -2.2
B41: Finanzvermögen beim öffentlichen Bereich
A42: Wertpapiere vom öffentlichen Bereich | B42: 180389 | C42: 246421 | D42: =B42-C42 -> -66032 | E42: -26.8
A43: Geldmarktpapiere mit einer Ursprungslaufzeit bis einschließlich 1 Jahr | B43: 5143 | C43: 3682 | D43: =B43-C43 -> 1461 | E43: 39.7
A44: Kapitalmarktpapiere mit einer Ursprungslaufzeit von mehr als 1 Jahr | B44: 175246 | C44: 242739 | D44: =B44-C44 -> -67493 | E44: -27.8
A45: darunter: durch Cash-Pool-Führer (CF) in Wertpapieren vom öffentlichen Bereich angelegter Zahlungsmittelbestand des Cash-Pools (ohne Finanzderivate) | B45: 0 | C45: 0 | D45: =B45-C45 -> 0 | E45: 0
A46: Ausleihungen an öffentlichen Bereich | B46: 5315892 | C46: 5764261 | D46: =B46-C46 -> -448369 | E46: -7.8
A47: Ausleihungen mit einer Ursprungslaufzeit bis einschl. 1 Jahr | B47: 4542831 | C47: 4887119 | D47: =B47-C47 -> -344288 | E47: -7
A48: Ausleihungen mit einer Ursprungslaufzeit von mehr als 1 Jahr | B48: 773061 | C48: 877142 | D48: =B48-C48 -> -104081 | E48: -11.9
A49: darunter: im Rahmen von Cashpooling/Einheitskasse/Amtskasse von Cash-Pool-Einheiten bei eigenem Liquiditätaüberschuss zugeführte Mittel | B49: 3723184 | C49: 3822528 | D49: =B49-C49 -> -99344 | E49: -2.6
A50: Sonstige Forderungen an den öffentlichen Bereich | B50: 1373945 | C50: 1383022 | D50: =B50-C50 -> -9077 | E50: -0.7
A51: Forderungen aus Dienstleistungen | B51: 1101152 | C51: 977734 | D51: =B51-C51 -> 123418 | E51: 12.6
A52: übrige Forderungen | B52: 272793 | C52: 405288 | D52: =B52-C52 -> -132495 | E52: -32.7
A53: Anteilsrechte an Extrahaushalten | B53: 3628889 | C53: 2488901 | D53: =B53-C53 -> 1139988 | E53: 45.8
... A56: Insgesamt | B56: 10499116 | C56: 9882605 | D56: =B56-C56 -> 616511 | E56: 6.2
B58: Weitere Forderungen aus Cash-Pooling
A59: Forderungen des Cash-Pool-Führers gegenüber entnehmenden Einheiten | B59: 1652726 | C59: 1660878 | D59: =B59-C59 -> -8152 | E59: =IFERROR(B59/C59*100-100,0) -> -0.5
B61: Finanzderivate (Saldo)
A62: Finanzderivate | B62: – | C62: – | D62: – | E62: X
A63: _____
A64: 1 Unkonsolidiert, kann Doppelzählungen enthalten

Sheet U4
