Workbook
Name Database: #REF!
Name Database: #REF!
Name Database: #REF!
Name Database: #REF!
Name Database: #REF!
Name Datenbank2: #REF!
Name Druckbereich1: #REF!
Name Druckbereich1: #REF!
Name Druckbereich1: #REF!
Name Druckbereich1.1: #REF!
Name Druckbereich1.1: #REF!
Name Druckbereich11: #REF!
Name Druckbereich11: #REF!
Name Druckbereich4: #REF!
Name Druckbereich4: #REF!
Name Print_Area: '6'!$A$1:$E$41
Name Print_Area: 'Grafiken 3-4'!$A$1:$H$59
Name Print_Area: 'Grafiken1-2'!$A$1:$H$62
Name Print_Titles: '1'!$1:$5
Name Print_Titles: '2'!$1:$9
Name Print_Titles: '3'!$1:$7
Name Print_Titles: '7'!$1:$5

Sheet Titel
B2: Statistischer
B3: Bericht
C5: L III 6 - j / 25
C7: Finanzvermögen der Kern- und Extrahaushalte des öffentlichen Gesamthaushalts im Land Brandenburg am 31.12.2025

Sheet Impressum
A21: Impressum
B23: Statistischer Bericht
B24: L III 6 - j / 25
B26: Erscheinungsfolge: jährlich
B27: Erschienen im September 2026
A34: Herausgeber | D34: Zeichenerklärung
B36: Amt für Statistik Berlin-Brandenburg | D36: 0 | E36: weniger als die Hälfte von 1
B37: Steinstraße 104–106 | E37: in der letzten besetzten Stelle,
B38: 14480 Potsdam | E38: jedoch mehr als nichts
B39: info@statistik-bbb.de | D39: – | E39: nichts vorhanden
B40: www.statistik-berlin-brandenburg.de | D40: … | E40: Angabe fällt später an
D41: ( ) | E41: Aussagewert ist eingeschränkt
B42: Tel. 0331 8173-1777 | D42: / | E42: Zahlenwert nicht sicher genug
B43: Fax 0331 817330-4091 | D43: • | E43: Zahlenwert unbekannt oder
E44: geheim zu halten
D45: x | E45: Tabellenfach gesperrt
D46: p | E46: vorläufige Zahl
D47: r | E47: berichtigte Zahl
D48: s | E48: geschätzte Zahl
B51: Amt für Statistik Berlin-Brandenburg,
B52: Potsdam, 2026
B55: Dieses Werk ist unter einer Creative Commons Lizenz vom Typ Namensnennung 3.0 Deutschland zugänglich. Um eine Kopie dieser Lizenz einzusehen, konsultieren Sie
B57: http://creativecommons.org/licenses/by/3.0/de/

Sheet Inhaltsverzeichnis
A1: Inhaltsverzeichnis
C2: Seite
B4: Metadaten zu dieser Statistik (externer Link)
B6: Grafiken
A7: 1 | B7: Finanzvermögen im Land Brandenburg beim nicht-öffentlichen Bereich am 31.12. | C7: 4
A9: 2 | B9: Finanzvermögen im Land Brandenburg beim öffentlichen Bereich sowie Anteilsrechte am 31.12. | C9: 4
A11: 3 | B11: Finanzvermögen des Kernhaushalts der Gemeinden/Gv. beim nicht-öffentlichen Bereich am 31.12.2025 | C11: 5
A13: 4 | B13: Finanzvermögen des Kernhaushalts der Gemeinden / Gv. beim öffentlichen Bereich
B14: sowie Anteilsrechte am 31.12.2025 | C14: 5
B17: Tabellen
A18: 1 | B18: Finanzvermögen des Landes und der Gemeinden/Gemeindverbände
B19: nach Körperschaftsgruppen am 31.12.2021 bis 2025 | C19: 6
A21: 2 | B21: Finanzvermögen des Landes und der Gemeinden/Gemeindeverbände nach Körperschaftsgruppen
B22: und Art des Vermögens am 31.12.2025 | C22: 8
A24: 3 | B24: Finanzvermögen der Kernhaushalte der Gemeinden/Gemeindeverbände nach Körperschafts-
B25: und Art des Vermögens am 31.12.2025 | C25: 12
A27: 4 | B27: Finanzvermögen des Landes und der Gemeinden/Gemeindeverbände einschl. Extrahaushalte
B28: nach Arten, Körperschaftsgruppen und Größenklassen beim nicht-öffentlichen Bereich
B29: am 31.12.2025 | C29: 14
A31: 5 | B31: Finanzvermögen des Landes und der Gemeinden/Gemeindeverbände einschl. Extrahaushalte
B32: nach Arten, Körperschaftsgruppen und Größenklassen beim öffentlichen Bereich am 31.12.2025 | C32: 16
A34: 6 | B34: Finanzvermögen des Landes und der Gemeinden/Gemeindeverbände einschl. Extrahaushalte
B35: beim nicht-öffentlichen Bereich nach Körperschaftsgruppen und Größenklassen
B36: - Vorjahresvergleich | C36: 19
A38: 7 | B38: Finanzvermögen des Landes und der Gemeinden/Gemeindeverbände einschl. Extrahaushalte
B39: nach Art des Vermögens - Vorjahresvergleich | C39: 20

Sheet Grafiken1-2
A1: 1 Finanzvermögen im Land Brandenburg beim nicht-öffentlichen Bereich am 31.12. | M1: in 1 000 Euro
N2: ='1'!B3 -> 2019 | O2: ='1'!D3 -> 2021 | P2: ='1'!E3 -> 2022 | Q2: 2023 | R2: 2024 | S2: 2025
M3: ='1'!A7 -> Bargeld und Einlagen | N3: ='1'!B7 -> 6051549 | O3: ='1'!D7 -> 7297800 | P3: ='1'!E7 -> 6142942 | Q3: 7057836 | R3: 6673681 | S3: 5799467
M4: ='1'!A12 -> Wertpapiere vom nicht-öffentlichen Bereich | N4: ='1'!B12 -> 1562462 | O4: ='1'!D12 -> 1485141 | P4: ='1'!E12 -> 1471179 | Q4: 1512538 | R4: 1488505 | S4: 1554276
M5: ='1'!A22 -> Ausleihungen an nicht-öffentlichen Bereich | N5: ='1'!B22 -> 2340304 | O5: ='1'!D22 -> 2183576 | P5: ='1'!E22 -> 2103289 | Q5: 2083486 | R5: 2137991 | S5: 2155417
M6: ='1'!A31 -> Sonstige Forderungen an den nicht-öffentlichen Bereich | N6: ='1'!B31 -> 699869 | O6: ='1'!D31 -> 983940 | P6: ='1'!E31 -> 1083940 | Q6: 1282046 | R6: 1289031 | S6: 1433693
M7: ='1'!A34 -> Anteilsrechte an Einheiten außerhalb des Sektors Staat | N7: ='1'!B34 -> 4804383 | O7: ='1'!D34 -> 4480038 | P7: ='1'!E34 -> 4418026 | Q7: 4664699 | R7: 5380920 | S7: 6372349
M14: ='1'!A42 -> Wertpapiere vom öffentlichen Bereich | N14: ='1'!B42 -> 286082 | O14: ='1'!D42 -> 243790 | P14: ='1'!E42 -> 250114 | Q14: 257680 | R14: 261857 | S14: 269246
M15: ='1'!A46 -> Ausleihungen an öffentlichen Bereich | N15: ='1'!B46 -> 1238938 | O15: ='1'!D46 -> 1488135 | P15: ='1'!E46 -> 1914688 | Q15: 1965065 | R15: 1800721 | S15: 1986718
M16: ='1'!A50 -> Sonstige Forderungen an den öffentlichen Bereich | N16: ='1'!B50 -> 726741 | O16: ='1'!D50 -> 756921 | P16: ='1'!E50 -> 737932 | Q16: 816209 | R16: 896242 | S16: 1064001
M17: ='1'!A53 -> Anteilsrechte an Extrahaushalten | N17: ='1'!B53 -> 422577 | O17: ='1'!D53 -> 479293 | P17: ='1'!E53 -> 496747 | Q17: 562067 | R17: 700805 | S17: 855903
A35: 2 Finanzvermögen im Land Brandenburg beim öffentlichen Bereich am 31.12.

Sheet Grafiken 3-4
A1: 3 Finanzvermögen des Kernhaushalts der Gemeinden / Gemeindeverbände beim nicht-öffentlichen Bereich am 31.12.2025 | N1: Finanzvermögen beim nicht-öffentlichen Bereich
N2: ='3'!C5 -> kreisfreie Städte | O2: ='3'!D5 -> Landkreise (Haushalte) | P2: ='3'!E5 -> kreis- angehörige Gemeinden | Q2: ='3'!F5 -> Amts- und Verbands- haushalte
M3: Bargeld und Einlagen | N3: 254191 | O3: 418739 | P3: 2434842 | Q3: 285060
M4: Wertpapiere vom nicht-öffentlichen Bereich | N4: 123 | O4: 0 | P4: 6497 | Q4: 0
M5: Ausleihungen an nicht-öffentlichen Bereich | N5: 0 | O5: 8 | P5: 119080 | Q5: 2000
M6: Forderungen gegenüber dem nicht-öffentlichen Bereich | N6: 59295 | O6: 148344 | P6: 258513 | Q6: 4116
M7: Anteilsrechte an Einheiten außerhalb des Sektors Staat | N7: 1229094 | O7: 577208 | P7: 3245106 | Q7: 57
N9: Finanzvermögen beim öffentlichen Bereich
M10: Wertpapiere vom öffentlichen Bereich | N10: 0 | O10: 2040 | P10: 2040 | Q10: 0
M11: Ausleihungen an öffentlichen Bereich | N11: 44444 | O11: 50683 | P11: 239033 | Q11: 51047
M12: Forderungen gegenüber dem öffentlichen Bereich | N12: 44055 | O12: 280045 | P12: 270723 | Q12: 11567
M13: Anteilsrechte an Extrahaushalten | N13: 247169 | O13: 82554 | P13: 499775 | Q13: 3478
A33: 4 Finanzvermögen des Kernhaushalts der Gemeinden / Gemeindeverbände beim öffentlichen Bereich am 31.12.2025

Sheet 1
A1: 1 Finanzvermögen des Landes und der Gemeinden/Gemeindverbände nach Körperschaftsgruppen am 31.12.2021 bis 2025
A3: Körperschaftsgruppen | B3: 2019 | C3: 2020 | D3: 2021 | E3: 2022 | F3: 2023 | G3: 2024 | H3: 2025
B4: 1 000 EUR
B6: Finanzvermögen beim nicht-öffentlichen Bereich
A7: Bargeld und Einlagen | B7: 6051549 | C7: 7010386 | D7: 7297800 | E7: 6142942 | F7: 7057836 | G7: 6673681 | H7: 5799467
A8: Bargeld | B8: 10497 | C8: 5370 | D8: 9689 | E8: 2684 | F8: 2878 | G8: 2615 | H8: 2386
A9: Sichteinlagen | B9: 2641270 | C9: 3236342 | D9: 3890848 | E9: 3107380 | F9: 3263079 | G9: 3151482 | H9: 3142926
A10: Sonstige Einlagen | B10: 3399782 | C10: 3768674 | D10: 3397262 | E10: 3032878 | F10: 3791879 | G10: 3519584 | H10: 2654155
A11: darunter: Zahlungsmittelbestände des Cash-Pools | B11: – | C11: 169398 | D11: 201566 | E11: 178590 | F11: 240031 | G11: 239553 | H11: 279355
A12: Wertpapiere vom nicht-öffentlichen Bereich | B12: 1562462 | C12: 1426485 | D12: 1485141 | E12: 1471179 | F12: 1512538 | G12: 1488505 | H12: 1554276
A13: Geldmarktpapiere mit einer Ursprungslaufzeit bis einschließlich 1 Jahr | B13: 1565 | C13: 9208 | D13: 9938 | E13: 9260 | F13: 10183 | G13: 2650 | H13: 3724
A14: von Kreditinstituten | B14: 1315 | C14: 8958 | D14: 9688 | E14: 9009 | F14: 9933 | G14: 2400 | H14: 1957
A15: vom sonstigen inländischen Bereich | B15: 250 | C15: 250 | D15: 250 | E15: 250 | F15: 250 | G15: 250 | H15: 1767
A16: vom sonstigen ausländischen Bereich | B16: – | C16: – | D16: – | E16: – | F16: – | G16: – | H16: 0
A17: Kapitalmarktpapiere mit einer Ursprungslaufzeit von mehr als 1 Jahr | B17: 1560897 | C17: 1417277 | D17: 1475203 | E17: 1461919 | F17: 1502355 | G17: 1485855 | H17: 1550552
A18: von Kreditinstituten | B18: 1077264 | C18: 969882 | D18: 887252 | E18: 865378 | F18: 846996 | G18: 782689 | H18: 770202
A19: vom sonstigen inländischen Bereich | B19: 35169 | C19: 30534 | D19: 55560 | E19: 63882 | F19: 74326 | G19: 78544 | H19: 90013
A20: vom sonstigen ausländischen Bereich | B20: 448464 | C20: 416861 | D20: 532390 | E20: 532659 | F20: 581033 | G20: 624622 | H20: 690337
A21: darunter: durch Cash-Pool-Führer (CF) in Wertpapieren vom nicht-öffentlichen Bereich angelegter Zahlungsmittelbestand des Cash-Pools (ohne Finanzderivate) | B21: – | C21: – | D21: – | E21: – | F21: – | G21: – | H21: 0
A22: Ausleihungen an nicht-öffentlichen Bereich | B22: 2340304 | C22: 2214495 | D22: 2183576 | E22: 2103289 | F22: 2083486 | G22: 2137991 | H22: 2155417
A23: Ausleihungen mit einer Ursprungslaufzeit bis einschließlich 1 Jahr | B23: 13035 | C23: 6286 | D23: 5473 | E23: 5958 | F23: 39668 | G23: 8023 | H23: 3816
A24: an Kreditinstitute | B24: – | C24: – | D24: – | E24: – | F24: 6000 | G24: – | H24: 0
A25: an sonstigen inländischen Bereich | B25: 13035 | C25: 6286 | D25: 5473 | E25: 5958 | F25: 6593 | G25: 8023 | H25: 3816
A26: an sonstigen ausländischen Bereich | B26: – | C26: – | D26: – | E26: – | F26: 27075 | G26: – | H26: 0
A27: Ausleihungen mit einer Ursprungslaufzeit von mehr als 1 Jahr | B27: 2327269 | C27: 2208209 | D27: 2178103 | E27: 2097331 | F27: 2043818 | G27: 2129969 | H27: 2151601
A28: an Kreditinstitute | B28: 378854 | C28: 375325 | D28: 410934 | E28: 380400 | F28: 335258 | G28: 327903 | H28: 301886
A29: an sonstigen inländischen Bereich | B29: 1935415 | C29: 1819883 | D29: 1750169 | E29: 1689931 | F29: 1676560 | G29: 1770066 | H29: 1817715
A30: an sonstigen ausländischen Bereich | B30: 13000 | C30: 13000 | D30: 17000 | E30: 27000 | F30: 32000 | G30: 32000 | H30: 32000
A31: Sonstige Forderungen an den nicht-öffentlichen Bereich | B31: 699869 | C31: 967198 | D31: 983940 | E31: 1083940 | F31: 1282046 | G31: 1289031 | H31: 1433693
A32: Forderungen aus Dienstleistungen | B32: 311135 | C32: 322524 | D32: 443139 | E32: 507105 | F32: 528119 | G32: 503304 | H32: 532368
A33: übrige Forderungen | B33: 388734 | C33: 644674 | D33: 540801 | E33: 576835 | F33: 753928 | G33: 785727 | H33: 901325
A34: Anteilsrechte an Einheiten außerhalb des Sektors Staat | B34: 4804383 | C34: 4849475 | D34: 4480038 | E34: 4418026 | F34: 4664699 | G34: 5380920 | H34: 6372349
A35: Börsennotierte Aktien | B35: 173278 | C35: 191862 | D35: 216656 | E35: 215411 | F35: 254657 | G35: 286564 | H35: 308956
A36: Nichtbörsennotierte Aktien | B36: 43640 | C36: 46572 | D36: 41030 | E36: 42028 | F36: 47058 | G36: 52482 | H36: 87978
A37: Sonstige Anteilsrechte | B37: 4536872 | C37: 4554641 | D37: 4141393 | E37: 4017714 | F37: 4187123 | G37: 4812131 | H37: 5706717
A38: Investmentzertifikate | B38: 50378 | C38: 56211 | D38: 80958 | E38: 142873 | F38: 175861 | G38: 229743 | H38: 268699
A39: Insgesamt | B39: 15450582 | C39: 16460013 | D39: 16430494 | E39: 15219376 | F39: 16600606 | G39: 16970128 | H39: 17315202
B41: Finanzvermögen beim öffentlichen Bereich
A42: Wertpapiere vom öffentlichen Bereich | B42: 286082 | C42: 267536 | D42: 243790 | E42: 250114 | F42: 257680 | G42: 261857 | H42: 269246
A43: Geldmarktpapiere mit einer Ursprungslaufzeit bis einschließlich 1 Jahr | B43: 25 | C43: 25 | D43: 25 | E43: 25 | F43: 7067 | G43: 7065 | H43: 2065
...

Sheet 2
A1: 2 Finanzvermögen des Landes und der Gemeinden/Gemeindeverbände nach Körperschaftsgruppen und Art des Vermögens am 31.12.2025
A3: lfd. Nr. | B3: Art des Vermögens | C3: Insgesamt | D3: Land | E3: Davon | G3: Gemeinden und Gemeinde- verbände | H3: Davon | J3: Sozialver- sicherungen unter Landes- aufsicht | K3: Davon | M3: lfd. Nr.
E4: Kern-haushalte | F4: Extra-haushalte | H4: Kern-haushalte | I4: Extra-haushalte | K4: Kern- haushalte | L4: Extra- haushalte
C8: 1000 EUR | G8: 1000 EUR
C10: Finanzvermögen beim nicht-öffentlichen Bereich | G10: Finanzvermögen beim nicht-öffentlichen Bereich
A11: 1 | B11: Bargeld und Einlagen | C11: 5799467 | D11: 979231 | E11: 572436 | F11: 406795 | G11: 3629991 | H11: 3392832 | I11: 237159 | J11: 1190245 | K11: 1177477 | L11: 12768 | M11: 1
A12: 2 | B12: Bargeld | C12: 2386 | D12: 243 | E12: 97 | F12: 145 | G12: 2139 | H12: 1271 | I12: 868 | J12: 4 | K12: 3 | L12: 1 | M12: 2
A13: 3 | B13: Sichteinlagen | C13: 3142926 | D13: 516983 | E13: 112939 | F13: 404044 | G13: 2178035 | H13: 1959151 | I13: 218884 | J13: 447909 | K13: 439580 | L13: 8329 | M13: 3
A14: 4 | B14: Sonstige Einlagen | C14: 2654155 | D14: 462006 | E14: 459400 | F14: 2606 | G14: 1449817 | H14: 1432410 | I14: 17407 | J14: 742332 | K14: 737894 | L14: 4438 | M14: 4
A15: 5 | B15: darunter: Zahlungsmittelbestände des Cash-Pools | C15: 279355 | D15: 0 | E15: 0 | F15: 0 | G15: 279355 | H15: 279355 | I15: 0 | J15: 0 | K15: 0 | L15: 0 | M15: 5
A16: 6 | B16: Wertpapiere vom nicht-öffentlichen Bereich | C16: 1554276 | D16: 668554 | E16: 0 | F16: 668554 | G16: 351664 | H16: 6620 | I16: 345044 | J16: 534058 | K16: 534058 | L16: 0 | M16: 6
A17: 7 | B17: Geldmarktpapiere mit einer Ursprungslaufzeit bis einschließlich 1 Jahr | C17: 3724 | D17: 0 | E17: 0 | F17: 0 | G17: 3724 | H17: 3403 | I17: 320 | J17: 0 | K17: 0 | L17: 0 | M17: 7
A18: 8 | B18: von Kreditinstituten | C18: 1957 | D18: 0 | E18: 0 | F18: 0 | G18: 1957 | H18: 1636 | I18: 320 | J18: 0 | K18: 0 | L18: 0 | M18: 8
A19: 9 | B19: vom sonstigen inländischen Bereich | C19: 1767 | D19: 0 | E19: 0 | F19: 0 | G19: 1767 | H19: 1767 | I19: 0 | J19: 0 | K19: 0 | L19: 0 | M19: 9
A20: 10 | B20: vom sonstigen ausländischen Bereich | C20: 0 | D20: 0 | E20: 0 | F20: 0 | G20: 0 | H20: 0 | I20: 0 | J20: 0 | K20: 0 | L20: 0 | M20: 10
A21: 11 | B21: Kapitalmarktpapiere mit einer Ursprungslaufzeit von mehr als 1 Jahr | C21: 1550552 | D21: 668554 | E21: 0 | F21: 668554 | G21: 347940 | H21: 3217 | I21: 344724 | J21: 534058 | K21: 534058 | L21: 0 | M21: 11
A22: 12 | B22: von Kreditinstituten | C22: 770202 | D22: 377643 | E22: 0 | F22: 377643 | G22: 200491 | H22: 3094 | I22: 197397 | J22: 192068 | K22: 192068 | L22: 0 | M22: 12
... A24: 14 | B24: vom sonstigen ausländischen Bereich | C24: 690337 | D24: 268993 | E24: 0 | F24: 268993 | G24: 131450 | H24: 0 | I24: 131450 | J24: 289895 | K24: 289895 | L24: 0 | M24: 14
A25: 15 | B25: darunter: durch Cash-Pool-Führer (CF) in Wertpapieren vom nicht-öffentlichen Bereich angelegter Zahlungsmittelbestand des Cash-Pools (ohne Finanzderivate) | C25: 0 | D25: 0 | E25: 0 | F25: 0 | G25: 0 | H25: 0 | I25: 0 | J25: 0 | K25: 0 | L25: 0 | M25: 15
A26: 16 | B26: Ausleihungen an nicht-öffentlichen Bereich | C26: 2155417 | D26: 1861119 | E26: 37617 | F26: 1823502 | G26: 292973 | H26: 121088 | I26: 171885 | J26: 1325 | K26: 1325 | L26: 0 | M26: 16
A27: 17 | B27: Ausleihungen mit einer Ursprungslaufzeit bis einschließlich 1 Jahr | C27: 3816 | D27: 0 | E27: 0 | F27: 0 | G27: 3816 | H27: 0 | I27: 3816 | J27: 0 | K27: 0 | L27: 0 | M27: 17
A28: 18 | B28: an Kreditinstitute | C28: 0 | D28: 0 | E28: 0 | F28: 0 | G28: 0 | H28: 0 | I28: 0 | J28: 0 | K28: 0 | L28: 0 | M28: 18
A29: 19 | B29: an sonstigen inländischen Bereich | C29: 3816 | D29: 0 | E29: 0 | F29: 0 | G29: 3816 | H29: 0 | I29: 3816 | J29: 0 | K29: 0 | L29: 0 | M29: 19
A30: 20 | B30: an sonstigen ausländischen Bereich | C30: 0 | D30: 0 | E30: 0 | F30: 0 | G30: 0 | H30: 0 | I30: 0 | J30: 0 | K30: 0 | L30: 0 | M30: 20
A31: 21 | B31: Ausleihungen mit einer Ursprungslaufzeit von mehr als 1 Jahr | C31: 2151601 | D31: 1861119 | E31: 37617 | F31: 1823502 | G31: 289157 | H31: 121088 | I31: 168069 | J31: 1325 | K31: 1325 | L31: 0 | M31: 21
A32: 22 | B32: an Kreditinstitute | C32: 301886 | D32: 35400 | E32: 0 | F32: 35400 | G32: 266486 | H32: 119956 | I32: 146530 | J32: 0 | K32: 0 | L32: 0 | M32: 22
A33: 23 | B33: an sonstigen inländischen Bereich | C33: 1817715 | D33: 1805719 | E33: 37617 | F33: 1768102 | G33: 10671 | H33: 1132 | I33: 9539 | J33: 1325 | K33: 1325 | L33: 0 | M33: 23
A34: 24 | B34: an sonstigen ausländischen Bereich | C34: 32000 | D34: 20000 | E34: 0 | F34: 20000 | G34: 12000 | H34: 0 | I34: 12000 | J34: 0 | K34: 0 | L34: 0 | M34: 24
A35: 25 | B35: Sonstige Forderungen an den nicht-öffentlichen Bereich | C35: 1433693 | D35: 598297 | E35: 583430 | F35: 14867 | G35: 523193 | H35: 470268 | I35: 52925 | J35: 312202 | K35: 312132 | L35: 70 | M35: 25
A36: 26 | B36: Forderungen aus Dienstleistungen | C36: 532368 | D36: 145586 | E36: 138280 | F36: 7306 | G36: 180907 | H36: 155203 | I36: 25704 | J36: 205874 | K36: 205804 | L36: 70 | M36: 26
A37: 27 | B37: übrige Forderungen | C37: 901325 | D37: 452711 | E37: 445150 | F37: 7561 | G37: 342286 | H37: 315065 | I37: 27222 | J37: 106328 | K37: 106328 | L37: 0 | M37: 27
... A43: 33 | B43: Insgesamt | C43: 17315202 | D43: 5201155 | E43: 1936943 | F43: 3264212 | G43: 10065945 | H43: 9042273 | I43: 1023672 | J43: 2048102 | K43: 2035264 | L43: 12838 | M43: 33
C45: Finanzvermögen beim öffentlichen Bereich | G45: Finanzvermögen beim öffentlichen Bereich
A46: 34 | B46: Wertpapiere vom öffentlichen Bereich | C46: 269246 | D46: 2000 | E46: 0 | F46: 2000 | G46: 9700 | H46: 4080 | I46: 5620 | J46: 257546 | K46: 257546 | L46: 0 | M46: 34
A47: 35 | B47: Geldmarktpapiere mit einer Ursprungslaufzeit bis einschließlich 1 Jahr | C47: 2065 | D47: 0 | E47: 0 | F47: 0 | G47: 2065 | H47: 2065 | I47: 0 | J47: 0 | K47: 0 | L47: 0 | M47: 35
A48: 36 | B48: Kapitalmarktpapiere mit einer Ursprungslaufzeit von mehr als 1 Jahr | C48: 267181 | D48: 2000 | E48: 0 | F48: 2000 | G48: 7635 | H48: 2015 | I48: 5620 | J48: 257546 | K48: 257546 | L48: 0 | M48: 36
A49: 37 | B49: darunter: durch Cash-Pool-Führer (CF) in Wertpapieren vom öffentlichen Bereich angelegter Zahlungsmittelbestand des Cash-Pools (ohne Finanzderivate) | C49: 0 | D49: 0 | E49: 0 | F49: 0 | G49: 0 | H49: 0 | I49: 0 | J49: 0 | K49: 0 | L49: 0 | M49: 37
A50: 38 | B50: Ausleihungen an öffentlichen Bereich | C50: 1986718 | D50: 754393 | E50: 4525 | F50: 749868 | G50: 437242 | H50: 385206 | I50: 52036 | J50: 795083 | K50: 795083 | L50: 0 | M50: 38
A51: 39 | B51: Ausleihungen mit einer Ursprungslaufzeit bis einschl. 1 Jahr | C51: 1389276 | D51: 340278 | E51: 0 | F51: 340278 | G51: 253997 | H51: 238436 | I51: 15561 | J51: 795000 | K51: 795000 | L51: 0 | M51: 39
A52: 40 | B52: Ausleihungen mit einer Ursprungslaufzeit von mehr als 1 Jahr | C52: 597442 | D52: 414115 | E52: 4525 | F52: 409590 | G52: 183245 | H52: 146770 | I52: 36475 | J52: 83 | K52: 83 | L52: 0 | M52: 40
...

Sheet 3
A1: 3 Finanzvermögen der Kernhaushalte der Gemeinden/Gemeindeverbände nach Körperschaftsgruppen und Art des Vermögens am 31.12.2025
A3: Art des Vermögens | B3: Gemeinden / Gemeindeverbände
B4: zusammen | C4: Davon
C5: kreisfreie Städte | D5: Landkreise (Haushalte) | E5: kreis- angehörige Gemeinden | F5: Amts- und Verbands- haushalte
B6: 1 000 EUR
B8: Finanzvermögen beim nicht-öffentlichen Bereich
A9: Bargeld und Einlagen | B9: 3392832 | C9: 254191 | D9: 418739 | E9: 2434842 | F9: 285060
A10: Bargeld | B10: 1271 | C10: 411 | D10: 419 | E10: 391 | F10: 49
A11: Sichteinlagen | B11: 1959151 | C11: 75875 | D11: 214713 | E11: 1437096 | F11: 231467
A12: Sonstige Einlagen | B12: 1432410 | C12: 177905 | D12: 203606 | E12: 997355 | F12: 53544
A13: darunter: Zahlungsmittelbestände des Cash-Pools | B13: 279355 | C13: 0 | D13: 33406 | E13: 37084 | F13: 208864
A14: Wertpapiere vom nicht-öffentlichen Bereich | B14: 6620 | C14: 123 | D14: 0 | E14: 6497 | F14: 0
A15: Geldmarktpapiere mit einer Ursprungslaufzeit bis einschl. 1 Jahr | B15: 3403 | C15: 0 | D15: 0 | E15: 3403 | F15: 0
A16: von Kreditinstituten | B16: 1636 | C16: 0 | D16: 0 | E16: 1636 | F16: 0
A17: vom sonstigen inländischen Bereich | B17: 1767 | C17: 0 | D17: 0 | E17: 1767 | F17: 0
A18: vom sonstigen ausländischen Bereich | B18: 0 | C18: 0 | D18: 0 | E18: 0 | F18: 0
A19: Kapitalmarktpapiere mit einer Ursprungslaufzeit von mehr als 1 Jahr | B19: 3217 | C19: 123 | D19: 0 | E19: 3094 | F19: 0
A20: von Kreditinstituten | B20: 3094 | C20: 0 | D20: 0 | E20: 3094 | F20: 0
... A41: Insgesamt | B41: 9042273 | C41: 1542703 | D41: 1144299 | E41: 6064039 | F41: 291233
B43: Finanzvermögen beim öffentlichen Bereich
A44: Wertpapiere vom öffentlichen Bereich | B44: 4080 | C44: 0 | D44: 2040 | E44: 2040 | F44: 0
A45: Geldmarktpapiere mit einer Ursprungslaufzeit bis einschl. 1 Jahr | B45: 2065 | C45: 0 | D45: 2040 | E45: 25 | F45: 0
A46: Kapitalmarktpapiere mit einer Ursprungslaufzeit von mehr als 1 Jahr | B46: 2015 | C46: 0 | D46: 0 | E46: 2015 | F46: 0
A47: darunter: durch Cash-Pool-Führer (CF) in Wertpapieren vom öffentlichen Bereich angelegter Zahlungsmittelbestand des Cash-Pools (ohne Finanzderivate) | B47: 0 | C47: 0 | D47: 0 | E47: 0 | F47: 0
A48: Ausleihungen an öffentlichen Bereich | B48: 385206 | C48: 44444 | D48: 50683 | E48: 239033 | F48: 51047
A49: Ausleihungen mit einer Ursprungslaufzeit bis einschl. 1 Jahr | B49: 238436 | C49: 0 | D49: 8362 | E49: 179059 | F49: 51015
A50: Ausleihungen mit einer Ursprungslaufzeit von mehr als 1 Jahr | B50: 146770 | C50: 44444 | D50: 42321 | E50: 59973 | F50: 32
A51: darunter: im Rahmen von Cash-Pooling/Einheitskasse/Amtskasse | B51: 229757 | C51: 0 | D51: 0 | E51: 178743 | F51: 51015
A52: Sonstige Forderungen an den öffentlichen Bereich | B52: 606391 | C52: 44055 | D52: 280045 | E52: 270723 | F52: 11567
A53: Forderungen aus Dienstleistungen | B53: 158694 | C53: 30995 | D53: 86721 | E53: 35580 | F53: 5398
A54: Übrige Forderungen | B54: 447697 | C54: 13060 | D54: 193325 | E54: 235144 | F54: 6169
A55: Anteilsrechte an Extrahaushalten | B55: 832975 | C55: 247169 | D55: 82554 | E55: 499775 | F55: 3478
... A58: Insgesamt ¹ | B58: 1828653 | C58: 335668 | D58: 415322 | E58: 1011571 | F58: 66092
B60: Weitere Forderungen aus Cash-Pooling
A61: Forderungen des Cash-Pool-Führers gegenüber entnehmenden Einheiten | B61: 21369 | C61: 0 | D61: 1078 | E61: 17379 | F61: 2913
B62: Finanzderivate (Saldo)
A63: Finanzderivate | B63: -1037 | C63: 0 | D63: 0 | E63: -1037 | F63: 0
A64: _____
A65: 1 Unkonsolidiert, kann Doppelzählungen enthalten

Sheet 4
B1: 4 Finanzvermögen des Landes und der Gemeinden/Gemeindeverbände einschl. Extrahaushalte nach Arten, Körperschaftsgruppen und Größenklassen beim nicht-öffentlichen Bereich am 31.12.2025
B3: lfd. Nr. | C3: Körperschaftsgruppen und Einwohnergrößenklassen | D3: Insgesamt | E3: Bargeld und Einlagen | F3: Wertpapiere vom nicht-öffentlichen Bereich | G3: Ausleihungen an nicht-öffentlichen Bereich | J3: Sonstige Forderungen an den nicht- öffentlichen Bereich | K3: Anteilsrechte an Einheiten außerhalb des Sektor Staat | L3: lfd. Nr.
G4: zusammen | H4: Ursprungslaufzeit
H5: bis einschl. 1 Jahr | I5: mehr als 1 Jahr
D6: 1 000 EUR | G6: 1 000 EUR
B8: 1 | C8: Land zusammen | D8: 5201155 | E8: 979231 | F8: 668554 | G8: 1861119 | H8: 0 | I8: 1861119 | J8: 598297 | K8: 1093954 | L8: 1
B9: 2 | C9: Kernhaushalt des Landes | D9: 1936943 | E9: 572436 | F9: 0 | G9: 37617 | H9: 0 | I9: 37617 | J9: 583430 | K9: 743460 | L9: 2
B10: 3 | C10: Extrahaushalte des Landes | D10: 3264212 | E10: 406795 | F10: 668554 | G10: 1823502 | H10: 0 | I10: 1823502 | J10: 14867 | K10: 350494 | L10: 3
B11: 4 | C11: Gemeinden / Gv. zusammen | D11: 10065945 | E11: 3629991 | F11: 351664 | G11: 292973 | H11: 3816 | I11: 289157 | J11: 523193 | K11: 5268124 | L11: 4
B12: 5 | C12: Kernhaushalte der Gemeinden / Gv. zusammen | D12: 9042273 | E12: 3392832 | F12: 6620 | G12: 121088 | H12: 0 | I12: 121088 | J12: 470268 | K12: 5051465 | L12: 5
B13: 6 | C13: kreisfreie Städte zusammen | D13: 1542703 | E13: 254191 | F13: 123 | G13: 0 | H13: 0 | I13: 0 | J13: 59295 | K13: 1229094 | L13: 6
B14: 7 | C14: unter 100 000 | D14: 755343 | E14: 130142 | F14: 123 | G14: 0 | H14: 0 | I14: 0 | J14: 49935 | K14: 575144 | L14: 7
B15: 8 | C15: 100 000 - 200 000 | D15: 787360 | E15: 124050 | F15: 0 | G15: 0 | H15: 0 | I15: 0 | J15: 9360 | K15: 653950 | L15: 8
B16: 9 | C16: 200 000 und mehr | D16: 0 | E16: 0 | F16: 0 | G16: 0 | H16: 0 | I16: 0 | J16: 0 | K16: 0 | L16: 9
B17: 10 | C17: Landkreise (Haushalte) zusammen | D17: 1144299 | E17: 418739 | F17: 0 | G17: 8 | H17: 0 | I17: 8 | J17: 148344 | K17: 577208 | L17: 10
B18: 11 | C18: unter 100 000 | D18: 307277 | E18: 114606 | F18: 0 | G18: 0 | H18: 0 | I18: 0 | J18: 36648 | K18: 156023 | L18: 11
B19: 12 | C19: 100 000 - 200 000 | D19: 454995 | E19: 184931 | F19: 0 | G19: 8 | H19: 0 | I19: 8 | J19: 110689 | K19: 159367 | L19: 12
... B42: 35 | C42: Extrahaushalte | D42: 4300722 | E42: 656722 | F42: 1013598 | G42: 1995387 | H42: 3816 | I42: 1991571 | J42: 67862 | K42: 567154 | L42: 35

Sheet 5
B1: 5 Finanzvermögen des Landes und der Gemeinden/Gemeindeverbände einschl. Extrahaushalte nach Arten, Körperschaftsgruppen und Größenklassen beim öffentlichen Bereich am 31.12.2025
B3: lfd. Nr. | C3: Körperschaftsgruppen und Einwohnergrößenklassen | D3: Insgesamt | E3: Wertpapiere vom öffentlichen Bereich | F3: Ausleihungen | G3: an öffentlichen Bereich | I3: Sonstige Forderungen an den öffentlichen Bereich | J3: Anteilsrechte an Extra- haushalten | K3: lfd. Nr.
F4: zusammen | G4: Ursprungslaufzeit
G5: bis einschl. 1 Jahr | H5: mehr als 1 Jahr
D6: 1 000 EUR
B8: 1 | C8: Land zusammen | D8: 820543 | E8: 2000 | F8: 754393 | G8: 340278 | H8: 414115 | I8: 41636 | J8: 22514 | K8: 1
B9: 2 | C9: Kernhaushalt des Landes | D9: 26694 | E9: 0 | F9: 4525 | G9: 0 | H9: 4525 | I9: 331 | J9: 21838 | K9: 2
B10: 3 | C10: Extrahaushalte des Landes | D10: 793850 | E10: 2000 | F10: 749868 | G10: 340278 | H10: 409590 | I10: 41305 | J10: 676 | K10: 3
B11: 4 | C11: Gemeinden / Gv. zusammen | D11: 1938245 | E11: 9700 | F11: 437242 | G11: 253997 | H11: 183245 | I11: 658327 | J11: 832975 | K11: 4
B12: 5 | C12: Kernhaushalte der Gemeinden / Gv. zusammen | D12: 1828653 | E12: 4080 | F12: 385206 | G12: 238436 | H12: 146770 | I12: 606391 | J12: 832975 | K12: 5
B13: 6 | C13: kreisfreie Städte zusammen | D13: 335668 | E13: 0 | F13: 44444 | G13: 0 | H13: 44444 | I13: 44055 | J13: 247169 | K13: 6
B14: 7 | C14: unter 100 000 | D14: 123392 | E14: 0 | F14: 0 | G14: 0 | H14: 0 | I14: 13156 | J14: 110237 | K14: 7
B15: 8 | C15: 100 000 - 200 000 | D15: 212276 | E15: 0 | F15: 44444 | G15: 0 | H15: 44444 | I15: 30899 | J15: 136933 | K15: 8
B16: 9 | C16: 200 000 und mehr | D16: 0 | E16: 0 | F16: 0 | G16: 0 | H16: 0 | I16: 0 | J16: 0 | K16: 9
B17: 10 | C17: Landkreise (Haushalte) zusammen | D17: 415322 | E17: 2040 | F17: 50683 | G17: 8362 | H17: 42321 | I17: 280045 | J17: 82554 | K17: 10
B18: 11 | C18: unter 100 000 | D18: 125262 | E18: 0 | F18: 20800 | G18: 0 | H18: 20800 | I18: 102565 | J18: 1897 | K18: 11
B19: 12 | C19: 100 000 - 200 000 | D19: 227794 | E19: 2040 | F19: 29883 | G19: 8362 | H19: 21521 | I19: 131672 | J19: 64199 | K19: 12
... B42: 35 | C42: Extrahaushalte | D42: 903653 | E42: 7620 | F42: 801904 | G42: 355840 | H42: 446065 | I42: 93453 | J42: 676 | K42: 35

Sheet 6
A2: 6 Finanzvermögen des Landes und der Gemeinden/Gemeindeverbände einschl. Extrahaushalte beim nicht-öffentlichen Bereich nach Körperschaftsgruppen und Größenklassen - Vorjahresvergleich
A4: Körperschaftsgruppen und Größenklassen | B4: Stand 31.12. 2025 | C4: Stand 31.12. 2024 | D4: Veränderung gegenüber Vorjahr
B5: 1 000 EUR | E5: %
A7: Land zusammen | B7: 5201155 | C7: 5201859 | D7: -704 | E7: 0
A8: Kernhaushalt des Landes | B8: 1936943 | C8: 2029148 | D8: -92205 | E8: -4.5
A9: Extrahaushalte des Landes | B9: 3264212 | C9: 3172710 | D9: 91501 | E9: 2.9
A10: Gemeinden / Gv. zusammen | B10: 10065945 | C10: 9563953 | D10: 501992 | E10: 5.2
A11: Kernhaushalte der Gemeinden / Gv. zusammen | B11: 9042273 | C11: 8631722 | D11: 410551 | E11: 4.8
A12: kreisfreie Städte zusammen | B12: 1542703 | C12: 1716535 | D12: -173833 | E12: -10.1
A13: unter 100 000 | B13: 755343 | C13: 839147 | D13: -83803 | E13: -10
A14: 100 000 - 200 000 | B14: 787360 | C14: 877389 | D14: -90029 | E14: -10.3
A15: 200 000 und mehr | B15: 0 | C15: 0 | D15: 0 | E15: 0
A16: Landkreise (Haushalte) zusammen | B16: 1144299 | C16: 1319692 | D16: -175393 | E16: -13.3
A17: unter 100 000 | B17: 307277 | C17: 287650 | D17: 19627 | E17: 6.8
A18: 100 000 - 200 000 | B18: 454995 | C18: 562260 | D18: -107264 | E18: -19.1
... A41: Extrahaushalte | B41: 4300722 | C41: 4115329 | D41: 185393 | E41: 4.5

Sheet 7
A1: 7 Finanzvermögen des Landes und der Gemeinden/Gemeindeverbände einschl. Extrahaushalte nach Art des Vermögens - Vorjahresvergleich
A3: Art des Vermögens | B3: Stand 31.12. 2025 | C3: Stand 31.12. 2024 | D3: Veränderung gegenüber Vorjahr
B4: 1 000 EUR | E4: %
B6: Finanzvermögen beim nicht-öffentlichen Bereich
A7: Bargeld und Einlagen | B7: 5799467 | C7: 6673681 | D7: =B7-C7 -> -874214 | E7: -13.1
A8: Bargeld | B8: 2386 | C8: 2615 | D8: =B8-C8 -> -229 | E8: -8.7
A9: Sichteinlagen | B9: 3142926 | C9: 3151482 | D9: =B9-C9 -> -8556 | E9: -0.3
A10: Sonstige Einlagen | B10: 2654155 | C10: 3519584 | D10: =B10-C10 -> -865429 | E10: -24.6
A11: darunter: Zahlungsmittelbestände des Cash-Pools | B11: 279355 | C11: 239553 | D11: =B11-C11 -> 39802 | E11: 16.6
A12: Wertpapiere vom nicht-öffentlichen Bereich | B12: 1554276 | C12: 1488505 | D12: =B12-C12 -> 65771 | E12: 4.4
A13: Geldmarktpapiere mit einer Ursprungslaufzeit bis einschließlich 1 Jahr | B13: 3724 | C13: 2650 | D13: =B13-C13 -> 1074 | E13: 40.5
A14: von Kreditinstituten | B14: 1957 | C14: 2400 | D14: =B14-C14 -> -443 | E14: -18.5
A15: vom sonstigen inländischen Bereich | B15: 1767 | C15: 250 | D15: =B15-C15 -> 1517 | E15: 606.4
A16: vom sonstigen ausländischen Bereich | B16: 0 | C16: 0 | D16: =B16-C16 -> 0 | E16: 0
A17: Kapitalmarktpapiere mit einer Ursprungslaufzeit von mehr als 1 Jahr | B17: 1550552 | C17: 1485855 | D17: =B17-C17 -> 64697 | E17: 4.4
A18: von Kreditinstituten | B18: 770202 | C18: 782689 | D18: =B18-C18 -> -12487 | E18: -1.6
... A39: Insgesamt | B39: 17315202 | C39: 16970128 | D39: =B39-C39 -> 345074 | E39: 2
B41: Finanzvermögen beim öffentlichen Bereich
A42: Wertpapiere vom öffentlichen Bereich | B42: 269246 | C42: 261857 | D42: =B42-C42 -> 7389 | E42: 2.8
A43: Geldmarktpapiere mit einer Ursprungslaufzeit bis einschließlich 1 Jahr | B43: 2065 | C43: 7065 | D43: =B43-C43 -> -5000 | E43: -70.8
A44: Kapitalmarktpapiere mit einer Ursprungslaufzeit von mehr als 1 Jahr | B44: 267181 | C44: 254792 | D44: =B44-C44 -> 12389 | E44: 4.9
A45: darunter: durch Cash-Pool-Führer (CF) in Wertpapieren vom öffentlichen Bereich angelegter Zahlungsmittelbestand des Cash-Pools (ohne Finanzderivate) | B45: 0 | C45: 0 | D45: =B45-C45 -> 0 | E45: 0
A46: Ausleihungen an öffentlichen Bereich | B46: 1986718 | C46: 1800721 | D46: =B46-C46 -> 185997 | E46: 10.3
A47: Ausleihungen mit einer Ursprungslaufzeit bis einschl. 1 Jahr | B47: 1389276 | C47: 1217300 | D47: =B47-C47 -> 171976 | E47: 14.1
A48: Ausleihungen mit einer Ursprungslaufzeit von mehr als 1 Jahr | B48: 597442 | C48: 583421 | D48: =B48-C48 -> 14021 | E48: 2.4
A49: darunter: im Rahmen von Cashpooling/Einheitskasse/Amtskasse von Cash-Pool-Einheiten bei eigenem Liquiditätaüberschuss zugeführte Mittel | B49: 1380582 | C49: 1216707 | D49: =B49-C49 -> 163875 | E49: 13.5
A50: Sonstige Forderungen an den öffentlichen Bereich | B50: 1064001 | C50: 896242 | D50: =B50-C50 -> 167759 | E50: 18.7
A51: Forderungen aus Dienstleistungen | B51: 311522 | C51: 265235 | D51: =B51-C51 -> 46287 | E51: 17.5
A52: übrige Forderungen | B52: 752479 | C52: 631007 | D52: =B52-C52 -> 121472 | E52: 19.3
A53: Anteilsrechte an Extrahaushalten | B53: 855903 | C53: 700805 | D53: =B53-C53 -> 155098 | E53: 22.1
... A56: Insgesamt ¹ | B56: 4175868 | C56: 3659625 | D56: =B56-C56 -> 516243 | E56: 14.1
B58: Weitere Forderungen aus Cash-Pooling
A59: Forderungen des Cash-Pool-Führers gegenüber entnehmenden Einheiten | B59: 440990 | C59: 358157 | D59: =B59-C59 -> 82833 | E59: 23.1
B61: Finanzderivate (Saldo)
A62: Finanzderivate | B62: 284861 | C62: -3596 | D62: =B62-C62 -> 288457 | E62: X
A63: _____
A64: 1 Unkonsolidiert, kann Doppelzählungen enthalten

Sheet U4
