Workbook
Name Database: #REF!
Name Database: #REF!
Name Database: #REF!
Name Database: #REF!
Name Database: #REF!
Name Datenbank2: #REF!
Name Datenbank2: #REF!
Name Datenbank2: #REF!
Name Datenbank2: #REF!
Name Druckbereich1: #REF!
Name Druckbereich1: #REF!
Name Druckbereich1: #REF!
Name Druckbereich1: #REF!
Name Druckbereich1: #REF!
Name Druckbereich1.1: #REF!
Name Druckbereich1.1: #REF!
Name Druckbereich1.1: #REF!
Name Druckbereich1.1: #REF!
Name Druckbereich11: #REF!
Name Druckbereich11: #REF!
Name Druckbereich11: #REF!
Name Druckbereich11: #REF!
Name Druckbereich4: #REF!
Name Druckbereich4: #REF!
Name Druckbereich4: #REF!
Name Druckbereich4: #REF!

Sheet Titel
B2: Statistischer
B3: Bericht
C5: A VI 9 — hj 3/25
C7: Erwerbstätigenrechnung — Erwerbstätige im Land Brandenburg 1991 bis 2025
C9: Ergebnisse des Arbeitskreises „Erwerbstätigenrechnung der Länder" Berechnungsstand: August 2026
C11: Erwerbstätige Arbeitnehmer Marginal Beschäftigte Selbstständige und mithelfende Familienangehörige

Sheet Impressum
A21: Impressum | E21: Die beiliegenden Ergebnisse dürfen in dieser Form (jeweilige Darstellungseinheit mit mehreren hinterlegten Nachkommastellen) nur für eigene Berechnungen verwendet werden. Absolutzahlen dürfen nicht genauer als in der vom Arbeitskreis „Erwerbstätigenrechnung der Länder” freigegebenen Zahlengenauigkeit („Personen" in Tausend „Geleistete Arbeitsstunden" in Millionen — jeweils mit nur einer Nachkommastelle) an Dritte weitergeleitet oder veröffentlicht werden.
B23: Statistischer Bericht
B24: A VI 9 — hj 3/25
B26: Erscheinungsfolge: halbjährlich
B27: Erschienen im September 2026
B28: Berechnungsstand des
B29: Statistischen Bundesamtes: August 2026
A34: Herausgeber | D34: Zeichenerklärung
B36: Amt für Statistik Berlin-Brandenburg | D36: 0 | E36: weniger als die Hälfte von 1
B37: Steinstraße 104–106 | E37: in der letzten besetzten Stelle,
B38: 14480 Potsdam | E38: jedoch mehr als nichts
B39: info@statistik-bbb.de | D39: – | E39: nichts vorhanden
B40: www.statistik-berlin-brandenburg.de | D40: … | E40: Angabe fällt später an
D41: ( ) | E41: Aussagewert ist eingeschränkt
B42: Tel. 0331 8173-1777 | D42: / | E42: Zahlenwert nicht sicher genug
B43: Fax 0331 817330-4091 | D43: • | E43: Zahlenwert unbekannt oder
E44: geheim zu halten
D45: x | E45: Tabellenfach gesperrt
D46: p | E46: vorläufige Zahl
D47: r | E47: berichtigte Zahl
D48: s | E48: geschätzte Zahl
A51: © | B51: Amt für Statistik Berlin-Brandenburg,
B52: Potsdam, 2026
B53: Auszugsweise Vervielfältigung und Verbreitung mit Quellenangabe gestattet.

Sheet Inhaltsverzeichnis
A1: Inhaltsverzeichnis
C2: Seite
B4: Metadaten zu dieser Statistik
B5: (externer Link)
B6: Tabellen
A8: 1 | B8: Erwerbstätige am Arbeitsort im Land Brandenburg 1991 bis 2025 | C8: 5
A10: 2 | B10: Erwerbstätige am Arbeitsort im Land Brandenburg 1991 bis 2025
B11: nach ausgewählten Wirtschaftsbereichen | C11: 6
A13: 3 | B13: Arbeitnehmer am Arbeitsort im Land Brandenburg 1991 bis 2025
B14: nach ausgewählten Wirtschaftsbereichen | C14: 8
A16: 4 | B16: Selbstständige am Arbeitsort im Land Brandenburg 1991 bis 2025
B17: nach ausgewählten Wirtschaftsbereichen | C17: 10
A19: 5 | B19: Erwerbstätige am Arbeitsort im Land Brandenburg 2008 bis 2025 nach Wirtschaftsbereichen | C19: 12
A21: 6 | B21: Arbeitnehmer am Arbeitsort im Land Brandenburg 2008 bis 2025 nach Wirtschaftsbereichen | C21: 14
A23: 7 | B23: Selbstständige am Arbeitsort im Land Brandenburg 2008 bis 2025 nach Wirtschaftsbereichen | C23: 16
A25: 8 | B25: Erwerbstätige am Arbeitsort in Deutschland 1991 bis 2025 nach Bundesländern | C25: 18
A27: 9 | B27: Arbeitnehmer am Arbeitsort in Deutschland 1991 bis 2025 nach Bundesländern | C27: 20
A29: 10 | B29: Selbstständige am Arbeitsort in Deutschland 1991 bis 2025 nach Bundesländern | C29: 22
A31: 11 | B31: Marginal Beschäftigte am Arbeitsort in Deutschland 2003 bis 2025 nach Bundesländern | C31: 24

Sheet T1
A1: 1 Erwerbstätige am Arbeitsort im Land Brandenburg 1991 bis 2025
A3: Jahr | B3: Erwerbstätige | C3: Selbstständige und mithelfende Familien- angehörige | D3: Arbeitnehmer | E3: Davon
E4: Arbeitnehmer ohne marginal Beschäftigte | F4: Marginal Beschäftigte
B6: Jahresdurchschnitt in 1 000 Personen
A7: 1991 | B7: 1191.026 | C7: 59.118 | D7: 1131.908 | E7: • | F7: •
A8: 1992 | B8: 1063.011 | C8: 70.677 | D8: 992.334 | E8: • | F8: •
A9: 1993 | B9: 1031.561 | C9: 75.236 | D9: 956.325 | E9: • | F9: •
A10: 1994 | B10: 1063.426 | C10: 81.082 | D10: 982.344 | E10: • | F10: •
A11: 1995 | B11: 1088.752 | C11: 83.508 | D11: 1005.244 | E11: • | F11: •
A12: 1996 | B12: 1087.474 | C12: 86.208 | D12: 1001.266 | E12: • | F12: •
A13: 1997 | B13: 1087.551 | C13: 90.698 | D13: 996.853 | E13: • | F13: •
A14: 1998 | B14: 1082.924 | C14: 95.423 | D14: 987.501 | E14: • | F14: •
A15: 1999 | B15: 1088.171 | C15: 102.444 | D15: 985.727 | E15: • | F15: •
A16: 2000 | B16: 1089.825 | C16: 108.98 | D16: 980.845 | E16: • | F16: •
A17: 2001 | B17: 1063.946 | C17: 112.151 | D17: 951.795 | E17: • | F17: •
A18: 2002 | B18: 1043.036 | C18: 112.325 | D18: 930.711 | E18: • | F18: •
A19: 2003 | B19: 1026.88 | C19: 114.738 | D19: 912.142 | E19: =D19-F19 -> 803.314 | F19: 108.828
A20: 2004 | B20: 1029.555 | C20: 120.803 | D20: 908.752 | E20: =D20-F20 -> 786.79 | F20: 121.962
A21: 2005 | B21: 1021.516 | C21: 129.077 | D21: 892.439 | E21: =D21-F21 -> 765.552 | F21: 126.887
A22: 2006 | B22: 1027.229 | C22: 130.665 | D22: 896.564 | E22: =D22-F22 -> 766.274 | F22: 130.29
A23: 2007 | B23: 1047.732 | C23: 132.236 | D23: 915.496 | E23: =D23-F23 -> 786.636 | F23: 128.86
A24: 2008 | B24: 1063.312 | C24: 136.542 | D24: 926.77 | E24: =D24-F24 -> 795.686 | F24: 131.084
A25: 2009 | B25: 1076.557 | C25: 139.995 | D25: 936.562 | E25: =D25-F25 -> 800.651 | F25: 135.911
A26: 2010 | B26: 1081.754 | C26: 139.769 | D26: 941.985 | E26: =D26-F26 -> 805.877 | F26: 136.108
A27: 2011 | B27: 1080.906 | C27: 137.536 | D27: 943.37 | E27: =D27-F27 -> 816.88 | F27: 126.49
A28: 2012 | B28: 1083.504 | C28: 136.31 | D28: 947.194 | E28: =D28-F28 -> 825.793 | F28: 121.401
A29: 2013 | B29: 1081.834 | C29: 133.061 | D29: 948.773 | E29: =D29-F29 -> 827.085 | F29: 121.688
A30: 2014 | B30: 1082.629 | C30: 131.002 | D30: 951.627 | E30: =D30-F30 -> 834.802 | F30: 116.825
... A41: 2025 | B41: 1144.106 | C41: 111.06 | D41: 1033.046 | E41: =D41-F41 -> 938.391 | F41: 94.655
B43: Veränderung zum Vorjahr in %
A44: 1992 | B44: =ROUND(B8/B7*100-100,5) -> -10.7483 | C44: =ROUND(C8/C7*100-100,5) -> 19.55242 | D44: =ROUND(D8/D7*100-100,5) -> -12.33086 | E44: • | F44: •
A45: 1993 | B45: =ROUND(B9/B8*100-100,5) -> -2.95858 | C45: =ROUND(C9/C8*100-100,5) -> 6.45047 | D45: =ROUND(D9/D8*100-100,5) -> -3.62872 | E45: • | F45: •
A46: 1994 | B46: =ROUND(B10/B9*100-100,5) -> 3.08901 | C46: =ROUND(C10/C9*100-100,5) -> 7.77022 | D46: =ROUND(D10/D9*100-100,5) -> 2.72073 | E46: • | F46: •
A47: 1995 | B47: =ROUND(B11/B10*100-100,5) -> 2.38155 | C47: =ROUND(C11/C10*100-100,5) -> 2.99203 | D47: =ROUND(D11/D10*100-100,5) -> 2.33116 | E47: • | F47: •
A48: 1996 | B48: =ROUND(B12/B11*100-100,5) -> -0.11738 | C48: =ROUND(C12/C11*100-100,5) -> 3.23322 | D48: =ROUND(D12/D11*100-100,5) -> -0.39572 | E48: • | F48: •
A49: 1997 | B49: =ROUND(B13/B12*100-100,5) -> 0.00708 | C49: =ROUND(C13/C12*100-100,5) -> 5.20833 | D49: =ROUND(D13/D12*100-100,5) -> -0.44074 | E49: • | F49: •
A50: 1998 | B50: =ROUND(B14/B13*100-100,5) -> -0.42545 | C50: =ROUND(C14/C13*100-100,5) -> 5.2096 | D50: =ROUND(D14/D13*100-100,5) -> -0.93815 | E50: • | F50: •
A51: 1999 | B51: =ROUND(B15/B14*100-100,5) -> 0.48452 | C51: =ROUND(C15/C14*100-100,5) -> 7.35776 | D51: =ROUND(D15/D14*100-100,5) -> -0.17965 | E51: • | F51: •
A52: 2000 | B52: =ROUND(B16/B15*100-100,5) -> 0.152 | C52: =ROUND(C16/C15*100-100,5) -> 6.38007 | D52: =ROUND(D16/D15*100-100,5) -> -0.49527 | E52: • | F52: •
A53: 2001 | B53: =ROUND(B17/B16*100-100,5) -> -2.3746 | C53: =ROUND(C17/C16*100-100,5) -> 2.90971 | D53: =ROUND(D17/D16*100-100,5) -> -2.96173 | E53: • | F53: •
A54: 2002 | B54: =ROUND(B18/B17*100-100,5) -> -1.96533 | C54: =ROUND(C18/C17*100-100,5) -> 0.15515 | D54: =ROUND(D18/D17*100-100,5) -> -2.21518 | E54: • | F54: •
A55: 2003 | B55: =ROUND(B19/B18*100-100,5) -> -1.54894 | C55: =ROUND(C19/C18*100-100,5) -> 2.14823 | D55: =ROUND(D19/D18*100-100,5) -> -1.99514 | E55: • | F55: •
A56: 2004 | B56: =ROUND(B20/B19*100-100,5) -> 0.2605 | C56: =ROUND(C20/C19*100-100,5) -> 5.28596 | D56: =ROUND(D20/D19*100-100,5) -> -0.37165 | E56: =ROUND(E20/E19*100-100,5) -> -2.05698 | F56: =ROUND(F20/F19*100-100,5) -> 12.06859
A57: 2005 | B57: =ROUND(B21/B20*100-100,5) -> -0.78082 | C57: =ROUND(C21/C20*100-100,5) -> 6.84917 | D57: =ROUND(D21/D20*100-100,5) -> -1.7951 | E57: =ROUND(E21/E20*100-100,5) -> -2.69932 | F57: =ROUND(F21/F20*100-100,5) -> 4.03814
A58: 2006 | B58: =ROUND(B22/B21*100-100,5) -> 0.55927 | C58: =ROUND(C22/C21*100-100,5) -> 1.23027 | D58: =ROUND(D22/D21*100-100,5) -> 0.46222 | E58: =ROUND(E22/E21*100-100,5) -> 0.09431 | F58: =ROUND(F22/F21*100-100,5) -> 2.68191
A59: 2007 | B59: =ROUND(B23/B22*100-100,5) -> 1.99595 | C59: =ROUND(C23/C22*100-100,5) -> 1.20231 | D59: =ROUND(D23/D22*100-100,5) -> 2.11162 | E59: =ROUND(E23/E22*100-100,5) -> 2.65727 | F59: =ROUND(F23/F22*100-100,5) -> -1.09755
A60: 2008 | B60: =ROUND(B24/B23*100-100,5) -> 1.48702 | C60: =ROUND(C24/C23*100-100,5) -> 3.2563 | D60: =ROUND(D24/D23*100-100,5) -> 1.23146 | E60: =ROUND(E24/E23*100-100,5) -> 1.15047 | F60: =ROUND(F24/F23*100-100,5) -> 1.7259
A61: 2009 | B61: =ROUND(B25/B24*100-100,5) -> 1.24564 | C61: =ROUND(C25/C24*100-100,5) -> 2.52889 | D61: =ROUND(D25/D24*100-100,5) -> 1.05657 | E61: =ROUND(E25/E24*100-100,5) -> 0.62399 | F61: =ROUND(F25/F24*100-100,5) -> 3.68237
A62: 2010 | B62: =ROUND(B26/B25*100-100,5) -> 0.48274 | C62: =ROUND(C26/C25*100-100,5) -> -0.16143 | D62: =ROUND(D26/D25*100-100,5) -> 0.57903 | E62: =ROUND(E26/E25*100-100,5) -> 0.65272 | F62: =ROUND(F26/F25*100-100,5) -> 0.14495
A63: 2011 | B63: =ROUND(B27/B26*100-100,5) -> -0.07839 | C63: =ROUND(C27/C26*100-100,5) -> -1.59764 | D63: =ROUND(D27/D26*100-100,5) -> 0.14703 | E63: =ROUND(E27/E26*100-100,5) -> 1.36534 | F63: =ROUND(F27/F26*100-100,5) -> -7.06645
A64: 2012 | B64: =ROUND(B28/B27*100-100,5) -> 0.24035 | C64: =ROUND(C28/C27*100-100,5) -> -0.8914 | D64: =ROUND(D28/D27*100-100,5) -> 0.40536 | E64: =ROUND(E28/E27*100-100,5) -> 1.0911 | F64: =ROUND(F28/F27*100-100,5) -> -4.02324
A65: 2013 | B65: =ROUND(B29/B28*100-100,5) -> -0.15413 | C65: =ROUND(C29/C28*100-100,5) -> -2.38354 | D65: =ROUND(D29/D28*100-100,5) -> 0.1667 | E65: =ROUND(E29/E28*100-100,5) -> 0.15646 | F65: =ROUND(F29/F28*100-100,5) -> 0.23641
A66: 2014 | B66: =ROUND(B30/B29*100-100,5) -> 0.07349 | C66: =ROUND(C30/C29*100-100,5) -> -1.54741 | D66: =ROUND(D30/D29*100-100,5) -> 0.30081 | E66: =ROUND(E30/E29*100-100,5) -> 0.93304 | F66: =ROUND(F30/F29*100-100,5) -> -3.99629
A67: 2015 | B67: =ROUND(B31/B30*100-100,5) -> 0.21318 | C67: =ROUND(C31/C30*100-100,5) -> 1.5183 | D67: =ROUND(D31/D30*100-100,5) -> 0.03352 | E67: =ROUND(E31/E30*100-100,5) -> 1.24029 | F67: =ROUND(F31/F30*100-100,5) -> -8.58977
... A77: 2025 | B77: =ROUND(B41/B40*100-100,5) -> -0.23248 | C77: =ROUND(C41/C40*100-100,5) -> -3.75916 | D77: =ROUND(D41/D40*100-100,5) -> 0.16211 | E77: =ROUND(E41/E40*100-100,5) -> 0.12665 | F77: =ROUND(F41/F40*100-100,5) -> 0.51503
B79: Anteil an den Erwerbstätigen
A80: 1991 | B80: 100 | C80: =ROUND(C7/$B7*100,5) -> 4.96362 | D80: =ROUND(D7/$B7*100,5) -> 95.03638 | E80: • | F80: •
A81: 1992 | B81: 100 | C81: =ROUND(C8/$B8*100,5) -> 6.64876 | D81: =ROUND(D8/$B8*100,5) -> 93.35124 | E81: • | F81: •
A82: 1993 | B82: 100 | C82: =ROUND(C9/$B9*100,5) -> 7.29341 | D82: =ROUND(D9/$B9*100,5) -> 92.70659 | E82: • | F82: •
A83: 1994 | B83: 100 | C83: =ROUND(C10/$B10*100,5) -> 7.6246 | D83: =ROUND(D10/$B10*100,5) -> 92.3754 | E83: • | F83: •
A84: 1995 | B84: 100 | C84: =ROUND(C11/$B11*100,5) -> 7.67007 | D84: =ROUND(D11/$B11*100,5) -> 92.32993 | E84: • | F84: •
A85: 1996 | B85: 100 | C85: =ROUND(C12/$B12*100,5) -> 7.92736 | D85: =ROUND(D12/$B12*100,5) -> 92.07264 | E85: • | F85: •
A86: 1997 | B86: 100 | C86: =ROUND(C13/$B13*100,5) -> 8.33965 | D86: =ROUND(D13/$B13*100,5) -> 91.66035 | E86: • | F86: •
A87: 1998 | B87: 100 | C87: =ROUND(C14/$B14*100,5) -> 8.81161 | D87: =ROUND(D14/$B14*100,5) -> 91.18839 | E87: • | F87: •
A88: 1999 | B88: 100 | C88: =ROUND(C15/$B15*100,5) -> 9.41433 | D88: =ROUND(D15/$B15*100,5) -> 90.58567 | E88: • | F88: •
A89: 2000 | B89: 100 | C89: =ROUND(C16/$B16*100,5) -> 9.99977 | D89: =ROUND(D16/$B16*100,5) -> 90.00023 | E89: • | F89: •
A90: 2001 | B90: 100 | C90: =ROUND(C17/$B17*100,5) -> 10.54104 | D90: =ROUND(D17/$B17*100,5) -> 89.45896 | E90: • | F90: •
A91: 2002 | B91: 100 | C91: =ROUND(C18/$B18*100,5) -> 10.76904 | D91: =ROUND(D18/$B18*100,5) -> 89.23096 | E91: • | F91: •
A92: 2003 | B92: 100 | C92: =ROUND(C19/$B19*100,5) -> 11.17346 | D92: =ROUND(D19/$B19*100,5) -> 88.82654 | E92: =ROUND(E19/$B19*100,5) -> 78.22861 | F92: =ROUND(F19/$B19*100,5) -> 10.59793
A93: 2004 | B93: 100 | C93: =ROUND(C20/$B20*100,5) -> 11.73352 | D93: =ROUND(D20/$B20*100,5) -> 88.26648 | E93: =ROUND(E20/$B20*100,5) -> 76.4204 | F93: =ROUND(F20/$B20*100,5) -> 11.84609
A94: 2005 | B94: 100 | C94: =ROUND(C21/$B21*100,5) -> 12.63583 | D94: =ROUND(D21/$B21*100,5) -> 87.36417 | E94: =ROUND(E21/$B21*100,5) -> 74.94273 | F94: =ROUND(F21/$B21*100,5) -> 12.42144
A95: 2006 | B95: 100 | C95: =ROUND(C22/$B22*100,5) -> 12.72014 | D95: =ROUND(D22/$B22*100,5) -> 87.27986 | E95: =ROUND(E22/$B22*100,5) -> 74.59622 | F95: =ROUND(F22/$B22*100,5) -> 12.68364
A96: 2007 | B96: 100 | C96: =ROUND(C23/$B23*100,5) -> 12.62117 | D96: =ROUND(D23/$B23*100,5) -> 87.37883 | E96: =ROUND(E23/$B23*100,5) -> 75.07989 | F96: =ROUND(F23/$B23*100,5) -> 12.29895
A97: 2008 | B97: 100 | C97: =ROUND(C24/$B24*100,5) -> 12.8412 | D97: =ROUND(D24/$B24*100,5) -> 87.1588 | E97: =ROUND(E24/$B24*100,5) -> 74.83091 | F97: =ROUND(F24/$B24*100,5) -> 12.3279
A98: 2009 | B98: 100 | C98: =ROUND(C25/$B25*100,5) -> 13.00396 | D98: =ROUND(D25/$B25*100,5) -> 86.99604 | E98: =ROUND(E25/$B25*100,5) -> 74.37145 | F98: =ROUND(F25/$B25*100,5) -> 12.6246
A99: 2010 | B99: 100 | C99: =ROUND(C26/$B26*100,5) -> 12.92059 | D99: =ROUND(D26/$B26*100,5) -> 87.07941 | E99: =ROUND(E26/$B26*100,5) -> 74.49725 | F99: =ROUND(F26/$B26*100,5) -> 12.58216
A100: 2011 | B100: 100 | C100: =ROUND(C27/$B27*100,5) -> 12.72414 | D100: =ROUND(D27/$B27*100,5) -> 87.27586 | E100: =ROUND(E27/$B27*100,5) -> 75.57364 | F100: =ROUND(F27/$B27*100,5) -> 11.70222
A101: 2012 | B101: 100 | C101: =ROUND(C28/$B28*100,5) -> 12.58048 | D101: =ROUND(D28/$B28*100,5) -> 87.41952 | E101: =ROUND(E28/$B28*100,5) -> 76.21504 | F101: =ROUND(F28/$B28*100,5) -> 11.20448
A102: 2013 | B102: 100 | C102: =ROUND(C29/$B29*100,5) -> 12.29958 | D102: =ROUND(D29/$B29*100,5) -> 87.70042 | E102: =ROUND(E29/$B29*100,5) -> 76.45212 | F102: =ROUND(F29/$B29*100,5) -> 11.24831
A103: 2014 | B103: 100 | C103: =ROUND(C30/$B30*100,5) -> 12.10036 | D103: =ROUND(D30/$B30*100,5) -> 87.89964 | E103: =ROUND(E30/$B30*100,5) -> 77.10878 | F103: =ROUND(F30/$B30*100,5) -> 10.79086
... A114: 2025 | B114: 100 | C114: =ROUND(C41/$B41*100,5) -> 9.70714 | D114: =ROUND(D41/$B41*100,5) -> 90.29286 | E114: =ROUND(E41/$B41*100,5) -> 82.01959 | F114: =ROUND(F41/$B41*100,5) -> 8.27327
A115: _____
A116: Die Daten für die Jahre 1991 bis 2018 werden hier teilweise nicht dargestellt. In der Excel-Version dieser Veröffentlichung sind die Angaben vorhanden.

Sheet T2
B1: 2 Erwerbstätige am Arbeitsort im Land Brandenburg 1991 bis 2025 nach ausgewählten Wirtschaftsbereichen | I1: 2 Erwerbstätige am Arbeitsort im Land Brandenburg 1991 bis 2025 nach ausgewählten Wirtschaftsbereichen
B3: Jahr | C3: Ins- gesamt | D3: Land- und Forst- wirtschaft, Fischerei | E3: Produ- zierendes Gewerbe | F3: Davon | I3: Dienst- leistungs- bereiche | J3: Davon | T3: Jahr
F4: Produ- zierendes Gewerbe ohne Baugewerbe | G4: darunter | H4: Bau- gewerbe | J4: Handel, Verkehr und Lagerei, Gast- gewerbe, Infor- mation und Kommuni- kation | K4: Davon | M4: Finanz-, Versich.- und Unter- nehmens- dienst- leister, Grund- stücks- u. Wohnungs- wesen | N4: Davon | Q4: Öffentliche und sonstige Dienst- leister, Erziehung und Gesund- heit, priv. Haushalte | R4: Davon
G5: Verarbei-tendes Gewerbe | K5: Handel, Verkehr und Lagerei, Gast- gewerbe | L5: Infor- mation und Kommuni- kation | N5: Finanz- und Versich.- dienst- leister | O5: Grund- stücks- und Wohnungs- wesen | P5: Unter- nehmens- dienst- leister | R5: Öffentl. Dienst- leister, Erziehung, Gesund- heit | S5: Sonstige Dienst- leister, private Haushalte
C7: Jahresdurchschnitt in 1 000 Personen | I7: Jahresdurchschnitt in 1 000 Personen
B8: 1991 | C8: 1191.026 | D8: 77.858 | E8: 429.021 | F8: 301.734 | G8: 236.981 | H8: 127.287 | I8: 684.147 | J8: 260.359 | K8: • | L8: • | M8: 86.246 | N8: • | O8: • | P8: • | Q8: 337.542 | R8: • | S8: • | T8: 1991
B9: 1992 | C9: 1063.011 | D9: 53.028 | E9: 351.197 | F9: 213.248 | G9: 161.651 | H9: 137.949 | I9: 658.786 | J9: 246.021 | K9: • | L9: • | M9: 83.78 | N9: • | O9: • | P9: • | Q9: 328.985 | R9: • | S9: • | T9: 1992
B10: 1993 | C10: 1031.561 | D10: 44.109 | E10: 340.343 | F10: 182.866 | G10: 139.699 | H10: 157.477 | I10: 647.109 | J10: 242.659 | K10: • | L10: • | M10: 86.806 | N10: • | O10: • | P10: • | Q10: 317.644 | R10: • | S10: • | T10: 1993
B11: 1994 | C11: 1063.426 | D11: 42.605 | E11: 350.726 | F11: 173.595 | G11: 133.52 | H11: 177.131 | I11: 670.095 | J11: 251.326 | K11: • | L11: • | M11: 94.111 | N11: • | O11: • | P11: • | Q11: 324.658 | R11: • | S11: • | T11: 1994
B12: 1995 | C12: 1088.752 | D12: 42.766 | E12: 362.584 | F12: 173.231 | G12: 133.21 | H12: 189.353 | I12: 683.402 | J12: 255.685 | K12: • | L12: • | M12: 96.549 | N12: • | O12: • | P12: • | Q12: 331.168 | R12: • | S12: • | T12: 1995
B13: 1996 | C13: 1087.474 | D13: 41.05 | E13: 350.567 | F13: 166.472 | G13: 131.588 | H13: 184.095 | I13: 695.857 | J13: 257.313 | K13: • | L13: • | M13: 102.228 | N13: • | O13: • | P13: • | Q13: 336.316 | R13: • | S13: • | T13: 1996
B14: 1997 | C14: 1087.551 | D14: 37.569 | E14: 338.095 | F14: 163.307 | G14: 130.549 | H14: 174.788 | I14: 711.887 | J14: 265.387 | K14: • | L14: • | M14: 108.647 | N14: • | O14: • | P14: • | Q14: 337.853 | R14: • | S14: • | T14: 1997
B15: 1998 | C15: 1082.924 | D15: 37.391 | E15: 320.501 | F15: 159.822 | G15: 128.782 | H15: 160.679 | I15: 725.032 | J15: 262.015 | K15: • | L15: • | M15: 117.21 | N15: • | O15: • | P15: • | Q15: 345.807 | R15: • | S15: • | T15: 1998
B16: 1999 | C16: 1088.171 | D16: 36.301 | E16: 306.904 | F16: 152.91 | G16: 123.445 | H16: 153.994 | I16: 744.966 | J16: 263.989 | K16: • | L16: • | M16: 123.927 | N16: • | O16: • | P16: • | Q16: 357.05 | R16: • | S16: • | T16: 1999
B17: 2000 | C17: 1089.825 | D17: 35.305 | E17: 294.823 | F17: 152.29 | G17: 123.417 | H17: 142.533 | I17: 759.697 | J17: 270.426 | K17: 250.334 | L17: 20.092 | M17: 126.571 | N17: 19.819 | O17: 12.796 | P17: 93.956 | Q17: 362.7 | R17: 297.475 | S17: 65.225 | T17: 2000
B18: 2001 | C18: 1063.946 | D18: 32.907 | E18: 273.734 | F18: 149.109 | G18: 121.099 | H18: 124.625 | I18: 757.305 | J18: 267.476 | K18: 246.784 | L18: 20.692 | M18: 127.031 | N18: 20.038 | O18: 12.187 | P18: 94.806 | Q18: 362.798 | R18: 297.816 | S18: 64.982 | T18: 2001
B19: 2002 | C19: 1043.036 | D19: 32.275 | E19: 256.139 | F19: 145.053 | G19: 117.959 | H19: 111.086 | I19: 754.622 | J19: 263.052 | K19: 242.239 | L19: 20.813 | M19: 129.612 | N19: 20.316 | O19: 12.305 | P19: 96.991 | Q19: 361.958 | R19: 297.72 | S19: 64.238 | T19: 2002
B20: 2003 | C20: 1026.88 | D20: 32.332 | E20: 241.98 | F20: 140.645 | G20: 113.689 | H20: 101.335 | I20: 752.568 | J20: 259.37 | K20: 238.453 | L20: 20.917 | M20: 133.209 | N20: 20.012 | O20: 12.195 | P20: 101.002 | Q20: 359.989 | R20: 295.969 | S20: 64.02 | T20: 2003
B21: 2004 | C21: 1029.555 | D21: 32.024 | E21: 233.15 | F21: 137.023 | G21: 110.645 | H21: 96.127 | I21: 764.381 | J21: 263.522 | K21: 242.469 | L21: 21.053 | M21: 139.015 | N21: 19.544 | O21: 12.267 | P21: 107.204 | Q21: 361.844 | R21: 294.709 | S21: 67.135 | T21: 2004
B22: 2005 | C22: 1021.516 | D22: 30.087 | E22: 228.188 | F22: 134.999 | G22: 108.918 | H22: 93.189 | I22: 763.241 | J22: 260.945 | K22: 239.716 | L22: 21.229 | M22: 143.182 | N22: 19.306 | O22: 12.316 | P22: 111.56 | Q22: 359.114 | R22: 291.39 | S22: 67.724 | T22: 2005
B23: 2006 | C23: 1027.229 | D23: 29.339 | E23: 228.015 | F23: 135.157 | G23: 109.33 | H23: 92.858 | I23: 769.875 | J23: 261.139 | K23: 239.749 | L23: 21.39 | M23: 149.648 | N23: 19.391 | O23: 12.275 | P23: 117.982 | Q23: 359.088 | R23: 290.752 | S23: 68.336 | T23: 2006
B24: 2007 | C24: 1047.732 | D24: 29.939 | E24: 236.006 | F24: 141.198 | G24: 115.097 | H24: 94.808 | I24: 781.787 | J24: 264.585 | K24: 243.011 | L24: 21.574 | M24: 156.795 | N24: 18.908 | O24: 12.752 | P24: 125.135 | Q24: 360.407 | R24: 289.775 | S24: 70.632 | T24: 2007
B25: 2008 | C25: 1063.312 | D25: 30.014 | E25: 238.324 | F25: 144.441 | G25: 118.848 | H25: 93.883 | I25: 794.974 | J25: 268.067 | K25: 244.627 | L25: 23.44 | M25: 160.622 | N25: 18.652 | O25: 12.507 | P25: 129.463 | Q25: 366.285 | R25: 293.109 | S25: 73.176 | T25: 2008
B26: 2009 | C26: 1076.557 | D26: 29.918 | E26: 238.456 | F26: 144.789 | G26: 119.528 | H26: 93.667 | I26: 808.183 | J26: 269.382 | K26: 245.877 | L26: 23.505 | M26: 164.123 | N26: 19.455 | O26: 12 | P26: 132.668 | Q26: 374.678 | R26: 298.748 | S26: 75.93 | T26: 2009
B27: 2010 | C27: 1081.754 | D27: 29.027 | E27: 237.006 | F27: 144.404 | G27: 119.57 | H27: 92.602 | I27: 815.721 | J27: 270.872 | K27: 247.53 | L27: 23.342 | M27: 170.799 | N27: 19.952 | O27: 12.06 | P27: 138.787 | Q27: 374.05 | R27: 298.51 | S27: 75.54 | T27: 2010
B28: 2011 | C28: 1080.906 | D28: 29.524 | E28: 246.549 | F28: 151.348 | G28: 126.32 | H28: 95.201 | I28: 804.833 | J28: 273.852 | K28: 250.089 | L28: 23.763 | M28: 169.464 | N28: 19.265 | O28: 11.987 | P28: 138.212 | Q28: 361.517 | R28: 288.47 | S28: 73.047 | T28: 2011
... B42: 2025 | C42: 1144.106 | D42: 24.345 | E42: 244.682 | F42: 153.29 | G42: 129.324 | H42: 91.392 | I42: 875.079 | J42: 280.314 | K42: 263.095 | L42: 17.219 | M42: 174.871 | N42: 14.495 | O42: 14.302 | P42: 146.074 | Q42: 419.894 | R42: 354.5 | S42: 65.394 | T42: 2025
C44: Veränderung zum Vorjahr in % | I44: Veränderung zum Vorjahr in %
B45: 1992 | C45: =ROUND(C9/C8*100-100,5) -> -10.7483 | D45: =ROUND(D9/D8*100-100,5) -> -31.89139 | E45: =ROUND(E9/E8*100-100,5) -> -18.1399 | F45: =ROUND(F9/F8*100-100,5) -> -29.32583 | G45: =ROUND(G9/G8*100-100,5) -> -31.78736 | H45: =ROUND(H9/H8*100-100,5) -> 8.37635 | I45: =ROUND(I9/I8*100-100,5) -> -3.70695 | J45: =ROUND(J9/J8*100-100,5) -> -5.50701 | K45: • | L45: • | M45: =ROUND(M9/M8*100-100,5) -> -2.85926 | N45: • | O45: • | P45: • | Q45: =ROUND(Q9/Q8*100-100,5) -> -2.53509 | R45: • | S45: • | T45: 1992
B46: 1993 | C46: =ROUND(C10/C9*100-100,5) -> -2.95858 | D46: =ROUND(D10/D9*100-100,5) -> -16.81942 | E46: =ROUND(E10/E9*100-100,5) -> -3.09057 | F46: =ROUND(F10/F9*100-100,5) -> -14.24726 | G46: =ROUND(G10/G9*100-100,5) -> -13.57987 | H46: =ROUND(H10/H9*100-100,5) -> 14.15596 | I46: =ROUND(I10/I9*100-100,5) -> -1.7725 | J46: =ROUND(J10/J9*100-100,5) -> -1.36655 | K46: • | L46: • | M46: =ROUND(M10/M9*100-100,5) -> 3.61184 | N46: • | O46: • | P46: • | Q46: =ROUND(Q10/Q9*100-100,5) -> -3.44727 | R46: • | S46: • | T46: 1993
B47: 1994 | C47: =ROUND(C11/C10*100-100,5) -> 3.08901 | D47: =ROUND(D11/D10*100-100,5) -> -3.40973 | E47: =ROUND(E11/E10*100-100,5) -> 3.05075 | F47: =ROUND(F11/F10*100-100,5) -> -5.06983 | G47: =ROUND(G11/G10*100-100,5) -> -4.42308 | H47: =ROUND(H11/H10*100-100,5) -> 12.48055 | I47: =ROUND(I11/I10*100-100,5) -> 3.55211 | J47: =ROUND(J11/J10*100-100,5) -> 3.57168 | K47: • | L47: • | M47: =ROUND(M11/M10*100-100,5) -> 8.41532 | N47: • | O47: • | P47: • | Q47: =ROUND(Q11/Q10*100-100,5) -> 2.20813 | R47: • | S47: • | T47: 1994
B48: 1995 | C48: =ROUND(C12/C11*100-100,5) -> 2.38155 | D48: =ROUND(D12/D11*100-100,5) -> 0.37789 | E48: =ROUND(E12/E11*100-100,5) -> 3.38099 | F48: =ROUND(F12/F11*100-100,5) -> -0.20968 | G48: =ROUND(G12/G11*100-100,5) -> -0.23217 | H48: =ROUND(H12/H11*100-100,5) -> 6.89998 | I48: =ROUND(I12/I11*100-100,5) -> 1.98584 | J48: =ROUND(J12/J11*100-100,5) -> 1.7344 | K48: • | L48: • | M48: =ROUND(M12/M11*100-100,5) -> 2.59056 | N48: • | O48: • | P48: • | Q48: =ROUND(Q12/Q11*100-100,5) -> 2.00519 | R48: • | S48: • | T48: 1995
B49: 1996 | C49: =ROUND(C13/C12*100-100,5) -> -0.11738 | D49: =ROUND(D13/D12*100-100,5) -> -4.01253 | E49: =ROUND(E13/E12*100-100,5) -> -3.31427 | F49: =ROUND(F13/F12*100-100,5) -> -3.90173 | G49: =ROUND(G13/G12*100-100,5) -> -1.21763 | H49: =ROUND(H13/H12*100-100,5) -> -2.77682 | I49: =ROUND(I13/I12*100-100,5) -> 1.8225 | J49: =ROUND(J13/J12*100-100,5) -> 0.63672 | K49: • | L49: • | M49: =ROUND(M13/M12*100-100,5) -> 5.88199 | N49: • | O49: • | P49: • | Q49: =ROUND(Q13/Q12*100-100,5) -> 1.5545 | R49: • | S49: • | T49: 1996
B50: 1997 | C50: =ROUND(C14/C13*100-100,5) -> 0.00708 | D50: =ROUND(D14/D13*100-100,5) -> -8.4799 | E50: =ROUND(E14/E13*100-100,5) -> -3.55767 | F50: =ROUND(F14/F13*100-100,5) -> -1.90122 | G50: =ROUND(G14/G13*100-100,5) -> -0.78959 | H50: =ROUND(H14/H13*100-100,5) -> -5.05554 | I50: =ROUND(I14/I13*100-100,5) -> 2.30363 | J50: =ROUND(J14/J13*100-100,5) -> 3.13781 | K50: • | L50: • | M50: =ROUND(M14/M13*100-100,5) -> 6.2791 | N50: • | O50: • | P50: • | Q50: =ROUND(Q14/Q13*100-100,5) -> 0.45701 | R50: • | S50: • | T50: 1997
B51: 1998 | C51: =ROUND(C15/C14*100-100,5) -> -0.42545 | D51: =ROUND(D15/D14*100-100,5) -> -0.47379 | E51: =ROUND(E15/E14*100-100,5) -> -5.20386 | F51: =ROUND(F15/F14*100-100,5) -> -2.13402 | G51: =ROUND(G15/G14*100-100,5) -> -1.35351 | H51: =ROUND(H15/H14*100-100,5) -> -8.07206 | I51: =ROUND(I15/I14*100-100,5) -> 1.8465 | J51: =ROUND(J15/J14*100-100,5) -> -1.2706 | K51: • | L51: • | M51: =ROUND(M15/M14*100-100,5) -> 7.88149 | N51: • | O51: • | P51: • | Q51: =ROUND(Q15/Q14*100-100,5) -> 2.35428 | R51: • | S51: • | T51: 1998
B52: 1999 | C52: =ROUND(C16/C15*100-100,5) -> 0.48452 | D52: =ROUND(D16/D15*100-100,5) -> -2.91514 | E52: =ROUND(E16/E15*100-100,5) -> -4.24242 | F52: =ROUND(F16/F15*100-100,5) -> -4.32481 | G52: =ROUND(G16/G15*100-100,5) -> -4.14421 | H52: =ROUND(H16/H15*100-100,5) -> -4.16047 | I52: =ROUND(I16/I15*100-100,5) -> 2.7494 | J52: =ROUND(J16/J15*100-100,5) -> 0.75339 | K52: • | L52: • | M52: =ROUND(M16/M15*100-100,5) -> 5.73074 | N52: • | O52: • | P52: • | Q52: =ROUND(Q16/Q15*100-100,5) -> 3.25124 | R52: • | S52: • | T52: 1999
B53: 2000 | C53: =ROUND(C17/C16*100-100,5) -> 0.152 | D53: =ROUND(D17/D16*100-100,5) -> -2.74373 | E53: =ROUND(E17/E16*100-100,5) -> -3.93641 | F53: =ROUND(F17/F16*100-100,5) -> -0.40547 | G53: =ROUND(G17/G16*100-100,5) -> -0.02268 | H53: =ROUND(H17/H16*100-100,5) -> -7.4425 | I53: =ROUND(I17/I16*100-100,5) -> 1.97741 | J53: =ROUND(J17/J16*100-100,5) -> 2.43836 | K53: • | L53: • | M53: =ROUND(M17/M16*100-100,5) -> 2.13351 | N53: • | O53: • | P53: • | Q53: =ROUND(Q17/Q16*100-100,5) -> 1.58241 | R53: • | S53: • | T53: 2000
B54: 2001 | C54: =ROUND(C18/C17*100-100,5) -> -2.3746 | D54: =ROUND(D18/D17*100-100,5) -> -6.79224 | E54: =ROUND(E18/E17*100-100,5) -> -7.15311 | F54: =ROUND(F18/F17*100-100,5) -> -2.08878 | G54: =ROUND(G18/G17*100-100,5) -> -1.87819 | H54: =ROUND(H18/H17*100-100,5) -> -12.56411 | I54: =ROUND(I18/I17*100-100,5) -> -0.31486 | J54: =ROUND(J18/J17*100-100,5) -> -1.09087 | ... S54: =ROUND(S18/S17*100-100,5) -> -0.37256 | T54: 2001
B55: 2002 | C55: =ROUND(C19/C18*100-100,5) -> -1.96533 | D55: =ROUND(D19/D18*100-100,5) -> -1.92056 | E55: =ROUND(E19/E18*100-100,5) -> -6.42777 | F55: =ROUND(F19/F18*100-100,5) -> -2.72016 | G55: =ROUND(G19/G18*100-100,5) -> -2.59292 | H55: =ROUND(H19/H18*100-100,5) -> -10.86379 | I55: =ROUND(I19/I18*100-100,5) -> -0.35428 | J55: =ROUND(J19/J18*100-100,5) -> -1.65398 | ... S55: =ROUND(S19/S18*100-100,5) -> -1.14493 | T55: 2002
B56: 2003 | C56: =ROUND(C20/C19*100-100,5) -> -1.54894 | D56: =ROUND(D20/D19*100-100,5) -> 0.17661 | E56: =ROUND(E20/E19*100-100,5) -> -5.52786 | F56: =ROUND(F20/F19*100-100,5) -> -3.03889 | G56: =ROUND(G20/G19*100-100,5) -> -3.6199 | H56: =ROUND(H20/H19*100-100,5) -> -8.77788 | I56: =ROUND(I20/I19*100-100,5) -> -0.27219 | J56: =ROUND(J20/J19*100-100,5) -> -1.39972 | ... S56: =ROUND(S20/S19*100-100,5) -> -0.33936 | T56: 2003
B57: 2004 | C57: =ROUND(C21/C20*100-100,5) -> 0.2605 | D57: =ROUND(D21/D20*100-100,5) -> -0.95262 | E57: =ROUND(E21/E20*100-100,5) -> -3.64906 | F57: =ROUND(F21/F20*100-100,5) -> -2.57528 | G57: =ROUND(G21/G20*100-100,5) -> -2.67748 | H57: =ROUND(H21/H20*100-100,5) -> -5.13939 | I57: =ROUND(I21/I20*100-100,5) -> 1.56969 | J57: =ROUND(J21/J20*100-100,5) -> 1.6008 | ... S57: =ROUND(S21/S20*100-100,5) -> 4.86567 | T57: 2004
B58: 2005 | C58: =ROUND(C22/C21*100-100,5) -> -0.78082 | D58: =ROUND(D22/D21*100-100,5) -> -6.04859 | E58: =ROUND(E22/E21*100-100,5) -> -2.12824 | F58: =ROUND(F22/F21*100-100,5) -> -1.47712 | G58: =ROUND(G22/G21*100-100,5) -> -1.56085 | H58: =ROUND(H22/H21*100-100,5) -> -3.05637 | I58: =ROUND(I22/I21*100-100,5) -> -0.14914 | J58: =ROUND(J22/J21*100-100,5) -> -0.97791 | ... S58: =ROUND(S22/S21*100-100,5) -> 0.87734 | T58: 2005
B59: 2006 | C59: =ROUND(C23/C22*100-100,5) -> 0.55927 | D59: =ROUND(D23/D22*100-100,5) -> -2.48612 | E59: =ROUND(E23/E22*100-100,5) -> -0.07581 | F59: =ROUND(F23/F22*100-100,5) -> 0.11704 | G59: =ROUND(G23/G22*100-100,5) -> 0.37827 | H59: =ROUND(H23/H22*100-100,5) -> -0.35519 | I59: =ROUND(I23/I22*100-100,5) -> 0.86919 | J59: =ROUND(J23/J22*100-100,5) -> 0.07435 | ... S59: =ROUND(S23/S22*100-100,5) -> 0.90367 | T59: 2006
B60: 2007 | C60: =ROUND(C24/C23*100-100,5) -> 1.99595 | D60: =ROUND(D24/D23*100-100,5) -> 2.04506 | E60: =ROUND(E24/E23*100-100,5) -> 3.50459 | F60: =ROUND(F24/F23*100-100,5) -> 4.46962 | G60: =ROUND(G24/G23*100-100,5) -> 5.27486 | H60: =ROUND(H24/H23*100-100,5) -> 2.09998 | I60: =ROUND(I24/I23*100-100,5) -> 1.54726 | J60: =ROUND(J24/J23*100-100,5) -> 1.3196 | ... S60: =ROUND(S24/S23*100-100,5) -> 3.35987 | T60: 2007
B61: 2008 | C61: =ROUND(C25/C24*100-100,5) -> 1.48702 | D61: =ROUND(D25/D24*100-100,5) -> 0.25051 | E61: =ROUND(E25/E24*100-100,5) -> 0.98218 | F61: =ROUND(F25/F24*100-100,5) -> 2.29677 | G61: =ROUND(G25/G24*100-100,5) -> 3.25899 | H61: =ROUND(H25/H24*100-100,5) -> -0.97566 | I61: =ROUND(I25/I24*100-100,5) -> 1.68678 | J61: =ROUND(J25/J24*100-100,5) -> 1.31602 | ... S61: =ROUND(S25/S24*100-100,5) -> 3.60177 | T61: 2008
B62: 2009 | C62: =ROUND(C26/C25*100-100,5) -> 1.24564 | D62: =ROUND(D26/D25*100-100,5) -> -0.31985 | E62: =ROUND(E26/E25*100-100,5) -> 0.05539 | F62: =ROUND(F26/F25*100-100,5) -> 0.24093 | G62: =ROUND(G26/G25*100-100,5) -> 0.57216 | H62: =ROUND(H26/H25*100-100,5) -> -0.23007 | I62: =ROUND(I26/I25*100-100,5) -> 1.66156 | J62: =ROUND(J26/J25*100-100,5) -> 0.49055 | ... S62: =ROUND(S26/S25*100-100,5) -> 3.76353 | T62: 2009
B63: 2010 | C63: =ROUND(C27/C26*100-100,5) -> 0.48274 | D63: =ROUND(D27/D26*100-100,5) -> -2.97814 | E63: =ROUND(E27/E26*100-100,5) -> -0.60808 | F63: =ROUND(F27/F26*100-100,5) -> -0.2659 | G63: =ROUND(G27/G26*100-100,5) -> 0.03514 | H63: =ROUND(H27/H26*100-100,5) -> -1.13701 | I63: =ROUND(I27/I26*100-100,5) -> 0.93271 | J63: =ROUND(J27/J26*100-100,5) -> 0.55312 | ... S63: =ROUND(S27/S26*100-100,5) -> -0.51363 | T63: 2010
B64: 2011 | C64: =ROUND(C28/C27*100-100,5) -> -0.07839 | D64: =ROUND(D28/D27*100-100,5) -> 1.7122 | E64: =ROUND(E28/E27*100-100,5) -> 4.02648 | F64: =ROUND(F28/F27*100-100,5) -> 4.80873 | G64: =ROUND(G28/G27*100-100,5) -> 5.64523 | H64: =ROUND(H28/H27*100-100,5) -> 2.80663 | I64: =ROUND(I28/I27*100-100,5) -> -1.33477 | J64: =ROUND(J28/J27*100-100,5) -> 1.10015 | ... S64: =ROUND(S28/S27*100-100,5) -> -3.30024 | T64: 2011
B65: 2012 | C65: =ROUND(C29/C28*100-100,5) -> 0.24035 | D65: =ROUND(D29/D28*100-100,5) -> -0.15242 | E65: =ROUND(E29/E28*100-100,5) -> 0.68384 | F65: =ROUND(F29/F28*100-100,5) -> 0.77041 | G65: =ROUND(G29/G28*100-100,5) -> 1.30937 | H65: =ROUND(H29/H28*100-100,5) -> 0.54621 | I65: =ROUND(I29/I28*100-100,5) -> 0.11891 | J65: =ROUND(J29/J28*100-100,5) -> 1.52162 | ... S65: =ROUND(S29/S28*100-100,5) -> -2.52714 | T65: 2012
... B78: 2025 | C78: =ROUND(C42/C41*100-100,5) -> -0.23248 | D78: =ROUND(D42/D41*100-100,5) -> -4.984 | E78: =ROUND(E42/E41*100-100,5) -> -2.08137 | F78: =ROUND(F42/F41*100-100,5) -> -2.30519 | G78: =ROUND(G42/G41*100-100,5) -> -2.98202 | H78: =ROUND(H42/H41*100-100,5) -> -1.70367 | I78: =ROUND(I42/I41*100-100,5) -> 0.43752 | J78: =ROUND(J42/J41*100-100,5) -> -0.1649 | ... S78: =ROUND(S42/S41*100-100,5) -> -1.66759 | T78: 2025
C80: Anteil an den Erwerbstätigen insgesamt in % | I80: Anteil an den Erwerbstätigen insgesamt in %
B81: 1991 | C81: 100 | D81: =ROUND(D8/$C8*100,5) -> 6.53705 | E81: =ROUND(E8/$C8*100,5) -> 36.02113 | F81: =ROUND(F8/$C8*100,5) -> 25.33396 | G81: =ROUND(G8/$C8*100,5) -> 19.89721 | H81: =ROUND(H8/$C8*100,5) -> 10.68717 | I81: =ROUND(I8/$C8*100,5) -> 57.44182 | J81: =ROUND(J8/$C8*100,5) -> 21.86006 | K81: • | L81: • | M81: =ROUND(M8/$C8*100,5) -> 7.24132 | N81: • | O81: • | P81: • | Q81: =ROUND(Q8/$C8*100,5) -> 28.34044 | R81: • | S81: • | T81: 1991
B82: 1992 | C82: 100 | D82: =ROUND(D9/$C9*100,5) -> 4.98847 | E82: =ROUND(E9/$C9*100,5) -> 33.03795 | F82: =ROUND(F9/$C9*100,5) -> 20.06075 | G82: =ROUND(G9/$C9*100,5) -> 15.2069 | H82: =ROUND(H9/$C9*100,5) -> 12.97719 | I82: =ROUND(I9/$C9*100,5) -> 61.97358 | J82: =ROUND(J9/$C9*100,5) -> 23.14379 | K82: • | L82: • | M82: =ROUND(M9/$C9*100,5) -> 7.88139 | N82: • | O82: • | P82: • | Q82: =ROUND(Q9/$C9*100,5) -> 30.94841 | R82: • | S82: • | T82: 1992
B83: 1993 | C83: 100 | D83: =ROUND(D10/$C10*100,5) -> 4.27595 | E83: =ROUND(E10/$C10*100,5) -> 32.99301 | F83: =ROUND(F10/$C10*100,5) -> 17.72711 | G83: =ROUND(G10/$C10*100,5) -> 13.54249 | H83: =ROUND(H10/$C10*100,5) -> 15.26589 | I83: =ROUND(I10/$C10*100,5) -> 62.73105 | J83: =ROUND(J10/$C10*100,5) -> 23.52348 | K83: • | L83: • | M83: =ROUND(M10/$C10*100,5) -> 8.41501 | N83: • | O83: • | P83: • | Q83: =ROUND(Q10/$C10*100,5) -> 30.79256 | R83: • | S83: • | T83: 1993
B84: 1994 | C84: 100 | D84: =ROUND(D11/$C11*100,5) -> 4.00639 | E84: =ROUND(E11/$C11*100,5) -> 32.98076 | F84: =ROUND(F11/$C11*100,5) -> 16.32413 | G84: =ROUND(G11/$C11*100,5) -> 12.55565 | H84: =ROUND(H11/$C11*100,5) -> 16.65664 | I84: =ROUND(I11/$C11*100,5) -> 63.01285 | J84: =ROUND(J11/$C11*100,5) -> 23.63361 | K84: • | L84: • | M84: =ROUND(M11/$C11*100,5) -> 8.84979 | N84: • | O84: • | P84: • | Q84: =ROUND(Q11/$C11*100,5) -> 30.52944 | R84: • | S84: • | T84: 1994
B85: 1995 | C85: 100 | D85: =ROUND(D12/$C12*100,5) -> 3.92798 | E85: =ROUND(E12/$C12*100,5) -> 33.30272 | F85: =ROUND(F12/$C12*100,5) -> 15.91097 | G85: =ROUND(G12/$C12*100,5) -> 12.23511 | H85: =ROUND(H12/$C12*100,5) -> 17.39175 | I85: =ROUND(I12/$C12*100,5) -> 62.7693 | J85: =ROUND(J12/$C12*100,5) -> 23.48423 | K85: • | L85: • | M85: =ROUND(M12/$C12*100,5) -> 8.86786 | N85: • | O85: • | P85: • | Q85: =ROUND(Q12/$C12*100,5) -> 30.41721 | R85: • | S85: • | T85: 1995
B86: 1996 | C86: 100 | D86: =ROUND(D13/$C13*100,5) -> 3.7748 | E86: =ROUND(E13/$C13*100,5) -> 32.23682 | F86: =ROUND(F13/$C13*100,5) -> 15.30814 | G86: =ROUND(G13/$C13*100,5) -> 12.10034 | H86: =ROUND(H13/$C13*100,5) -> 16.92868 | I86: =ROUND(I13/$C13*100,5) -> 63.98838 | J86: =ROUND(J13/$C13*100,5) -> 23.66153 | K86: • | L86: • | M86: =ROUND(M13/$C13*100,5) -> 9.4005 | N86: • | O86: • | P86: • | Q86: =ROUND(Q13/$C13*100,5) -> 30.92635 | R86: • | S86: • | T86: 1996
B87: 1997 | C87: 100 | D87: =ROUND(D14/$C14*100,5) -> 3.45446 | E87: =ROUND(E14/$C14*100,5) -> 31.08774 | F87: =ROUND(F14/$C14*100,5) -> 15.01603 | G87: =ROUND(G14/$C14*100,5) -> 12.00394 | H87: =ROUND(H14/$C14*100,5) -> 16.07171 | I87: =ROUND(I14/$C14*100,5) -> 65.4578 | J87: =ROUND(J14/$C14*100,5) -> 24.40226 | K87: • | L87: • | M87: =ROUND(M14/$C14*100,5) -> 9.99006 | N87: • | O87: • | P87: • | Q87: =ROUND(Q14/$C14*100,5) -> 31.06549 | R87: • | S87: • | T87: 1997
B88: 1998 | C88: 100 | D88: =ROUND(D15/$C15*100,5) -> 3.45278 | E88: =ROUND(E15/$C15*100,5) -> 29.59589 | F88: =ROUND(F15/$C15*100,5) -> 14.75838 | G88: =ROUND(G15/$C15*100,5) -> 11.89206 | H88: =ROUND(H15/$C15*100,5) -> 14.83751 | I88: =ROUND(I15/$C15*100,5) -> 66.95133 | J88: =ROUND(J15/$C15*100,5) -> 24.19514 | K88: • | L88: • | M88: =ROUND(M15/$C15*100,5) -> 10.82347 | N88: • | O88: • | P88: • | Q88: =ROUND(Q15/$C15*100,5) -> 31.93271 | R88: • | S88: • | T88: 1998
B89: 1999 | C89: 100 | D89: =ROUND(D16/$C16*100,5) -> 3.33596 | E89: =ROUND(E16/$C16*100,5) -> 28.20366 | F89: =ROUND(F16/$C16*100,5) -> 14.05202 | G89: =ROUND(G16/$C16*100,5) -> 11.34426 | H89: =ROUND(H16/$C16*100,5) -> 14.15164 | I89: =ROUND(I16/$C16*100,5) -> 68.46038 | J89: =ROUND(J16/$C16*100,5) -> 24.25988 | K89: • | L89: • | M89: =ROUND(M16/$C16*100,5) -> 11.38856 | N89: • | O89: • | P89: • | Q89: =ROUND(Q16/$C16*100,5) -> 32.81194 | R89: • | S89: • | T89: 1999
B90: 2000 | C90: 100 | D90: =ROUND(D17/$C17*100,5) -> 3.23951 | E90: =ROUND(E17/$C17*100,5) -> 27.05232 | F90: =ROUND(F17/$C17*100,5) -> 13.9738 | G90: =ROUND(G17/$C17*100,5) -> 11.32448 | H90: =ROUND(H17/$C17*100,5) -> 13.07852 | I90: =ROUND(I17/$C17*100,5) -> 69.70816 | J90: =ROUND(J17/$C17*100,5) -> 24.81371 | K90: =ROUND(K17/$C17*100,5) -> 22.97011 | ... S90: =ROUND(S17/$C17*100,5) -> 5.98491 | T90: 2000
B91: 2001 | C91: 100 | D91: =ROUND(D18/$C18*100,5) -> 3.09292 | E91: =ROUND(E18/$C18*100,5) -> 25.72819 | F91: =ROUND(F18/$C18*100,5) -> 14.01472 | G91: =ROUND(G18/$C18*100,5) -> 11.38206 | H91: =ROUND(H18/$C18*100,5) -> 11.71347 | I91: =ROUND(I18/$C18*100,5) -> 71.17889 | J91: =ROUND(J18/$C18*100,5) -> 25.14 | K91: =ROUND(K18/$C18*100,5) -> 23.19516 | ... S91: =ROUND(S18/$C18*100,5) -> 6.10764 | T91: 2001
B92: 2002 | C92: 100 | D92: =ROUND(D19/$C19*100,5) -> 3.09433 | E92: =ROUND(E19/$C19*100,5) -> 24.55706 | F92: =ROUND(F19/$C19*100,5) -> 13.90681 | G92: =ROUND(G19/$C19*100,5) -> 11.3092 | H92: =ROUND(H19/$C19*100,5) -> 10.65026 | I92: =ROUND(I19/$C19*100,5) -> 72.34861 | J92: =ROUND(J19/$C19*100,5) -> 25.21984 | K92: =ROUND(K19/$C19*100,5) -> 23.22441 | ... S92: =ROUND(S19/$C19*100,5) -> 6.15875 | T92: 2002
B93: 2003 | C93: 100 | D93: =ROUND(D20/$C20*100,5) -> 3.14857 | E93: =ROUND(E20/$C20*100,5) -> 23.56458 | F93: =ROUND(F20/$C20*100,5) -> 13.69634 | G93: =ROUND(G20/$C20*100,5) -> 11.0713 | H93: =ROUND(H20/$C20*100,5) -> 9.86824 | I93: =ROUND(I20/$C20*100,5) -> 73.28685 | J93: =ROUND(J20/$C20*100,5) -> 25.25806 | K93: =ROUND(K20/$C20*100,5) -> 23.22112 | ... S93: =ROUND(S20/$C20*100,5) -> 6.23442 | T93: 2003
B94: 2004 | C94: 100 | D94: =ROUND(D21/$C21*100,5) -> 3.11047 | E94: =ROUND(E21/$C21*100,5) -> 22.64571 | F94: =ROUND(F21/$C21*100,5) -> 13.30895 | G94: =ROUND(G21/$C21*100,5) -> 10.74688 | H94: =ROUND(H21/$C21*100,5) -> 9.33675 | I94: =ROUND(I21/$C21*100,5) -> 74.24382 | J94: =ROUND(J21/$C21*100,5) -> 25.59572 | K94: =ROUND(K21/$C21*100,5) -> 23.55085 | ... S94: =ROUND(S21/$C21*100,5) -> 6.52078 | T94: 2004
B95: 2005 | C95: 100 | D95: =ROUND(D22/$C22*100,5) -> 2.94533 | E95: =ROUND(E22/$C22*100,5) -> 22.33817 | F95: =ROUND(F22/$C22*100,5) -> 13.21555 | G95: =ROUND(G22/$C22*100,5) -> 10.66239 | H95: =ROUND(H22/$C22*100,5) -> 9.12262 | I95: =ROUND(I22/$C22*100,5) -> 74.7165 | J95: =ROUND(J22/$C22*100,5) -> 25.54488 | K95: =ROUND(K22/$C22*100,5) -> 23.46669 | ... S95: =ROUND(S22/$C22*100,5) -> 6.62975 | T95: 2005
B96: 2006 | C96: 100 | D96: =ROUND(D23/$C23*100,5) -> 2.85613 | E96: =ROUND(E23/$C23*100,5) -> 22.1971 | F96: =ROUND(F23/$C23*100,5) -> 13.15744 | G96: =ROUND(G23/$C23*100,5) -> 10.6432 | H96: =ROUND(H23/$C23*100,5) -> 9.03966 | I96: =ROUND(I23/$C23*100,5) -> 74.94677 | J96: =ROUND(J23/$C23*100,5) -> 25.42169 | K96: =ROUND(K23/$C23*100,5) -> 23.33939 | ... S96: =ROUND(S23/$C23*100,5) -> 6.65246 | T96: 2006
B97: 2007 | C97: 100 | D97: =ROUND(D24/$C24*100,5) -> 2.85751 | E97: =ROUND(E24/$C24*100,5) -> 22.52542 | F97: =ROUND(F24/$C24*100,5) -> 13.47654 | G97: =ROUND(G24/$C24*100,5) -> 10.98535 | H97: =ROUND(H24/$C24*100,5) -> 9.04888 | I97: =ROUND(I24/$C24*100,5) -> 74.61708 | J97: =ROUND(J24/$C24*100,5) -> 25.25312 | K97: =ROUND(K24/$C24*100,5) -> 23.194 | ... S97: =ROUND(S24/$C24*100,5) -> 6.74142 | T97: 2007
B98: 2008 | C98: 100 | D98: =ROUND(D25/$C25*100,5) -> 2.82269 | E98: =ROUND(E25/$C25*100,5) -> 22.41337 | F98: =ROUND(F25/$C25*100,5) -> 13.58407 | G98: =ROUND(G25/$C25*100,5) -> 11.17715 | H98: =ROUND(H25/$C25*100,5) -> 8.8293 | I98: =ROUND(I25/$C25*100,5) -> 74.76395 | J98: =ROUND(J25/$C25*100,5) -> 25.21057 | K98: =ROUND(K25/$C25*100,5) -> 23.00614 | ... S98: =ROUND(S25/$C25*100,5) -> 6.88189 | T98: 2008
B99: 2009 | C99: 100 | D99: =ROUND(D26/$C26*100,5) -> 2.77904 | E99: =ROUND(E26/$C26*100,5) -> 22.14987 | F99: =ROUND(F26/$C26*100,5) -> 13.44926 | G99: =ROUND(G26/$C26*100,5) -> 11.1028 | H99: =ROUND(H26/$C26*100,5) -> 8.70061 | I99: =ROUND(I26/$C26*100,5) -> 75.07108 | J99: =ROUND(J26/$C26*100,5) -> 25.02255 | K99: =ROUND(K26/$C26*100,5) -> 22.8392 | ... S99: =ROUND(S26/$C26*100,5) -> 7.05304 | T99: 2009
B100: 2010 | C100: 100 | D100: =ROUND(D27/$C27*100,5) -> 2.68333 | E100: =ROUND(E27/$C27*100,5) -> 21.90942 | F100: =ROUND(F27/$C27*100,5) -> 13.34906 | G100: =ROUND(G27/$C27*100,5) -> 11.05334 | H100: =ROUND(H27/$C27*100,5) -> 8.56036 | I100: =ROUND(I27/$C27*100,5) -> 75.40726 | J100: =ROUND(J27/$C27*100,5) -> 25.04007 | K100: =ROUND(K27/$C27*100,5) -> 22.88228 | ... S100: =ROUND(S27/$C27*100,5) -> 6.9831 | T100: 2010
B101: 2011 | C101: 100 | D101: =ROUND(D28/$C28*100,5) -> 2.73141 | E101: =ROUND(E28/$C28*100,5) -> 22.80948 | F101: =ROUND(F28/$C28*100,5) -> 14.00196 | G101: =ROUND(G28/$C28*100,5) -> 11.68649 | H101: =ROUND(H28/$C28*100,5) -> 8.80752 | I101: =ROUND(I28/$C28*100,5) -> 74.45911 | J101: =ROUND(J28/$C28*100,5) -> 25.33541 | K101: =ROUND(K28/$C28*100,5) -> 23.13698 | ... S101: =ROUND(S28/$C28*100,5) -> 6.75794 | T101: 2011
... B115: 2025 | C115: 100 | D115: =ROUND(D42/$C42*100,5) -> 2.12786 | E115: =ROUND(E42/$C42*100,5) -> 21.38631 | F115: =ROUND(F42/$C42*100,5) -> 13.39823 | G115: =ROUND(G42/$C42*100,5) -> 11.3035 | H115: =ROUND(H42/$C42*100,5) -> 7.98807 | I115: =ROUND(I42/$C42*100,5) -> 76.48583 | J115: =ROUND(J42/$C42*100,5) -> 24.5007 | K115: =ROUND(K42/$C42*100,5) -> 22.99568 | ... S115: =ROUND(S42/$C42*100,5) -> 5.71573 | T115: 2025
B116: _____
B117: Die Daten für die Jahre 1991 bis 2021 werden hier teilweise nicht dargestellt. In der Excel-Version dieser Veröffentlichung sind die Angaben vorhanden.

Sheet T3
B1: 3 Arbeitnehmer am Arbeitsort im Land Brandenburg 1991 bis 2025 nach ausgewählten Wirtschaftsbereichen | I1: 3 Arbeitnehmer am Arbeitsort im Land Brandenburg 1991 bis 2025 nach ausgewählten Wirtschaftsbereichen
B3: Jahr | C3: Ins- gesamt | D3: Land- und Forst- wirtschaft, Fischerei | E3: Produ- zierendes Gewerbe | F3: Davon | I3: Dienst- leistungs- bereiche | J3: Davon | T3: Jahr
F4: Produ- zierendes Gewerbe ohne Baugewerbe | G4: darunter | H4: Bau- gewerbe | J4: Handel, Verkehr und Lagerei, Gast- gewerbe, Infor- mation und Kommuni- kation | K4: Davon | M4: Finanz-, Versich.- und Unter- nehmens- dienst- leister, Grund- stücks- u. Wohnungs- wesen | N4: Davon | Q4: Öffentliche und sonstige Dienst- leister, Erziehung und Gesund- heit, priv. Haushalte | R4: Davon
G5: Verarbei-tendes Gewerbe | K5: Handel, Verkehr und Lagerei, Gast- gewerbe | L5: Infor- mation und Kommuni- kation | N5: Finanz- und Versich.- dienst- leister | O5: Grund- stücks- und Wohnungs- wesen | P5: Unter- nehmens- dienst- leister | R5: Öffentl. Dienst- leister, Erziehung, Gesund- heit | S5: Sonstige Dienst- leister, private Haushalte
C7: Jahresdurchschnitt in 1 000 Personen | I7: Jahresdurchschnitt in 1 000 Personen
B8: 1991 | C8: 1131.908 | D8: 74.029 | E8: 417.13 | F8: 296.647 | G8: 231.998 | H8: 120.483 | I8: 640.749 | J8: 237.194 | K8: • | L8: • | M8: 78.493 | N8: • | O8: • | P8: • | Q8: 325.062 | R8: • | S8: • | T8: 1991
B9: 1992 | C9: 992.334 | D9: 48.022 | E9: 336.991 | F9: 206.113 | G9: 154.74 | H9: 130.878 | I9: 607.321 | J9: 216.543 | K9: • | L9: • | M9: 74.969 | N9: • | O9: • | P9: • | Q9: 315.809 | R9: • | S9: • | T9: 1992
B10: 1993 | C10: 956.325 | D10: 39.185 | E10: 325.134 | F10: 175.235 | G10: 132.358 | H10: 149.899 | I10: 592.006 | J10: 211.584 | K10: • | L10: • | M10: 76.149 | N10: • | O10: • | P10: • | Q10: 304.273 | R10: • | S10: • | T10: 1993
B11: 1994 | C11: 982.344 | D11: 37.335 | E11: 334.45 | F11: 166.039 | G11: 126.24 | H11: 168.411 | I11: 610.559 | J11: 218.416 | K11: • | L11: • | M11: 81.795 | N11: • | O11: • | P11: • | Q11: 310.348 | R11: • | S11: • | T11: 1994
B12: 1995 | C12: 1005.244 | D12: 37.883 | E12: 345.344 | F12: 166.616 | G12: 126.972 | H12: 178.728 | I12: 622.017 | J12: 222.139 | K12: • | L12: • | M12: 83.638 | N12: • | O12: • | P12: • | Q12: 316.24 | R12: • | S12: • | T12: 1995
B13: 1996 | C13: 1001.266 | D13: 36.459 | E13: 331.199 | F13: 159.606 | G13: 125.086 | H13: 171.593 | I13: 633.608 | J13: 223.807 | K13: • | L13: • | M13: 88.204 | N13: • | O13: • | P13: • | Q13: 321.597 | R13: • | S13: • | T13: 1996
B14: 1997 | C14: 996.853 | D14: 33.141 | E14: 317.496 | F14: 156.595 | G14: 124.238 | H14: 160.901 | I14: 646.216 | J14: 231.689 | K14: • | L14: • | M14: 92.873 | N14: • | O14: • | P14: • | Q14: 321.654 | R14: • | S14: • | T14: 1997
B15: 1998 | C15: 987.501 | D15: 33.095 | E15: 298.855 | F15: 152.897 | G15: 122.253 | H15: 145.958 | I15: 655.551 | J15: 228.069 | K15: • | L15: • | M15: 100.172 | N15: • | O15: • | P15: • | Q15: 327.31 | R15: • | S15: • | T15: 1998
B16: 1999 | C16: 985.727 | D16: 32.043 | E16: 282.85 | F16: 145.976 | G16: 116.895 | H16: 136.874 | I16: 670.834 | J16: 229.01 | K16: • | L16: • | M16: 105.229 | N16: • | O16: • | P16: • | Q16: 336.595 | R16: • | S16: • | T16: 1999
B17: 2000 | C17: 980.845 | D17: 30.878 | E17: 269.252 | F17: 145.121 | G17: 116.635 | H17: 124.131 | I17: 680.715 | J17: 234.376 | K17: 215.475 | L17: 18.901 | M17: 106.75 | N17: 14.562 | O17: 11.325 | P17: 80.863 | Q17: 339.589 | R17: 284.981 | S17: 54.608 | T17: 2000
B18: 2001 | C18: 951.795 | D18: 28.305 | E18: 247.783 | F18: 141.527 | G18: 113.942 | H18: 106.256 | I18: 675.707 | J18: 231.427 | K18: 212.073 | L18: 19.354 | M18: 106.18 | N18: 14.261 | O18: 10.812 | P18: 81.107 | Q18: 338.1 | R18: 284.846 | S18: 53.254 | T18: 2001
B19: 2002 | C19: 930.711 | D19: 27.699 | E19: 230.102 | F19: 137.639 | G19: 110.974 | H19: 92.463 | I19: 672.91 | J19: 226.966 | K19: 207.842 | L19: 19.124 | M19: 107.414 | N19: 14.09 | O19: 10.932 | P19: 82.392 | Q19: 338.53 | R19: 285.866 | S19: 52.664 | T19: 2002
B20: 2003 | C20: 912.142 | D20: 27.709 | E20: 216.675 | F20: 133.252 | G20: 106.782 | H20: 83.423 | I20: 667.758 | J20: 222.826 | K20: 204.126 | L20: 18.7 | M20: 109.208 | N20: 13.693 | O20: 10.753 | P20: 84.762 | Q20: 335.724 | R20: 283.675 | S20: 52.049 | T20: 2003
B21: 2004 | C21: 908.752 | D21: 27.383 | E21: 207.101 | F21: 129.493 | G21: 103.603 | H21: 77.608 | I21: 674.268 | J21: 226.261 | K21: 207.73 | L21: 18.531 | M21: 112.879 | N21: 13.558 | O21: 10.83 | P21: 88.491 | Q21: 335.128 | R21: 281.788 | S21: 53.34 | T21: 2004
B22: 2005 | C22: 892.439 | D22: 25.372 | E22: 197.583 | F22: 127.303 | G22: 101.772 | H22: 70.28 | I22: 669.484 | J22: 223.466 | K22: 205.019 | L22: 18.447 | M22: 115.164 | N22: 13.347 | O22: 10.791 | P22: 91.026 | Q22: 330.854 | R22: 277.912 | S22: 52.942 | T22: 2005
B23: 2006 | C23: 896.564 | D23: 24.661 | E23: 196.007 | F23: 127.569 | G23: 102.28 | H23: 68.438 | I23: 675.896 | J23: 224.074 | K23: 205.707 | L23: 18.367 | M23: 120.416 | N23: 13.187 | O23: 10.655 | P23: 96.574 | Q23: 331.406 | R23: 277.343 | S23: 54.063 | T23: 2006
B24: 2007 | C24: 915.496 | D24: 25.139 | E24: 203.369 | F24: 133.499 | G24: 107.978 | H24: 69.87 | I24: 686.988 | J24: 228.032 | K24: 209.536 | L24: 18.496 | M24: 126.618 | N24: 12.922 | O24: 10.981 | P24: 102.715 | Q24: 332.338 | R24: 276.27 | S24: 56.068 | T24: 2007
B25: 2008 | C25: 926.77 | D25: 25.26 | E25: 205.187 | F25: 136.652 | G25: 111.637 | H25: 68.535 | I25: 696.323 | J25: 231.831 | K25: 211.392 | L25: 20.439 | M25: 128.811 | N25: 12.746 | O25: 10.531 | P25: 105.534 | Q25: 335.681 | R25: 278.712 | S25: 56.969 | T25: 2008
B26: 2009 | C26: 936.562 | D26: 25.288 | E26: 205.407 | F26: 136.937 | G26: 112.305 | H26: 68.47 | I26: 705.867 | J26: 233.288 | K26: 212.796 | L26: 20.492 | M26: 130.305 | N26: 12.776 | O26: 10.015 | P26: 107.514 | Q26: 342.274 | R26: 282.675 | S26: 59.599 | T26: 2009
B27: 2010 | C27: 941.985 | D27: 24.538 | E27: 204.475 | F27: 136.565 | G27: 112.362 | H27: 67.91 | I27: 712.972 | J27: 234.878 | K27: 214.638 | L27: 20.24 | M27: 136.004 | N27: 12.784 | O27: 10.048 | P27: 113.172 | Q27: 342.09 | R27: 281.712 | S27: 60.378 | T27: 2010
B28: 2011 | C28: 943.37 | D28: 25.004 | E28: 212.924 | F28: 143.534 | G28: 119.133 | H28: 69.39 | I28: 705.442 | J28: 238.682 | K28: 217.982 | L28: 20.7 | M28: 136.156 | N28: 12.584 | O28: 10.004 | P28: 113.568 | Q28: 330.604 | R28: 272.229 | S28: 58.375 | T28: 2011
... B42: 2025 | C42: 1033.046 | D42: 20.605 | E42: 218.479 | F42: 147.627 | G42: 123.935 | H42: 70.852 | I42: 793.962 | J42: 256.12 | K42: 242.115 | L42: 14.005 | M42: 148.837 | N42: 10.993 | O42: 12.131 | P42: 125.713 | Q42: 389.005 | R42: 335.285 | S42: 53.72 | T42: 2025
C44: Veränderung zum Vorjahr in % | I44: Veränderung zum Vorjahr in %
B45: 1992 | C45: =ROUND(C9/C8*100-100,5) -> -12.33086 | D45: =ROUND(D9/D8*100-100,5) -> -35.13083 | E45: =ROUND(E9/E8*100-100,5) -> -19.212 | F45: =ROUND(F9/F8*100-100,5) -> -30.5191 | G45: =ROUND(G9/G8*100-100,5) -> -33.30115 | H45: =ROUND(H9/H8*100-100,5) -> 8.62777 | I45: =ROUND(I9/I8*100-100,5) -> -5.21702 | J45: =ROUND(J9/J8*100-100,5) -> -8.70638 | K45: • | L45: • | M45: =ROUND(M9/M8*100-100,5) -> -4.48957 | N45: • | O45: • | P45: • | Q45: =ROUND(Q9/Q8*100-100,5) -> -2.84653 | R45: • | S45: • | T45: 1992
B46: 1993 | C46: =ROUND(C10/C9*100-100,5) -> -3.62872 | D46: =ROUND(D10/D9*100-100,5) -> -18.40198 | E46: =ROUND(E10/E9*100-100,5) -> -3.51849 | F46: =ROUND(F10/F9*100-100,5) -> -14.9811 | G46: =ROUND(G10/G9*100-100,5) -> -14.46426 | H46: =ROUND(H10/H9*100-100,5) -> 14.53338 | I46: =ROUND(I10/I9*100-100,5) -> -2.52173 | J46: =ROUND(J10/J9*100-100,5) -> -2.29008 | K46: • | L46: • | M46: =ROUND(M10/M9*100-100,5) -> 1.57398 | N46: • | O46: • | P46: • | Q46: =ROUND(Q10/Q9*100-100,5) -> -3.65284 | R46: • | S46: • | T46: 1993
B47: 1994 | C47: =ROUND(C11/C10*100-100,5) -> 2.72073 | D47: =ROUND(D11/D10*100-100,5) -> -4.72119 | E47: =ROUND(E11/E10*100-100,5) -> 2.86528 | F47: =ROUND(F11/F10*100-100,5) -> -5.24781 | G47: =ROUND(G11/G10*100-100,5) -> -4.62231 | H47: =ROUND(H11/H10*100-100,5) -> 12.34965 | I47: =ROUND(I11/I10*100-100,5) -> 3.13392 | J47: =ROUND(J11/J10*100-100,5) -> 3.22898 | K47: • | L47: • | M47: =ROUND(M11/M10*100-100,5) -> 7.41441 | N47: • | O47: • | P47: • | Q47: =ROUND(Q11/Q10*100-100,5) -> 1.99656 | R47: • | S47: • | T47: 1994
B48: 1995 | C48: =ROUND(C12/C11*100-100,5) -> 2.33116 | D48: =ROUND(D12/D11*100-100,5) -> 1.46779 | E48: =ROUND(E12/E11*100-100,5) -> 3.25729 | F48: =ROUND(F12/F11*100-100,5) -> 0.34751 | G48: =ROUND(G12/G11*100-100,5) -> 0.57985 | H48: =ROUND(H12/H11*100-100,5) -> 6.12608 | I48: =ROUND(I12/I11*100-100,5) -> 1.87664 | J48: =ROUND(J12/J11*100-100,5) -> 1.70455 | K48: • | L48: • | M48: =ROUND(M12/M11*100-100,5) -> 2.25319 | N48: • | O48: • | P48: • | Q48: =ROUND(Q12/Q11*100-100,5) -> 1.89851 | R48: • | S48: • | T48: 1995
B49: 1996 | C49: =ROUND(C13/C12*100-100,5) -> -0.39572 | D49: =ROUND(D13/D12*100-100,5) -> -3.75894 | E49: =ROUND(E13/E12*100-100,5) -> -4.09592 | F49: =ROUND(F13/F12*100-100,5) -> -4.20728 | G49: =ROUND(G13/G12*100-100,5) -> -1.48537 | H49: =ROUND(H13/H12*100-100,5) -> -3.9921 | I49: =ROUND(I13/I12*100-100,5) -> 1.86345 | J49: =ROUND(J13/J12*100-100,5) -> 0.75088 | K49: • | L49: • | M49: =ROUND(M13/M12*100-100,5) -> 5.45924 | N49: • | O49: • | P49: • | Q49: =ROUND(Q13/Q12*100-100,5) -> 1.69397 | R49: • | S49: • | T49: 1996
B50: 1997 | C50: =ROUND(C14/C13*100-100,5) -> -0.44074 | D50: =ROUND(D14/D13*100-100,5) -> -9.10063 | E50: =ROUND(E14/E13*100-100,5) -> -4.13739 | F50: =ROUND(F14/F13*100-100,5) -> -1.88652 | G50: =ROUND(G14/G13*100-100,5) -> -0.67793 | H50: =ROUND(H14/H13*100-100,5) -> -6.23102 | I50: =ROUND(I14/I13*100-100,5) -> 1.98987 | J50: =ROUND(J14/J13*100-100,5) -> 3.52178 | K50: • | L50: • | M50: =ROUND(M14/M13*100-100,5) -> 5.29341 | N50: • | O50: • | P50: • | Q50: =ROUND(Q14/Q13*100-100,5) -> 0.01772 | R50: • | S50: • | T50: 1997
B51: 1998 | C51: =ROUND(C15/C14*100-100,5) -> -0.93815 | D51: =ROUND(D15/D14*100-100,5) -> -0.1388 | E51: =ROUND(E15/E14*100-100,5) -> -5.87126 | F51: =ROUND(F15/F14*100-100,5) -> -2.36151 | G51: =ROUND(G15/G14*100-100,5) -> -1.59774 | H51: =ROUND(H15/H14*100-100,5) -> -9.28708 | I51: =ROUND(I15/I14*100-100,5) -> 1.44456 | J51: =ROUND(J15/J14*100-100,5) -> -1.56244 | K51: • | L51: • | M51: =ROUND(M15/M14*100-100,5) -> 7.85912 | N51: • | O51: • | P51: • | Q51: =ROUND(Q15/Q14*100-100,5) -> 1.75841 | R51: • | S51: • | T51: 1998
B52: 1999 | C52: =ROUND(C16/C15*100-100,5) -> -0.17965 | D52: =ROUND(D16/D15*100-100,5) -> -3.17873 | E52: =ROUND(E16/E15*100-100,5) -> -5.35544 | F52: =ROUND(F16/F15*100-100,5) -> -4.52658 | G52: =ROUND(G16/G15*100-100,5) -> -4.38271 | H52: =ROUND(H16/H15*100-100,5) -> -6.22371 | I52: =ROUND(I16/I15*100-100,5) -> 2.33132 | J52: =ROUND(J16/J15*100-100,5) -> 0.41259 | K52: • | L52: • | M52: =ROUND(M16/M15*100-100,5) -> 5.04832 | N52: • | O52: • | P52: • | Q52: =ROUND(Q16/Q15*100-100,5) -> 2.83676 | R52: • | S52: • | T52: 1999
B53: 2000 | C53: =ROUND(C17/C16*100-100,5) -> -0.49527 | D53: =ROUND(D17/D16*100-100,5) -> -3.63574 | E53: =ROUND(E17/E16*100-100,5) -> -4.8075 | F53: =ROUND(F17/F16*100-100,5) -> -0.58571 | G53: =ROUND(G17/G16*100-100,5) -> -0.22242 | H53: =ROUND(H17/H16*100-100,5) -> -9.31002 | I53: =ROUND(I17/I16*100-100,5) -> 1.47294 | J53: =ROUND(J17/J16*100-100,5) -> 2.34313 | K53: • | L53: • | M53: =ROUND(M17/M16*100-100,5) -> 1.44542 | N53: • | O53: • | P53: • | Q53: =ROUND(Q17/Q16*100-100,5) -> 0.8895 | R53: • | S53: • | T53: 2000
B54: 2001 | C54: =ROUND(C18/C17*100-100,5) -> -2.96173 | D54: =ROUND(D18/D17*100-100,5) -> -8.33279 | E54: =ROUND(E18/E17*100-100,5) -> -7.97357 | F54: =ROUND(F18/F17*100-100,5) -> -2.47655 | G54: =ROUND(G18/G17*100-100,5) -> -2.30891 | H54: =ROUND(H18/H17*100-100,5) -> -14.40011 | I54: =ROUND(I18/I17*100-100,5) -> -0.7357 | J54: =ROUND(J18/J17*100-100,5) -> -1.25823 | ... S54: =ROUND(S18/S17*100-100,5) -> -2.47949 | T54: 2001
B55: 2002 | C55: =ROUND(C19/C18*100-100,5) -> -2.21518 | D55: =ROUND(D19/D18*100-100,5) -> -2.14096 | E55: =ROUND(E19/E18*100-100,5) -> -7.13568 | F55: =ROUND(F19/F18*100-100,5) -> -2.74718 | G55: =ROUND(G19/G18*100-100,5) -> -2.60483 | H55: =ROUND(H19/H18*100-100,5) -> -12.98091 | I55: =ROUND(I19/I18*100-100,5) -> -0.41394 | J55: =ROUND(J19/J18*100-100,5) -> -1.92761 | ... S55: =ROUND(S19/S18*100-100,5) -> -1.1079 | T55: 2002
B56: 2003 | C56: =ROUND(C20/C19*100-100,5) -> -1.99514 | D56: =ROUND(D20/D19*100-100,5) -> 0.0361 | E56: =ROUND(E20/E19*100-100,5) -> -5.83524 | F56: =ROUND(F20/F19*100-100,5) -> -3.18732 | G56: =ROUND(G20/G19*100-100,5) -> -3.77746 | H56: =ROUND(H20/H19*100-100,5) -> -9.77688 | I56: =ROUND(I20/I19*100-100,5) -> -0.76563 | J56: =ROUND(J20/J19*100-100,5) -> -1.82406 | ... S56: =ROUND(S20/S19*100-100,5) -> -1.16778 | T56: 2003
B57: 2004 | C57: =ROUND(C21/C20*100-100,5) -> -0.37165 | D57: =ROUND(D21/D20*100-100,5) -> -1.17651 | E57: =ROUND(E21/E20*100-100,5) -> -4.4186 | F57: =ROUND(F21/F20*100-100,5) -> -2.82097 | G57: =ROUND(G21/G20*100-100,5) -> -2.97709 | H57: =ROUND(H21/H20*100-100,5) -> -6.9705 | I57: =ROUND(I21/I20*100-100,5) -> 0.9749 | J57: =ROUND(J21/J20*100-100,5) -> 1.54156 | ... S57: =ROUND(S21/S20*100-100,5) -> 2.48036 | T57: 2004
B58: 2005 | C58: =ROUND(C22/C21*100-100,5) -> -1.7951 | D58: =ROUND(D22/D21*100-100,5) -> -7.34397 | E58: =ROUND(E22/E21*100-100,5) -> -4.59583 | F58: =ROUND(F22/F21*100-100,5) -> -1.69121 | G58: =ROUND(G22/G21*100-100,5) -> -1.76732 | H58: =ROUND(H22/H21*100-100,5) -> -9.44233 | I58: =ROUND(I22/I21*100-100,5) -> -0.70951 | J58: =ROUND(J22/J21*100-100,5) -> -1.2353 | ... S58: =ROUND(S22/S21*100-100,5) -> -0.74616 | T58: 2005
B59: 2006 | C59: =ROUND(C23/C22*100-100,5) -> 0.46222 | D59: =ROUND(D23/D22*100-100,5) -> -2.8023 | E59: =ROUND(E23/E22*100-100,5) -> -0.79764 | F59: =ROUND(F23/F22*100-100,5) -> 0.20895 | G59: =ROUND(G23/G22*100-100,5) -> 0.49915 | H59: =ROUND(H23/H22*100-100,5) -> -2.62094 | I59: =ROUND(I23/I22*100-100,5) -> 0.95775 | J59: =ROUND(J23/J22*100-100,5) -> 0.27208 | ... S59: =ROUND(S23/S22*100-100,5) -> 2.11741 | T59: 2006
B60: 2007 | C60: =ROUND(C24/C23*100-100,5) -> 2.11162 | D60: =ROUND(D24/D23*100-100,5) -> 1.93828 | E60: =ROUND(E24/E23*100-100,5) -> 3.75599 | F60: =ROUND(F24/F23*100-100,5) -> 4.64846 | G60: =ROUND(G24/G23*100-100,5) -> 5.57098 | H60: =ROUND(H24/H23*100-100,5) -> 2.0924 | I60: =ROUND(I24/I23*100-100,5) -> 1.64108 | J60: =ROUND(J24/J23*100-100,5) -> 1.76638 | ... S60: =ROUND(S24/S23*100-100,5) -> 3.70864 | T60: 2007
B61: 2008 | C61: =ROUND(C25/C24*100-100,5) -> 1.23146 | D61: =ROUND(D25/D24*100-100,5) -> 0.48132 | E61: =ROUND(E25/E24*100-100,5) -> 0.89394 | F61: =ROUND(F25/F24*100-100,5) -> 2.36182 | G61: =ROUND(G25/G24*100-100,5) -> 3.38865 | H61: =ROUND(H25/H24*100-100,5) -> -1.91069 | I61: =ROUND(I25/I24*100-100,5) -> 1.35883 | J61: =ROUND(J25/J24*100-100,5) -> 1.66599 | ... S61: =ROUND(S25/S24*100-100,5) -> 1.60698 | T61: 2008
B62: 2009 | C62: =ROUND(C26/C25*100-100,5) -> 1.05657 | D62: =ROUND(D26/D25*100-100,5) -> 0.11085 | E62: =ROUND(E26/E25*100-100,5) -> 0.10722 | F62: =ROUND(F26/F25*100-100,5) -> 0.20856 | G62: =ROUND(G26/G25*100-100,5) -> 0.59837 | H62: =ROUND(H26/H25*100-100,5) -> -0.09484 | I62: =ROUND(I26/I25*100-100,5) -> 1.37063 | J62: =ROUND(J26/J25*100-100,5) -> 0.62848 | ... S62: =ROUND(S26/S25*100-100,5) -> 4.61655 | T62: 2009
B63: 2010 | C63: =ROUND(C27/C26*100-100,5) -> 0.57903 | D63: =ROUND(D27/D26*100-100,5) -> -2.96583 | E63: =ROUND(E27/E26*100-100,5) -> -0.45373 | F63: =ROUND(F27/F26*100-100,5) -> -0.27166 | G63: =ROUND(G27/G26*100-100,5) -> 0.05075 | H63: =ROUND(H27/H26*100-100,5) -> -0.81788 | I63: =ROUND(I27/I26*100-100,5) -> 1.00656 | J63: =ROUND(J27/J26*100-100,5) -> 0.68156 | ... S63: =ROUND(S27/S26*100-100,5) -> 1.30707 | T63: 2010
B64: 2011 | C64: =ROUND(C28/C27*100-100,5) -> 0.14703 | D64: =ROUND(D28/D27*100-100,5) -> 1.8991 | E64: =ROUND(E28/E27*100-100,5) -> 4.13205 | F64: =ROUND(F28/F27*100-100,5) -> 5.10306 | G64: =ROUND(G28/G27*100-100,5) -> 6.02606 | H64: =ROUND(H28/H27*100-100,5) -> 2.17936 | I64: =ROUND(I28/I27*100-100,5) -> -1.05614 | J64: =ROUND(J28/J27*100-100,5) -> 1.61956 | ... S64: =ROUND(S28/S27*100-100,5) -> -3.31743 | T64: 2011
B65: 2012 | C65: =ROUND(C29/C28*100-100,5) -> 0.40536 | D65: =ROUND(D29/D28*100-100,5) -> 0.6479 | E65: =ROUND(E29/E28*100-100,5) -> 0.54433 | F65: =ROUND(F29/F28*100-100,5) -> 0.89456 | G65: =ROUND(G29/G28*100-100,5) -> 1.47986 | H65: =ROUND(H29/H28*100-100,5) -> -0.18014 | I65: =ROUND(I29/I28*100-100,5) -> 0.35481 | J65: =ROUND(J29/J28*100-100,5) -> 1.95155 | ... S65: =ROUND(S29/S28*100-100,5) -> -2.75118 | T65: 2012
... B78: 2025 | C78: =ROUND(C42/C41*100-100,5) -> 0.16211 | D78: =ROUND(D42/D41*100-100,5) -> -1.49632 | E78: =ROUND(E42/E41*100-100,5) -> -1.93897 | F78: =ROUND(F42/F41*100-100,5) -> -2.3631 | G78: =ROUND(G42/G41*100-100,5) -> -3.08871 | H78: =ROUND(H42/H41*100-100,5) -> -1.04331 | I78: =ROUND(I42/I41*100-100,5) -> 0.80048 | J78: =ROUND(J42/J41*100-100,5) -> 0.16347 | ... S78: =ROUND(S42/S41*100-100,5) -> 0.40746 | T78: 2025
C80: Anteil an den Arbeitnehmern insgesamt in % | I80: Anteil an den Arbeitnehmern insgesamt in %
B81: 1991 | C81: 100 | D81: =ROUND(D8/$C8*100,5) -> 6.5402 | E81: =ROUND(E8/$C8*100,5) -> 36.85193 | F81: =ROUND(F8/$C8*100,5) -> 26.2077 | G81: =ROUND(G8/$C8*100,5) -> 20.49619 | H81: =ROUND(H8/$C8*100,5) -> 10.64424 | I81: =ROUND(I8/$C8*100,5) -> 56.60787 | J81: =ROUND(J8/$C8*100,5) -> 20.95524 | K81: • | L81: • | M81: =ROUND(M8/$C8*100,5) -> 6.93457 | N81: • | O81: • | P81: • | Q81: =ROUND(Q8/$C8*100,5) -> 28.71806 | R81: • | S81: • | T81: 1991
B82: 1992 | C82: 100 | D82: =ROUND(D9/$C9*100,5) -> 4.8393 | E82: =ROUND(E9/$C9*100,5) -> 33.95943 | F82: =ROUND(F9/$C9*100,5) -> 20.77053 | G82: =ROUND(G9/$C9*100,5) -> 15.59354 | H82: =ROUND(H9/$C9*100,5) -> 13.18891 | I82: =ROUND(I9/$C9*100,5) -> 61.20127 | J82: =ROUND(J9/$C9*100,5) -> 21.82158 | K82: • | L82: • | M82: =ROUND(M9/$C9*100,5) -> 7.55482 | N82: • | O82: • | P82: • | Q82: =ROUND(Q9/$C9*100,5) -> 31.82487 | R82: • | S82: • | T82: 1992
B83: 1993 | C83: 100 | D83: =ROUND(D10/$C10*100,5) -> 4.09746 | E83: =ROUND(E10/$C10*100,5) -> 33.99827 | F83: =ROUND(F10/$C10*100,5) -> 18.32379 | G83: =ROUND(G10/$C10*100,5) -> 13.84027 | H83: =ROUND(H10/$C10*100,5) -> 15.67448 | I83: =ROUND(I10/$C10*100,5) -> 61.90427 | J83: =ROUND(J10/$C10*100,5) -> 22.1247 | K83: • | L83: • | M83: =ROUND(M10/$C10*100,5) -> 7.96267 | N83: • | O83: • | P83: • | Q83: =ROUND(Q10/$C10*100,5) -> 31.8169 | R83: • | S83: • | T83: 1993
B84: 1994 | C84: 100 | D84: =ROUND(D11/$C11*100,5) -> 3.8006 | E84: =ROUND(E11/$C11*100,5) -> 34.04612 | F84: =ROUND(F11/$C11*100,5) -> 16.90233 | G84: =ROUND(G11/$C11*100,5) -> 12.8509 | H84: =ROUND(H11/$C11*100,5) -> 17.14379 | I84: =ROUND(I11/$C11*100,5) -> 62.15328 | J84: =ROUND(J11/$C11*100,5) -> 22.23417 | K84: • | L84: • | M84: =ROUND(M11/$C11*100,5) -> 8.32651 | N84: • | O84: • | P84: • | Q84: =ROUND(Q11/$C11*100,5) -> 31.5926 | R84: • | S84: • | T84: 1994
B85: 1995 | C85: 100 | D85: =ROUND(D12/$C12*100,5) -> 3.76854 | E85: =ROUND(E12/$C12*100,5) -> 34.35425 | F85: =ROUND(F12/$C12*100,5) -> 16.57468 | G85: =ROUND(G12/$C12*100,5) -> 12.63096 | H85: =ROUND(H12/$C12*100,5) -> 17.77956 | I85: =ROUND(I12/$C12*100,5) -> 61.87722 | J85: =ROUND(J12/$C12*100,5) -> 22.09802 | K85: • | L85: • | M85: =ROUND(M12/$C12*100,5) -> 8.32017 | N85: • | O85: • | P85: • | Q85: =ROUND(Q12/$C12*100,5) -> 31.45903 | R85: • | S85: • | T85: 1995
B86: 1996 | C86: 100 | D86: =ROUND(D13/$C13*100,5) -> 3.64129 | E86: =ROUND(E13/$C13*100,5) -> 33.07802 | F86: =ROUND(F13/$C13*100,5) -> 15.94042 | G86: =ROUND(G13/$C13*100,5) -> 12.49278 | H86: =ROUND(H13/$C13*100,5) -> 17.1376 | I86: =ROUND(I13/$C13*100,5) -> 63.28069 | J86: =ROUND(J13/$C13*100,5) -> 22.3524 | K86: • | L86: • | M86: =ROUND(M13/$C13*100,5) -> 8.80925 | N86: • | O86: • | P86: • | Q86: =ROUND(Q13/$C13*100,5) -> 32.11904 | R86: • | S86: • | T86: 1996
B87: 1997 | C87: 100 | D87: =ROUND(D14/$C14*100,5) -> 3.32456 | E87: =ROUND(E14/$C14*100,5) -> 31.84983 | F87: =ROUND(F14/$C14*100,5) -> 15.70894 | G87: =ROUND(G14/$C14*100,5) -> 12.46302 | H87: =ROUND(H14/$C14*100,5) -> 16.1409 | I87: =ROUND(I14/$C14*100,5) -> 64.82561 | J87: =ROUND(J14/$C14*100,5) -> 23.24204 | K87: • | L87: • | M87: =ROUND(M14/$C14*100,5) -> 9.31662 | N87: • | O87: • | P87: • | Q87: =ROUND(Q14/$C14*100,5) -> 32.26694 | R87: • | S87: • | T87: 1997
B88: 1998 | C88: 100 | D88: =ROUND(D15/$C15*100,5) -> 3.35139 | E88: =ROUND(E15/$C15*100,5) -> 30.26377 | F88: =ROUND(F15/$C15*100,5) -> 15.48322 | G88: =ROUND(G15/$C15*100,5) -> 12.38004 | H88: =ROUND(H15/$C15*100,5) -> 14.78054 | I88: =ROUND(I15/$C15*100,5) -> 66.38484 | J88: =ROUND(J15/$C15*100,5) -> 23.09557 | K88: • | L88: • | M88: =ROUND(M15/$C15*100,5) -> 10.14399 | N88: • | O88: • | P88: • | Q88: =ROUND(Q15/$C15*100,5) -> 33.14528 | R88: • | S88: • | T88: 1998
B89: 1999 | C89: 100 | D89: =ROUND(D16/$C16*100,5) -> 3.2507 | E89: =ROUND(E16/$C16*100,5) -> 28.69456 | F89: =ROUND(F16/$C16*100,5) -> 14.80897 | G89: =ROUND(G16/$C16*100,5) -> 11.85876 | H89: =ROUND(H16/$C16*100,5) -> 13.88559 | I89: =ROUND(I16/$C16*100,5) -> 68.05475 | J89: =ROUND(J16/$C16*100,5) -> 23.2326 | K89: • | L89: • | M89: =ROUND(M16/$C16*100,5) -> 10.67527 | N89: • | O89: • | P89: • | Q89: =ROUND(Q16/$C16*100,5) -> 34.14688 | R89: • | S89: • | T89: 1999
B90: 2000 | C90: 100 | D90: =ROUND(D17/$C17*100,5) -> 3.1481 | E90: =ROUND(E17/$C17*100,5) -> 27.45102 | F90: =ROUND(F17/$C17*100,5) -> 14.79551 | G90: =ROUND(G17/$C17*100,5) -> 11.89128 | H90: =ROUND(H17/$C17*100,5) -> 12.65552 | I90: =ROUND(I17/$C17*100,5) -> 69.40087 | J90: =ROUND(J17/$C17*100,5) -> 23.89531 | K90: =ROUND(K17/$C17*100,5) -> 21.9683 | ... S90: =ROUND(S17/$C17*100,5) -> 5.56744 | T90: 2000
B91: 2001 | C91: 100 | D91: =ROUND(D18/$C18*100,5) -> 2.97385 | E91: =ROUND(E18/$C18*100,5) -> 26.03323 | F91: =ROUND(F18/$C18*100,5) -> 14.86948 | G91: =ROUND(G18/$C18*100,5) -> 11.97128 | H91: =ROUND(H18/$C18*100,5) -> 11.16375 | I91: =ROUND(I18/$C18*100,5) -> 70.99291 | J91: =ROUND(J18/$C18*100,5) -> 24.31479 | K91: =ROUND(K18/$C18*100,5) -> 22.28137 | ... S91: =ROUND(S18/$C18*100,5) -> 5.59511 | T91: 2001
B92: 2002 | C92: 100 | D92: =ROUND(D19/$C19*100,5) -> 2.97611 | E92: =ROUND(E19/$C19*100,5) -> 24.72325 | F92: =ROUND(F19/$C19*100,5) -> 14.78859 | G92: =ROUND(G19/$C19*100,5) -> 11.92357 | H92: =ROUND(H19/$C19*100,5) -> 9.93466 | I92: =ROUND(I19/$C19*100,5) -> 72.30064 | J92: =ROUND(J19/$C19*100,5) -> 24.3863 | K92: =ROUND(K19/$C19*100,5) -> 22.33153 | ... S92: =ROUND(S19/$C19*100,5) -> 5.65847 | T92: 2002
B93: 2003 | C93: 100 | D93: =ROUND(D20/$C20*100,5) -> 3.03779 | E93: =ROUND(E20/$C20*100,5) -> 23.75453 | F93: =ROUND(F20/$C20*100,5) -> 14.60869 | G93: =ROUND(G20/$C20*100,5) -> 11.70673 | H93: =ROUND(H20/$C20*100,5) -> 9.14583 | I93: =ROUND(I20/$C20*100,5) -> 73.20768 | J93: =ROUND(J20/$C20*100,5) -> 24.42887 | K93: =ROUND(K20/$C20*100,5) -> 22.37875 | ... S93: =ROUND(S20/$C20*100,5) -> 5.70624 | T93: 2003
B94: 2004 | C94: 100 | D94: =ROUND(D21/$C21*100,5) -> 3.01325 | E94: =ROUND(E21/$C21*100,5) -> 22.78961 | F94: =ROUND(F21/$C21*100,5) -> 14.24954 | G94: =ROUND(G21/$C21*100,5) -> 11.40058 | H94: =ROUND(H21/$C21*100,5) -> 8.54006 | I94: =ROUND(I21/$C21*100,5) -> 74.19714 | J94: =ROUND(J21/$C21*100,5) -> 24.89799 | K94: =ROUND(K21/$C21*100,5) -> 22.85882 | ... S94: =ROUND(S21/$C21*100,5) -> 5.86959 | T94: 2004
B95: 2005 | C95: 100 | D95: =ROUND(D22/$C22*100,5) -> 2.843 | E95: =ROUND(E22/$C22*100,5) -> 22.13966 | F95: =ROUND(F22/$C22*100,5) -> 14.26462 | G95: =ROUND(G22/$C22*100,5) -> 11.4038 | H95: =ROUND(H22/$C22*100,5) -> 7.87505 | I95: =ROUND(I22/$C22*100,5) -> 75.01734 | J95: =ROUND(J22/$C22*100,5) -> 25.03992 | K95: =ROUND(K22/$C22*100,5) -> 22.97289 | ... S95: =ROUND(S22/$C22*100,5) -> 5.93228 | T95: 2005
B96: 2006 | C96: 100 | D96: =ROUND(D23/$C23*100,5) -> 2.75061 | E96: =ROUND(E23/$C23*100,5) -> 21.86202 | F96: =ROUND(F23/$C23*100,5) -> 14.22866 | G96: =ROUND(G23/$C23*100,5) -> 11.408 | H96: =ROUND(H23/$C23*100,5) -> 7.63336 | I96: =ROUND(I23/$C23*100,5) -> 75.38737 | J96: =ROUND(J23/$C23*100,5) -> 24.99253 | K96: =ROUND(K23/$C23*100,5) -> 22.94393 | ... S96: =ROUND(S23/$C23*100,5) -> 6.03002 | T96: 2006
B97: 2007 | C97: 100 | D97: =ROUND(D24/$C24*100,5) -> 2.74594 | E97: =ROUND(E24/$C24*100,5) -> 22.21408 | F97: =ROUND(F24/$C24*100,5) -> 14.58215 | G97: =ROUND(G24/$C24*100,5) -> 11.79448 | H97: =ROUND(H24/$C24*100,5) -> 7.63193 | I97: =ROUND(I24/$C24*100,5) -> 75.03998 | J97: =ROUND(J24/$C24*100,5) -> 24.90803 | K97: =ROUND(K24/$C24*100,5) -> 22.8877 | ... S97: =ROUND(S24/$C24*100,5) -> 6.12433 | T97: 2007
B98: 2008 | C98: 100 | D98: =ROUND(D25/$C25*100,5) -> 2.7256 | E98: =ROUND(E25/$C25*100,5) -> 22.14001 | F98: =ROUND(F25/$C25*100,5) -> 14.74497 | G98: =ROUND(G25/$C25*100,5) -> 12.04582 | H98: =ROUND(H25/$C25*100,5) -> 7.39504 | I98: =ROUND(I25/$C25*100,5) -> 75.13439 | J98: =ROUND(J25/$C25*100,5) -> 25.01494 | K98: =ROUND(K25/$C25*100,5) -> 22.80954 | ... S98: =ROUND(S25/$C25*100,5) -> 6.14705 | T98: 2008
B99: 2009 | C99: 100 | D99: =ROUND(D26/$C26*100,5) -> 2.70009 | E99: =ROUND(E26/$C26*100,5) -> 21.93202 | F99: =ROUND(F26/$C26*100,5) -> 14.62124 | G99: =ROUND(G26/$C26*100,5) -> 11.9912 | H99: =ROUND(H26/$C26*100,5) -> 7.31078 | I99: =ROUND(I26/$C26*100,5) -> 75.36789 | J99: =ROUND(J26/$C26*100,5) -> 24.90898 | K99: =ROUND(K26/$C26*100,5) -> 22.72097 | ... S99: =ROUND(S26/$C26*100,5) -> 6.36359 | T99: 2009
B100: 2010 | C100: 100 | D100: =ROUND(D27/$C27*100,5) -> 2.60492 | E100: =ROUND(E27/$C27*100,5) -> 21.70682 | F100: =ROUND(F27/$C27*100,5) -> 14.49758 | G100: =ROUND(G27/$C27*100,5) -> 11.92822 | H100: =ROUND(H27/$C27*100,5) -> 7.20924 | I100: =ROUND(I27/$C27*100,5) -> 75.68825 | J100: =ROUND(J27/$C27*100,5) -> 24.93437 | K100: =ROUND(K27/$C27*100,5) -> 22.78571 | ... S100: =ROUND(S27/$C27*100,5) -> 6.40966 | T100: 2010
B101: 2011 | C101: 100 | D101: =ROUND(D28/$C28*100,5) -> 2.6505 | E101: =ROUND(E28/$C28*100,5) -> 22.57057 | F101: =ROUND(F28/$C28*100,5) -> 15.21503 | G101: =ROUND(G28/$C28*100,5) -> 12.62845 | H101: =ROUND(H28/$C28*100,5) -> 7.35554 | I101: =ROUND(I28/$C28*100,5) -> 74.77893 | J101: =ROUND(J28/$C28*100,5) -> 25.301 | K101: =ROUND(K28/$C28*100,5) -> 23.10673 | ... S101: =ROUND(S28/$C28*100,5) -> 6.18792 | T101: 2011
... B115: 2025 | C115: 100 | D115: =ROUND(D42/$C42*100,5) -> 1.99459 | E115: =ROUND(E42/$C42*100,5) -> 21.14901 | F115: =ROUND(F42/$C42*100,5) -> 14.29046 | G115: =ROUND(G42/$C42*100,5) -> 11.99705 | H115: =ROUND(H42/$C42*100,5) -> 6.85855 | I115: =ROUND(I42/$C42*100,5) -> 76.8564 | J115: =ROUND(J42/$C42*100,5) -> 24.7927 | K115: =ROUND(K42/$C42*100,5) -> 23.437 | ... S115: =ROUND(S42/$C42*100,5) -> 5.20016 | T115: 2025
B116: _____
B117: Die Daten für die Jahre 1991 bis 2021 werden hier teilweise nicht dargestellt. In der Excel-Version dieser Veröffentlichung sind die Angaben vorhanden.

Sheet T4
B1: 4 Selbstständige am Arbeitsort im Land Brandenburg 1991 bis 2025 nach ausgewählten Wirtschaftsbereichen | I1: 4 Selbstständige am Arbeitsort im Land Brandenburg 1991 bis 2025 nach ausgewählten Wirtschaftsbereichen
B3: Jahr | C3: Ins- gesamt | D3: Land- und Forst- wirtschaft, Fischerei | E3: Produ- zierendes Gewerbe | F3: Davon | I3: Dienst- leistungs- bereiche | J3: Davon | T3: Jahr
F4: Produ- zierendes Gewerbe ohne Baugewerbe | G4: darunter | H4: Bau- gewerbe | J4: Handel, Verkehr und Lagerei, Gast- gewerbe, Infor- mation und Kommuni- kation | K4: Davon | M4: Finanz-, Versich.- und Unter- nehmens- dienst- leister, Grund- stücks- u. Wohnungs- wesen | N4: Davon | Q4: Öffentliche und sonstige Dienst- leister, Erziehung und Gesund- heit, priv. Haushalte | R4: Davon
G5: Verarbei-tendes Gewerbe | K5: Handel, Verkehr und Lagerei, Gast- gewerbe | L5: Infor- mation und Kommuni- kation | N5: Finanz- und Versich.- dienst- leister | O5: Grund- stücks- und Wohnungs- wesen | P5: Unter- nehmens- dienst- leister | R5: Öffentl. Dienst- leister, Erziehung, Gesund- heit | S5: Sonstige Dienst- leister, private Haushalte
C7: Jahresdurchschnitt in 1 000 Personen | I7: Jahresdurchschnitt in 1 000 Personen
B8: 1991 | C8: 59.118 | D8: 3.829 | E8: 11.891 | F8: 5.087 | G8: 4.983 | H8: 6.804 | I8: 43.398 | J8: 23.165 | K8: • | L8: • | M8: 7.753 | N8: • | O8: • | P8: • | Q8: 12.48 | R8: • | S8: • | T8: 1991
B9: 1992 | C9: 70.677 | D9: 5.006 | E9: 14.206 | F9: 7.135 | G9: 6.911 | H9: 7.071 | I9: 51.465 | J9: 29.478 | K9: • | L9: • | M9: 8.811 | N9: • | O9: • | P9: • | Q9: 13.176 | R9: • | S9: • | T9: 1992
B10: 1993 | C10: 75.236 | D10: 4.924 | E10: 15.209 | F10: 7.631 | G10: 7.341 | H10: 7.578 | I10: 55.103 | J10: 31.075 | K10: • | L10: • | M10: 10.657 | N10: • | O10: • | P10: • | Q10: 13.371 | R10: • | S10: • | T10: 1993
B11: 1994 | C11: 81.082 | D11: 5.27 | E11: 16.276 | F11: 7.556 | G11: 7.28 | H11: 8.72 | I11: 59.536 | J11: 32.91 | K11: • | L11: • | M11: 12.316 | N11: • | O11: • | P11: • | Q11: 14.31 | R11: • | S11: • | T11: 1994
B12: 1995 | C12: 83.508 | D12: 4.883 | E12: 17.24 | F12: 6.615 | G12: 6.238 | H12: 10.625 | I12: 61.385 | J12: 33.546 | K12: • | L12: • | M12: 12.911 | N12: • | O12: • | P12: • | Q12: 14.928 | R12: • | S12: • | T12: 1995
B13: 1996 | C13: 86.208 | D13: 4.591 | E13: 19.368 | F13: 6.866 | G13: 6.502 | H13: 12.502 | I13: 62.249 | J13: 33.506 | K13: • | L13: • | M13: 14.024 | N13: • | O13: • | P13: • | Q13: 14.719 | R13: • | S13: • | T13: 1996
B14: 1997 | C14: 90.698 | D14: 4.428 | E14: 20.599 | F14: 6.712 | G14: 6.311 | H14: 13.887 | I14: 65.671 | J14: 33.698 | K14: • | L14: • | M14: 15.774 | N14: • | O14: • | P14: • | Q14: 16.199 | R14: • | S14: • | T14: 1997
B15: 1998 | C15: 95.423 | D15: 4.296 | E15: 21.646 | F15: 6.925 | G15: 6.529 | H15: 14.721 | I15: 69.481 | J15: 33.946 | K15: • | L15: • | M15: 17.038 | N15: • | O15: • | P15: • | Q15: 18.497 | R15: • | S15: • | T15: 1998
B16: 1999 | C16: 102.444 | D16: 4.258 | E16: 24.054 | F16: 6.934 | G16: 6.55 | H16: 17.12 | I16: 74.132 | J16: 34.979 | K16: • | L16: • | M16: 18.698 | N16: • | O16: • | P16: • | Q16: 20.455 | R16: • | S16: • | T16: 1999
B17: 2000 | C17: 108.98 | D17: 4.427 | E17: 25.571 | F17: 7.169 | G17: 6.782 | H17: 18.402 | I17: 78.982 | J17: 36.05 | K17: 34.859 | L17: 1.191 | M17: 19.821 | N17: 5.257 | O17: 1.471 | P17: 13.093 | Q17: 23.111 | R17: 12.494 | S17: 10.617 | T17: 2000
B18: 2001 | C18: 112.151 | D18: 4.602 | E18: 25.951 | F18: 7.582 | G18: 7.157 | H18: 18.369 | I18: 81.598 | J18: 36.049 | K18: 34.711 | L18: 1.338 | M18: 20.851 | N18: 5.777 | O18: 1.375 | P18: 13.699 | Q18: 24.698 | R18: 12.97 | S18: 11.728 | T18: 2001
B19: 2002 | C19: 112.325 | D19: 4.576 | E19: 26.037 | F19: 7.414 | G19: 6.985 | H19: 18.623 | I19: 81.712 | J19: 36.086 | K19: 34.397 | L19: 1.689 | M19: 22.198 | N19: 6.226 | O19: 1.373 | P19: 14.599 | Q19: 23.428 | R19: 11.854 | S19: 11.574 | T19: 2002
B20: 2003 | C20: 114.738 | D20: 4.623 | E20: 25.305 | F20: 7.393 | G20: 6.907 | H20: 17.912 | I20: 84.81 | J20: 36.544 | K20: 34.327 | L20: 2.217 | M20: 24.001 | N20: 6.319 | O20: 1.442 | P20: 16.24 | Q20: 24.265 | R20: 12.294 | S20: 11.971 | T20: 2003
B21: 2004 | C21: 120.803 | D21: 4.641 | E21: 26.049 | F21: 7.53 | G21: 7.042 | H21: 18.519 | I21: 90.113 | J21: 37.261 | K21: 34.739 | L21: 2.522 | M21: 26.136 | N21: 5.986 | O21: 1.437 | P21: 18.713 | Q21: 26.716 | R21: 12.921 | S21: 13.795 | T21: 2004
B22: 2005 | C22: 129.077 | D22: 4.715 | E22: 30.605 | F22: 7.696 | G22: 7.146 | H22: 22.909 | I22: 93.757 | J22: 37.479 | K22: 34.697 | L22: 2.782 | M22: 28.018 | N22: 5.959 | O22: 1.525 | P22: 20.534 | Q22: 28.26 | R22: 13.478 | S22: 14.782 | T22: 2005
B23: 2006 | C23: 130.665 | D23: 4.678 | E23: 32.008 | F23: 7.588 | G23: 7.05 | H23: 24.42 | I23: 93.979 | J23: 37.065 | K23: 34.042 | L23: 3.023 | M23: 29.232 | N23: 6.204 | O23: 1.62 | P23: 21.408 | Q23: 27.682 | R23: 13.409 | S23: 14.273 | T23: 2006
B24: 2007 | C24: 132.236 | D24: 4.8 | E24: 32.637 | F24: 7.699 | G24: 7.119 | H24: 24.938 | I24: 94.799 | J24: 36.553 | K24: 33.475 | L24: 3.078 | M24: 30.177 | N24: 5.986 | O24: 1.771 | P24: 22.42 | Q24: 28.069 | R24: 13.505 | S24: 14.564 | T24: 2007
B25: 2008 | C25: 136.542 | D25: 4.754 | E25: 33.137 | F25: 7.789 | G25: 7.211 | H25: 25.348 | I25: 98.651 | J25: 36.236 | K25: 33.235 | L25: 3.001 | M25: 31.811 | N25: 5.906 | O25: 1.976 | P25: 23.929 | Q25: 30.604 | R25: 14.397 | S25: 16.207 | T25: 2008
B26: 2009 | C26: 139.995 | D26: 4.63 | E26: 33.049 | F26: 7.852 | G26: 7.223 | H26: 25.197 | I26: 102.316 | J26: 36.094 | K26: 33.081 | L26: 3.013 | M26: 33.818 | N26: 6.679 | O26: 1.985 | P26: 25.154 | Q26: 32.404 | R26: 16.073 | S26: 16.331 | T26: 2009
B27: 2010 | C27: 139.769 | D27: 4.489 | E27: 32.531 | F27: 7.839 | G27: 7.208 | H27: 24.692 | I27: 102.749 | J27: 35.994 | K27: 32.892 | L27: 3.102 | M27: 34.795 | N27: 7.168 | O27: 2.012 | P27: 25.615 | Q27: 31.96 | R27: 16.798 | S27: 15.162 | T27: 2010
B28: 2011 | C28: 137.536 | D28: 4.52 | E28: 33.625 | F28: 7.814 | G28: 7.187 | H28: 25.811 | I28: 99.391 | J28: 35.17 | K28: 32.107 | L28: 3.063 | M28: 33.308 | N28: 6.681 | O28: 1.983 | P28: 24.644 | Q28: 30.913 | R28: 16.241 | S28: 14.672 | T28: 2011
... B42: 2025 | C42: 111.06 | D42: 3.74 | E42: 26.203 | F42: 5.663 | G42: 5.389 | H42: 20.54 | I42: 81.117 | J42: 24.194 | K42: 20.98 | L42: 3.214 | M42: 26.034 | N42: 3.502 | O42: 2.171 | P42: 20.361 | Q42: 30.889 | R42: 19.215 | S42: 11.674 | T42: 2025
C44: Veränderung zum Vorjahr in % | I44: Veränderung zum Vorjahr in %
B45: 1992 | C45: =ROUND(C9/C8*100-100,5) -> 19.55242 | D45: =ROUND(D9/D8*100-100,5) -> 30.7391 | E45: =ROUND(E9/E8*100-100,5) -> 19.46851 | F45: =ROUND(F9/F8*100-100,5) -> 40.25948 | G45: =ROUND(G9/G8*100-100,5) -> 38.69155 | H45: =ROUND(H9/H8*100-100,5) -> 3.92416 | I45: =ROUND(I9/I8*100-100,5) -> 18.58841 | J45: =ROUND(J9/J8*100-100,5) -> 27.25232 | K45: • | L45: • | M45: =ROUND(M9/M8*100-100,5) -> 13.64633 | N45: • | O45: • | P45: • | Q45: =ROUND(Q9/Q8*100-100,5) -> 5.57692 | R45: • | S45: • | T45: 1992
B46: 1993 | C46: =ROUND(C10/C9*100-100,5) -> 6.45047 | D46: =ROUND(D10/D9*100-100,5) -> -1.63803 | E46: =ROUND(E10/E9*100-100,5) -> 7.0604 | F46: =ROUND(F10/F9*100-100,5) -> 6.95165 | G46: =ROUND(G10/G9*100-100,5) -> 6.22196 | H46: =ROUND(H10/H9*100-100,5) -> 7.17013 | I46: =ROUND(I10/I9*100-100,5) -> 7.06888 | J46: =ROUND(J10/J9*100-100,5) -> 5.4176 | K46: • | L46: • | M46: =ROUND(M10/M9*100-100,5) -> 20.95108 | N46: • | O46: • | P46: • | Q46: =ROUND(Q10/Q9*100-100,5) -> 1.47996 | R46: • | S46: • | T46: 1993
B47: 1994 | C47: =ROUND(C11/C10*100-100,5) -> 7.77022 | D47: =ROUND(D11/D10*100-100,5) -> 7.02681 | E47: =ROUND(E11/E10*100-100,5) -> 7.01558 | F47: =ROUND(F11/F10*100-100,5) -> -0.98283 | G47: =ROUND(G11/G10*100-100,5) -> -0.83095 | H47: =ROUND(H11/H10*100-100,5) -> 15.06994 | I47: =ROUND(I11/I10*100-100,5) -> 8.04493 | J47: =ROUND(J11/J10*100-100,5) -> 5.90507 | K47: • | L47: • | M47: =ROUND(M11/M10*100-100,5) -> 15.56723 | N47: • | O47: • | P47: • | Q47: =ROUND(Q11/Q10*100-100,5) -> 7.02266 | R47: • | S47: • | T47: 1994
B48: 1995 | C48: =ROUND(C12/C11*100-100,5) -> 2.99203 | D48: =ROUND(D12/D11*100-100,5) -> -7.34345 | E48: =ROUND(E12/E11*100-100,5) -> 5.92283 | F48: =ROUND(F12/F11*100-100,5) -> -12.45368 | G48: =ROUND(G12/G11*100-100,5) -> -14.31319 | H48: =ROUND(H12/H11*100-100,5) -> 21.84633 | I48: =ROUND(I12/I11*100-100,5) -> 3.10568 | J48: =ROUND(J12/J11*100-100,5) -> 1.93254 | K48: • | L48: • | M48: =ROUND(M12/M11*100-100,5) -> 4.83111 | N48: • | O48: • | P48: • | Q48: =ROUND(Q12/Q11*100-100,5) -> 4.31866 | R48: • | S48: • | T48: 1995
B49: 1996 | C49: =ROUND(C13/C12*100-100,5) -> 3.23322 | D49: =ROUND(D13/D12*100-100,5) -> -5.97993 | E49: =ROUND(E13/E12*100-100,5) -> 12.34339 | F49: =ROUND(F13/F12*100-100,5) -> 3.79441 | G49: =ROUND(G13/G12*100-100,5) -> 4.23213 | H49: =ROUND(H13/H12*100-100,5) -> 17.66588 | I49: =ROUND(I13/I12*100-100,5) -> 1.40751 | J49: =ROUND(J13/J12*100-100,5) -> -0.11924 | K49: • | L49: • | M49: =ROUND(M13/M12*100-100,5) -> 8.62056 | N49: • | O49: • | P49: • | Q49: =ROUND(Q13/Q12*100-100,5) -> -1.40005 | R49: • | S49: • | T49: 1996
B50: 1997 | C50: =ROUND(C14/C13*100-100,5) -> 5.20833 | D50: =ROUND(D14/D13*100-100,5) -> -3.55042 | E50: =ROUND(E14/E13*100-100,5) -> 6.35584 | F50: =ROUND(F14/F13*100-100,5) -> -2.24294 | G50: =ROUND(G14/G13*100-100,5) -> -2.93756 | H50: =ROUND(H14/H13*100-100,5) -> 11.07823 | I50: =ROUND(I14/I13*100-100,5) -> 5.49728 | J50: =ROUND(J14/J13*100-100,5) -> 0.57303 | K50: • | L50: • | M50: =ROUND(M14/M13*100-100,5) -> 12.47861 | N50: • | O50: • | P50: • | Q50: =ROUND(Q14/Q13*100-100,5) -> 10.05503 | R50: • | S50: • | T50: 1997
B51: 1998 | C51: =ROUND(C15/C14*100-100,5) -> 5.2096 | D51: =ROUND(D15/D14*100-100,5) -> -2.98103 | E51: =ROUND(E15/E14*100-100,5) -> 5.08277 | F51: =ROUND(F15/F14*100-100,5) -> 3.17342 | G51: =ROUND(G15/G14*100-100,5) -> 3.45429 | H51: =ROUND(H15/H14*100-100,5) -> 6.00562 | I51: =ROUND(I15/I14*100-100,5) -> 5.80165 | J51: =ROUND(J15/J14*100-100,5) -> 0.73595 | K51: • | L51: • | M51: =ROUND(M15/M14*100-100,5) -> 8.01319 | N51: • | O51: • | P51: • | Q51: =ROUND(Q15/Q14*100-100,5) -> 14.18606 | R51: • | S51: • | T51: 1998
B52: 1999 | C52: =ROUND(C16/C15*100-100,5) -> 7.35776 | D52: =ROUND(D16/D15*100-100,5) -> -0.88454 | E52: =ROUND(E16/E15*100-100,5) -> 11.12446 | F52: =ROUND(F16/F15*100-100,5) -> 0.12996 | G52: =ROUND(G16/G15*100-100,5) -> 0.32164 | H52: =ROUND(H16/H15*100-100,5) -> 16.29645 | I52: =ROUND(I16/I15*100-100,5) -> 6.69392 | J52: =ROUND(J16/J15*100-100,5) -> 3.04307 | K52: • | L52: • | M52: =ROUND(M16/M15*100-100,5) -> 9.74293 | N52: • | O52: • | P52: • | Q52: =ROUND(Q16/Q15*100-100,5) -> 10.5855 | R52: • | S52: • | T52: 1999
B53: 2000 | C53: =ROUND(C17/C16*100-100,5) -> 6.38007 | D53: =ROUND(D17/D16*100-100,5) -> 3.969 | E53: =ROUND(E17/E16*100-100,5) -> 6.30664 | F53: =ROUND(F17/F16*100-100,5) -> 3.3891 | G53: =ROUND(G17/G16*100-100,5) -> 3.54198 | H53: =ROUND(H17/H16*100-100,5) -> 7.48832 | I53: =ROUND(I17/I16*100-100,5) -> 6.54238 | J53: =ROUND(J17/J16*100-100,5) -> 3.06184 | K53: • | L53: • | M53: =ROUND(M17/M16*100-100,5) -> 6.00599 | N53: • | O53: • | P53: • | Q53: =ROUND(Q17/Q16*100-100,5) -> 12.9846 | R53: • | S53: • | T53: 2000
B54: 2001 | C54: =ROUND(C18/C17*100-100,5) -> 2.90971 | D54: =ROUND(D18/D17*100-100,5) -> 3.95302 | E54: =ROUND(E18/E17*100-100,5) -> 1.48606 | F54: =ROUND(F18/F17*100-100,5) -> 5.76092 | G54: =ROUND(G18/G17*100-100,5) -> 5.52934 | H54: =ROUND(H18/H17*100-100,5) -> -0.17933 | I54: =ROUND(I18/I17*100-100,5) -> 3.31215 | J54: =ROUND(J18/J17*100-100,5) -> -0.00277 | ... S54: =ROUND(S18/S17*100-100,5) -> 10.46435 | T54: 2001
B55: 2002 | C55: =ROUND(C19/C18*100-100,5) -> 0.15515 | D55: =ROUND(D19/D18*100-100,5) -> -0.56497 | E55: =ROUND(E19/E18*100-100,5) -> 0.33139 | F55: =ROUND(F19/F18*100-100,5) -> -2.21577 | G55: =ROUND(G19/G18*100-100,5) -> -2.40324 | H55: =ROUND(H19/H18*100-100,5) -> 1.38276 | I55: =ROUND(I19/I18*100-100,5) -> 0.13971 | J55: =ROUND(J19/J18*100-100,5) -> 0.10264 | ... S55: =ROUND(S19/S18*100-100,5) -> -1.3131 | T55: 2002
B56: 2003 | C56: =ROUND(C20/C19*100-100,5) -> 2.14823 | D56: =ROUND(D20/D19*100-100,5) -> 1.0271 | E56: =ROUND(E20/E19*100-100,5) -> -2.81138 | F56: =ROUND(F20/F19*100-100,5) -> -0.28325 | G56: =ROUND(G20/G19*100-100,5) -> -1.11668 | H56: =ROUND(H20/H19*100-100,5) -> -3.81786 | I56: =ROUND(I20/I19*100-100,5) -> 3.79136 | J56: =ROUND(J20/J19*100-100,5) -> 1.26919 | ... S56: =ROUND(S20/S19*100-100,5) -> 3.4301 | T56: 2003
B57: 2004 | C57: =ROUND(C21/C20*100-100,5) -> 5.28596 | D57: =ROUND(D21/D20*100-100,5) -> 0.38936 | E57: =ROUND(E21/E20*100-100,5) -> 2.94013 | F57: =ROUND(F21/F20*100-100,5) -> 1.8531 | G57: =ROUND(G21/G20*100-100,5) -> 1.95454 | H57: =ROUND(H21/H20*100-100,5) -> 3.38879 | I57: =ROUND(I21/I20*100-100,5) -> 6.2528 | J57: =ROUND(J21/J20*100-100,5) -> 1.96202 | ... S57: =ROUND(S21/S20*100-100,5) -> 15.23682 | T57: 2004
B58: 2005 | C58: =ROUND(C22/C21*100-100,5) -> 6.84917 | D58: =ROUND(D22/D21*100-100,5) -> 1.59448 | E58: =ROUND(E22/E21*100-100,5) -> 17.49011 | F58: =ROUND(F22/F21*100-100,5) -> 2.20452 | G58: =ROUND(G22/G21*100-100,5) -> 1.47685 | H58: =ROUND(H22/H21*100-100,5) -> 23.70538 | I58: =ROUND(I22/I21*100-100,5) -> 4.04381 | J58: =ROUND(J22/J21*100-100,5) -> 0.58506 | ... S58: =ROUND(S22/S21*100-100,5) -> 7.15477 | T58: 2005
B59: 2006 | C59: =ROUND(C23/C22*100-100,5) -> 1.23027 | D59: =ROUND(D23/D22*100-100,5) -> -0.78473 | E59: =ROUND(E23/E22*100-100,5) -> 4.58422 | F59: =ROUND(F23/F22*100-100,5) -> -1.40333 | G59: =ROUND(G23/G22*100-100,5) -> -1.34341 | H59: =ROUND(H23/H22*100-100,5) -> 6.59566 | I59: =ROUND(I23/I22*100-100,5) -> 0.23678 | J59: =ROUND(J23/J22*100-100,5) -> -1.10462 | ... S59: =ROUND(S23/S22*100-100,5) -> -3.44338 | T59: 2006
B60: 2007 | C60: =ROUND(C24/C23*100-100,5) -> 1.20231 | D60: =ROUND(D24/D23*100-100,5) -> 2.60795 | E60: =ROUND(E24/E23*100-100,5) -> 1.96513 | F60: =ROUND(F24/F23*100-100,5) -> 1.46284 | G60: =ROUND(G24/G23*100-100,5) -> 0.97872 | H60: =ROUND(H24/H23*100-100,5) -> 2.12121 | I60: =ROUND(I24/I23*100-100,5) -> 0.87254 | J60: =ROUND(J24/J23*100-100,5) -> -1.38136 | ... S60: =ROUND(S24/S23*100-100,5) -> 2.03881 | T60: 2007
B61: 2008 | C61: =ROUND(C25/C24*100-100,5) -> 3.2563 | D61: =ROUND(D25/D24*100-100,5) -> -0.95833 | E61: =ROUND(E25/E24*100-100,5) -> 1.532 | F61: =ROUND(F25/F24*100-100,5) -> 1.16898 | G61: =ROUND(G25/G24*100-100,5) -> 1.29232 | H61: =ROUND(H25/H24*100-100,5) -> 1.64408 | I61: =ROUND(I25/I24*100-100,5) -> 4.06333 | J61: =ROUND(J25/J24*100-100,5) -> -0.86723 | ... S61: =ROUND(S25/S24*100-100,5) -> 11.28124 | T61: 2008
B62: 2009 | C62: =ROUND(C26/C25*100-100,5) -> 2.52889 | D62: =ROUND(D26/D25*100-100,5) -> -2.60833 | E62: =ROUND(E26/E25*100-100,5) -> -0.26556 | F62: =ROUND(F26/F25*100-100,5) -> 0.80883 | G62: =ROUND(G26/G25*100-100,5) -> 0.16641 | H62: =ROUND(H26/H25*100-100,5) -> -0.59571 | I62: =ROUND(I26/I25*100-100,5) -> 3.71512 | J62: =ROUND(J26/J25*100-100,5) -> -0.39188 | ... S62: =ROUND(S26/S25*100-100,5) -> 0.7651 | T62: 2009
B63: 2010 | C63: =ROUND(C27/C26*100-100,5) -> -0.16143 | D63: =ROUND(D27/D26*100-100,5) -> -3.04536 | E63: =ROUND(E27/E26*100-100,5) -> -1.56737 | F63: =ROUND(F27/F26*100-100,5) -> -0.16556 | G63: =ROUND(G27/G26*100-100,5) -> -0.20767 | H63: =ROUND(H27/H26*100-100,5) -> -2.00421 | I63: =ROUND(I27/I26*100-100,5) -> 0.4232 | J63: =ROUND(J27/J26*100-100,5) -> -0.27705 | ... S63: =ROUND(S27/S26*100-100,5) -> -7.15817 | T63: 2010
B64: 2011 | C64: =ROUND(C28/C27*100-100,5) -> -1.59764 | D64: =ROUND(D28/D27*100-100,5) -> 0.69058 | E64: =ROUND(E28/E27*100-100,5) -> 3.36295 | F64: =ROUND(F28/F27*100-100,5) -> -0.31892 | G64: =ROUND(G28/G27*100-100,5) -> -0.29134 | H64: =ROUND(H28/H27*100-100,5) -> 4.53183 | I64: =ROUND(I28/I27*100-100,5) -> -3.26816 | J64: =ROUND(J28/J27*100-100,5) -> -2.28927 | ... S64: =ROUND(S28/S27*100-100,5) -> -3.23176 | T64: 2011
B65: 2012 | C65: =ROUND(C29/C28*100-100,5) -> -0.8914 | D65: =ROUND(D29/D28*100-100,5) -> -4.57965 | E65: =ROUND(E29/E28*100-100,5) -> 1.56729 | F65: =ROUND(F29/F28*100-100,5) -> -1.51011 | G65: =ROUND(G29/G28*100-100,5) -> -1.51663 | H65: =ROUND(H29/H28*100-100,5) -> 2.49893 | I65: =ROUND(I29/I28*100-100,5) -> -1.55547 | J65: =ROUND(J29/J28*100-100,5) -> -1.39608 | ... S65: =ROUND(S29/S28*100-100,5) -> -1.63577 | T65: 2012
... B78: 2025 | C78: =ROUND(C42/C41*100-100,5) -> -3.75916 | D78: =ROUND(D42/D41*100-100,5) -> -20.4932 | E78: =ROUND(E42/E41*100-100,5) -> -3.25284 | F78: =ROUND(F42/F41*100-100,5) -> -0.77098 | G78: =ROUND(G42/G41*100-100,5) -> -0.46177 | H78: =ROUND(H42/H41*100-100,5) -> -3.91542 | I78: =ROUND(I42/I41*100-100,5) -> -2.9817 | J78: =ROUND(J42/J41*100-100,5) -> -3.51346 | ... S78: =ROUND(S42/S41*100-100,5) -> -10.20691 | T78: 2025
C80: Anteil an den Selbstständigen insgesamt in % | I80: Anteil an den Selbstständigen insgesamt in %
B81: 1991 | C81: 100 | D81: =ROUND(D8/$C8*100,5) -> 6.47688 | E81: =ROUND(E8/$C8*100,5) -> 20.11401 | F81: =ROUND(F8/$C8*100,5) -> 8.60482 | G81: =ROUND(G8/$C8*100,5) -> 8.4289 | H81: =ROUND(H8/$C8*100,5) -> 11.50919 | I81: =ROUND(I8/$C8*100,5) -> 73.40911 | J81: =ROUND(J8/$C8*100,5) -> 39.18434 | K81: • | L81: • | M81: =ROUND(M8/$C8*100,5) -> 13.11445 | N81: • | O81: • | P81: • | Q81: =ROUND(Q8/$C8*100,5) -> 21.11032 | R81: • | S81: • | T81: 1991
B82: 1992 | C82: 100 | D82: =ROUND(D9/$C9*100,5) -> 7.08293 | E82: =ROUND(E9/$C9*100,5) -> 20.09989 | F82: =ROUND(F9/$C9*100,5) -> 10.09522 | G82: =ROUND(G9/$C9*100,5) -> 9.77829 | H82: =ROUND(H9/$C9*100,5) -> 10.00467 | I82: =ROUND(I9/$C9*100,5) -> 72.81718 | J82: =ROUND(J9/$C9*100,5) -> 41.70805 | K82: • | L82: • | M82: =ROUND(M9/$C9*100,5) -> 12.46657 | N82: • | O82: • | P82: • | Q82: =ROUND(Q9/$C9*100,5) -> 18.64256 | R82: • | S82: • | T82: 1992
B83: 1993 | C83: 100 | D83: =ROUND(D10/$C10*100,5) -> 6.54474 | E83: =ROUND(E10/$C10*100,5) -> 20.21506 | F83: =ROUND(F10/$C10*100,5) -> 10.14275 | G83: =ROUND(G10/$C10*100,5) -> 9.7573 | H83: =ROUND(H10/$C10*100,5) -> 10.07231 | I83: =ROUND(I10/$C10*100,5) -> 73.2402 | J83: =ROUND(J10/$C10*100,5) -> 41.30337 | K83: • | L83: • | M83: =ROUND(M10/$C10*100,5) -> 14.16476 | N83: • | O83: • | P83: • | Q83: =ROUND(Q10/$C10*100,5) -> 17.77208 | R83: • | S83: • | T83: 1993
B84: 1994 | C84: 100 | D84: =ROUND(D11/$C11*100,5) -> 6.49959 | E84: =ROUND(E11/$C11*100,5) -> 20.07351 | F84: =ROUND(F11/$C11*100,5) -> 9.31896 | G84: =ROUND(G11/$C11*100,5) -> 8.97856 | H84: =ROUND(H11/$C11*100,5) -> 10.75454 | I84: =ROUND(I11/$C11*100,5) -> 73.4269 | J84: =ROUND(J11/$C11*100,5) -> 40.58854 | K84: • | L84: • | M84: =ROUND(M11/$C11*100,5) -> 15.18956 | N84: • | O84: • | P84: • | Q84: =ROUND(Q11/$C11*100,5) -> 17.6488 | R84: • | S84: • | T84: 1994
B85: 1995 | C85: 100 | D85: =ROUND(D12/$C12*100,5) -> 5.84734 | E85: =ROUND(E12/$C12*100,5) -> 20.64473 | F85: =ROUND(F12/$C12*100,5) -> 7.9214 | G85: =ROUND(G12/$C12*100,5) -> 7.46994 | H85: =ROUND(H12/$C12*100,5) -> 12.72333 | I85: =ROUND(I12/$C12*100,5) -> 73.50793 | J85: =ROUND(J12/$C12*100,5) -> 40.171 | K85: • | L85: • | M85: =ROUND(M12/$C12*100,5) -> 15.46079 | N85: • | O85: • | P85: • | Q85: =ROUND(Q12/$C12*100,5) -> 17.87613 | R85: • | S85: • | T85: 1995
B86: 1996 | C86: 100 | D86: =ROUND(D13/$C13*100,5) -> 5.32549 | E86: =ROUND(E13/$C13*100,5) -> 22.46659 | F86: =ROUND(F13/$C13*100,5) -> 7.96446 | G86: =ROUND(G13/$C13*100,5) -> 7.54222 | H86: =ROUND(H13/$C13*100,5) -> 14.50213 | I86: =ROUND(I13/$C13*100,5) -> 72.20792 | J86: =ROUND(J13/$C13*100,5) -> 38.86646 | K86: • | L86: • | M86: =ROUND(M13/$C13*100,5) -> 16.26763 | N86: • | O86: • | P86: • | Q86: =ROUND(Q13/$C13*100,5) -> 17.07382 | R86: • | S86: • | T86: 1996
B87: 1997 | C87: 100 | D87: =ROUND(D14/$C14*100,5) -> 4.88214 | E87: =ROUND(E14/$C14*100,5) -> 22.71164 | F87: =ROUND(F14/$C14*100,5) -> 7.40038 | G87: =ROUND(G14/$C14*100,5) -> 6.95826 | H87: =ROUND(H14/$C14*100,5) -> 15.31125 | I87: =ROUND(I14/$C14*100,5) -> 72.40623 | J87: =ROUND(J14/$C14*100,5) -> 37.15407 | K87: • | L87: • | M87: =ROUND(M14/$C14*100,5) -> 17.39178 | N87: • | O87: • | P87: • | Q87: =ROUND(Q14/$C14*100,5) -> 17.86037 | R87: • | S87: • | T87: 1997
B88: 1998 | C88: 100 | D88: =ROUND(D15/$C15*100,5) -> 4.50206 | E88: =ROUND(E15/$C15*100,5) -> 22.68426 | F88: =ROUND(F15/$C15*100,5) -> 7.25716 | G88: =ROUND(G15/$C15*100,5) -> 6.84217 | H88: =ROUND(H15/$C15*100,5) -> 15.4271 | I88: =ROUND(I15/$C15*100,5) -> 72.81368 | J88: =ROUND(J15/$C15*100,5) -> 35.57423 | K88: • | L88: • | M88: =ROUND(M15/$C15*100,5) -> 17.85523 | N88: • | O88: • | P88: • | Q88: =ROUND(Q15/$C15*100,5) -> 19.38422 | R88: • | S88: • | T88: 1998
B89: 1999 | C89: 100 | D89: =ROUND(D16/$C16*100,5) -> 4.15642 | E89: =ROUND(E16/$C16*100,5) -> 23.48015 | F89: =ROUND(F16/$C16*100,5) -> 6.76858 | G89: =ROUND(G16/$C16*100,5) -> 6.39374 | H89: =ROUND(H16/$C16*100,5) -> 16.71157 | I89: =ROUND(I16/$C16*100,5) -> 72.36344 | J89: =ROUND(J16/$C16*100,5) -> 34.14451 | K89: • | L89: • | M89: =ROUND(M16/$C16*100,5) -> 18.25192 | N89: • | O89: • | P89: • | Q89: =ROUND(Q16/$C16*100,5) -> 19.96701 | R89: • | S89: • | T89: 1999
B90: 2000 | C90: 100 | D90: =ROUND(D17/$C17*100,5) -> 4.06221 | E90: =ROUND(E17/$C17*100,5) -> 23.46394 | F90: =ROUND(F17/$C17*100,5) -> 6.57827 | G90: =ROUND(G17/$C17*100,5) -> 6.22316 | H90: =ROUND(H17/$C17*100,5) -> 16.88567 | I90: =ROUND(I17/$C17*100,5) -> 72.47385 | J90: =ROUND(J17/$C17*100,5) -> 33.07946 | K90: =ROUND(K17/$C17*100,5) -> 31.9866 | ... S90: =ROUND(S17/$C17*100,5) -> 9.74215 | T90: 2000
B91: 2001 | C91: 100 | D91: =ROUND(D18/$C18*100,5) -> 4.1034 | E91: =ROUND(E18/$C18*100,5) -> 23.13934 | F91: =ROUND(F18/$C18*100,5) -> 6.76053 | G91: =ROUND(G18/$C18*100,5) -> 6.38157 | H91: =ROUND(H18/$C18*100,5) -> 16.37881 | I91: =ROUND(I18/$C18*100,5) -> 72.75726 | J91: =ROUND(J18/$C18*100,5) -> 32.14327 | K91: =ROUND(K18/$C18*100,5) -> 30.95024 | ... S91: =ROUND(S18/$C18*100,5) -> 10.45733 | T91: 2001
B92: 2002 | C92: 100 | D92: =ROUND(D19/$C19*100,5) -> 4.07389 | E92: =ROUND(E19/$C19*100,5) -> 23.18006 | F92: =ROUND(F19/$C19*100,5) -> 6.60049 | G92: =ROUND(G19/$C19*100,5) -> 6.21856 | H92: =ROUND(H19/$C19*100,5) -> 16.57957 | I92: =ROUND(I19/$C19*100,5) -> 72.74605 | J92: =ROUND(J19/$C19*100,5) -> 32.12642 | K92: =ROUND(K19/$C19*100,5) -> 30.62275 | ... S92: =ROUND(S19/$C19*100,5) -> 10.30403 | T92: 2002
B93: 2003 | C93: 100 | D93: =ROUND(D20/$C20*100,5) -> 4.02918 | E93: =ROUND(E20/$C20*100,5) -> 22.05459 | F93: =ROUND(F20/$C20*100,5) -> 6.44338 | G93: =ROUND(G20/$C20*100,5) -> 6.0198 | H93: =ROUND(H20/$C20*100,5) -> 15.61122 | I93: =ROUND(I20/$C20*100,5) -> 73.91623 | J93: =ROUND(J20/$C20*100,5) -> 31.84995 | K93: =ROUND(K20/$C20*100,5) -> 29.91773 | ... S93: =ROUND(S20/$C20*100,5) -> 10.43334 | T93: 2003
B94: 2004 | C94: 100 | D94: =ROUND(D21/$C21*100,5) -> 3.84179 | E94: =ROUND(E21/$C21*100,5) -> 21.56321 | F94: =ROUND(F21/$C21*100,5) -> 6.23329 | G94: =ROUND(G21/$C21*100,5) -> 5.82933 | H94: =ROUND(H21/$C21*100,5) -> 15.32992 | I94: =ROUND(I21/$C21*100,5) -> 74.595 | J94: =ROUND(J21/$C21*100,5) -> 30.84443 | K94: =ROUND(K21/$C21*100,5) -> 28.75674 | ... S94: =ROUND(S21/$C21*100,5) -> 11.41942 | T94: 2004
B95: 2005 | C95: 100 | D95: =ROUND(D22/$C22*100,5) -> 3.65286 | E95: =ROUND(E22/$C22*100,5) -> 23.71065 | F95: =ROUND(F22/$C22*100,5) -> 5.96233 | G95: =ROUND(G22/$C22*100,5) -> 5.53623 | H95: =ROUND(H22/$C22*100,5) -> 17.74832 | I95: =ROUND(I22/$C22*100,5) -> 72.63649 | J95: =ROUND(J22/$C22*100,5) -> 29.03616 | K95: =ROUND(K22/$C22*100,5) -> 26.88085 | ... S95: =ROUND(S22/$C22*100,5) -> 11.45208 | T95: 2005
B96: 2006 | C96: 100 | D96: =ROUND(D23/$C23*100,5) -> 3.58015 | E96: =ROUND(E23/$C23*100,5) -> 24.49623 | F96: =ROUND(F23/$C23*100,5) -> 5.80722 | G96: =ROUND(G23/$C23*100,5) -> 5.39548 | H96: =ROUND(H23/$C23*100,5) -> 18.68901 | I96: =ROUND(I23/$C23*100,5) -> 71.92362 | J96: =ROUND(J23/$C23*100,5) -> 28.36643 | K96: =ROUND(K23/$C23*100,5) -> 26.05288 | ... S96: =ROUND(S23/$C23*100,5) -> 10.92335 | T96: 2006
B97: 2007 | C97: 100 | D97: =ROUND(D24/$C24*100,5) -> 3.62987 | E97: =ROUND(E24/$C24*100,5) -> 24.68087 | F97: =ROUND(F24/$C24*100,5) -> 5.82217 | G97: =ROUND(G24/$C24*100,5) -> 5.38356 | H97: =ROUND(H24/$C24*100,5) -> 18.85871 | I97: =ROUND(I24/$C24*100,5) -> 71.68925 | J97: =ROUND(J24/$C24*100,5) -> 27.64225 | K97: =ROUND(K24/$C24*100,5) -> 25.31459 | ... S97: =ROUND(S24/$C24*100,5) -> 11.01364 | T97: 2007
B98: 2008 | C98: 100 | D98: =ROUND(D25/$C25*100,5) -> 3.48171 | E98: =ROUND(E25/$C25*100,5) -> 24.26872 | F98: =ROUND(F25/$C25*100,5) -> 5.70447 | G98: =ROUND(G25/$C25*100,5) -> 5.28116 | H98: =ROUND(H25/$C25*100,5) -> 18.56425 | I98: =ROUND(I25/$C25*100,5) -> 72.24956 | J98: =ROUND(J25/$C25*100,5) -> 26.53835 | K98: =ROUND(K25/$C25*100,5) -> 24.3405 | ... S98: =ROUND(S25/$C25*100,5) -> 11.86961 | T98: 2008
B99: 2009 | C99: 100 | D99: =ROUND(D26/$C26*100,5) -> 3.30726 | E99: =ROUND(E26/$C26*100,5) -> 23.60727 | F99: =ROUND(F26/$C26*100,5) -> 5.60877 | G99: =ROUND(G26/$C26*100,5) -> 5.15947 | H99: =ROUND(H26/$C26*100,5) -> 17.9985 | I99: =ROUND(I26/$C26*100,5) -> 73.08547 | J99: =ROUND(J26/$C26*100,5) -> 25.78235 | K99: =ROUND(K26/$C26*100,5) -> 23.63013 | ... S99: =ROUND(S26/$C26*100,5) -> 11.66542 | T99: 2009
B100: 2010 | C100: 100 | D100: =ROUND(D27/$C27*100,5) -> 3.21173 | E100: =ROUND(E27/$C27*100,5) -> 23.27483 | F100: =ROUND(F27/$C27*100,5) -> 5.60854 | G100: =ROUND(G27/$C27*100,5) -> 5.15708 | H100: =ROUND(H27/$C27*100,5) -> 17.66629 | I100: =ROUND(I27/$C27*100,5) -> 73.51344 | J100: =ROUND(J27/$C27*100,5) -> 25.75249 | K100: =ROUND(K27/$C27*100,5) -> 23.53312 | ... S100: =ROUND(S27/$C27*100,5) -> 10.8479 | T100: 2010
B101: 2011 | C101: 100 | D101: =ROUND(D28/$C28*100,5) -> 3.28641 | E101: =ROUND(E28/$C28*100,5) -> 24.44814 | F101: =ROUND(F28/$C28*100,5) -> 5.68142 | G101: =ROUND(G28/$C28*100,5) -> 5.22554 | H101: =ROUND(H28/$C28*100,5) -> 18.76672 | I101: =ROUND(I28/$C28*100,5) -> 72.26544 | J101: =ROUND(J28/$C28*100,5) -> 25.57149 | K101: =ROUND(K28/$C28*100,5) -> 23.34443 | ... S101: =ROUND(S28/$C28*100,5) -> 10.66775 | T101: 2011
... B115: 2025 | C115: 100 | D115: =ROUND(D42/$C42*100,5) -> 3.36755 | E115: =ROUND(E42/$C42*100,5) -> 23.59355 | F115: =ROUND(F42/$C42*100,5) -> 5.09905 | G115: =ROUND(G42/$C42*100,5) -> 4.85233 | H115: =ROUND(H42/$C42*100,5) -> 18.49451 | I115: =ROUND(I42/$C42*100,5) -> 73.0389 | J115: =ROUND(J42/$C42*100,5) -> 21.78462 | K115: =ROUND(K42/$C42*100,5) -> 18.89069 | ... S115: =ROUND(S42/$C42*100,5) -> 10.51144 | T115: 2025
B116: _____
B117: Die Daten für die Jahre 1991 bis 2021 werden hier teilweise nicht dargestellt. In der Excel-Version dieser Veröffentlichung sind die Angaben vorhanden.

Sheet T5
A1: 5 Erwerbstätige am Arbeitsort im Land Brandenburg 2008 bis 2025 nach Wirtschaftsbereichen | O1: 5 Erwerbstätige am Arbeitsort im Land Brandenburg 2008 bis 2025 nach Wirtschaftsbereichen
A3: Jahr | B3: Ins- gesamt | C3: Land- und Forst- wirt- schaft, Fische- rei | D3: Produzierendes Gewerbe ohne Baugewerbe | I3: Bau- ge- werbe | J3: Handel, Verkehr und Lagerei, Gastgewerbe | N3: Infor- mation und Kom- muni- ka- tion | O3: Finanz- und Versiche- rungs- dienst- leister | P3: Grund- stücks- und Woh-nungs- wesen | Q3: Unternehmensdienstleister | T3: Öffentliche Dienstleister, Erziehung, Gesundheit | X3: sonstige Dienstleister | AB3: Jahr
D4: zu- sam- men | E4: Bergbau und Gewin- nung von Steinen und Erden | F4: Verarbei- tendes Gewerbe | G4: Energie- versor- gung | H4: Wasser- versor- gung, Entsor- gung u.Ä. | J4: zu- sam- men | K4: Handel; Instandh. und Repa- ratur von Kfz | L4: Verkehr und Lagerei | M4: Gast- ge- werbe | Q4: zu- sam- men | R4: Frei- berufl., wiss. u. techn. Dienst- leister | S4: Sonstige Unter-nehmens- dienst- leister | T4: zu- sam- men | U4: Öffentliche Verwaltg., Verteid., Sozial- versiche- rung | V4: Erzieh- ung und Unter-richt | W4: Gesund- heits- und Sozial- wesen | X4: zu- sam- men | Y4: Kunst, Unter- haltung und Erholung | Z4: Sonstige Dienst- leister a.n.g. | AA4: Häus- liche Dienste
B6: Jahresdurchschnitt in 1 000 Personen | O6: Jahresdurchschnitt in 1 000 Personen
A7: 2008 | B7: 1063.312 | C7: 30.014 | D7: 144.441 | E7: 3.68 | F7: 118.848 | G7: 7.524 | H7: 14.389 | I7: 93.883 | J7: 244.627 | K7: 142.221 | L7: 60.832 | M7: 41.574 | N7: 23.44 | O7: 18.652 | P7: 12.507 | Q7: 129.463 | R7: 49.33 | S7: 80.133 | T7: 293.109 | U7: 95.764 | V7: 64.19 | W7: 133.155 | X7: 73.176 | Y7: 17.768 | Z7: 44.953 | AA7: 10.455 | AB7: 2008
A8: 2009 | B8: 1076.557 | C8: 29.918 | D8: 144.789 | E8: 3.624 | F8: 119.528 | G8: 7.601 | H8: 14.036 | I8: 93.667 | J8: 245.877 | K8: 141.843 | L8: 60.592 | M8: 43.442 | N8: 23.505 | O8: 19.455 | P8: 12 | Q8: 132.668 | R8: 51.354 | S8: 81.314 | T8: 298.748 | U8: 97.361 | V8: 63.383 | W8: 138.004 | X8: 75.93 | Y8: 18.61 | Z8: 46.558 | AA8: 10.762 | AB8: 2009
A9: 2010 | B9: 1081.754 | C9: 29.027 | D9: 144.404 | E9: 3.601 | F9: 119.57 | G9: 7.661 | H9: 13.572 | I9: 92.602 | J9: 247.53 | K9: 140.892 | L9: 62.578 | M9: 44.06 | N9: 23.342 | O9: 19.952 | P9: 12.06 | Q9: 138.787 | R9: 51.996 | S9: 86.791 | T9: 298.51 | U9: 95.552 | V9: 61.248 | W9: 141.71 | X9: 75.54 | Y9: 18.274 | Z9: 46.405 | AA9: 10.861 | AB9: 2010
A10: 2011 | B10: 1080.906 | C10: 29.524 | D10: 151.348 | E10: 3.478 | F10: 126.32 | G10: 7.876 | H10: 13.674 | I10: 95.201 | J10: 250.089 | K10: 141.915 | L10: 64.33 | M10: 43.844 | N10: 23.763 | O10: 19.265 | P10: 11.987 | Q10: 138.212 | R10: 50.581 | S10: 87.631 | T10: 288.47 | U10: 89.028 | V10: 57.053 | W10: 142.389 | X10: 73.047 | Y10: 17.137 | Z10: 44.918 | AA10: 10.992 | AB10: 2011
A11: 2012 | B11: 1083.504 | C11: 29.479 | D11: 152.514 | E11: 3.713 | F11: 127.974 | G11: 7.815 | H11: 13.012 | I11: 95.721 | J11: 254.852 | K11: 143.371 | L11: 66.542 | M11: 44.939 | N11: 23.167 | O11: 18.706 | P11: 12.062 | Q11: 139.381 | R11: 50.744 | S11: 88.637 | T11: 286.421 | U11: 86.154 | V11: 54.879 | W11: 145.388 | X11: 71.201 | Y11: 16.7 | Z11: 43.415 | AA11: 11.086 | AB11: 2012
A12: 2013 | B12: 1081.834 | C12: 29.417 | D12: 151.479 | E12: 3.672 | F12: 127.143 | G12: 7.924 | H12: 12.74 | I12: 94.139 | J12: 254.697 | K12: 141.179 | L12: 68.017 | M12: 45.501 | N12: 21.081 | O12: 18.09 | P12: 12.448 | Q12: 143.779 | R12: 53.678 | S12: 90.101 | T12: 287.301 | U12: 85.189 | V12: 55.099 | W12: 147.013 | X12: 69.403 | Y12: 16.461 | Z12: 41.667 | AA12: 11.275 | AB12: 2013
A13: 2014 | B13: 1082.629 | C13: 29.412 | D13: 152.174 | E13: 3.685 | F13: 127.601 | G13: 8.124 | H13: 12.764 | I13: 93.662 | J13: 256.546 | K13: 140.551 | L13: 70.035 | M13: 45.96 | N13: 18.975 | O13: 17.967 | P13: 12.568 | Q13: 145.419 | R13: 54.863 | S13: 90.556 | T13: 288.336 | U13: 84.545 | V13: 55.231 | W13: 148.56 | X13: 67.57 | Y13: 16.428 | Z13: 39.905 | AA13: 11.237 | AB13: 2014
A14: 2015 | B14: 1084.937 | C14: 29.482 | D14: 151.488 | E14: 3.633 | F14: 127.254 | G14: 8.094 | H14: 12.507 | I14: 93.076 | J14: 256.016 | K14: 138.15 | L14: 72.252 | M14: 45.614 | N14: 17.526 | O14: 18.527 | P14: 12.392 | Q14: 146.345 | R14: 53.002 | S14: 93.343 | T14: 292.494 | U14: 84.125 | V14: 54.538 | W14: 153.831 | X14: 67.591 | Y14: 17 | Z14: 39.251 | AA14: 11.34 | AB14: 2015
A15: 2016 | B15: 1099.041 | C15: 29.309 | D15: 151.449 | E15: 3.468 | F15: 127.585 | G15: 8.349 | H15: 12.047 | I15: 93.254 | J15: 257.646 | K15: 138.438 | L15: 73.451 | M15: 45.757 | N15: 17.303 | O15: 18.567 | P15: 12.024 | Q15: 149.513 | R15: 53.348 | S15: 96.165 | T15: 301.092 | U15: 84.873 | V15: 55.184 | W15: 161.035 | X15: 68.884 | Y15: 16.773 | Z15: 40.544 | AA15: 11.567 | AB15: 2016
A16: 2017 | B16: 1113.207 | C16: 29.994 | D16: 152.141 | E16: 3.392 | F16: 128.555 | G16: 8.235 | H16: 11.959 | I16: 93.479 | J16: 261.778 | K16: 138.84 | L16: 76.356 | M16: 46.582 | N16: 17.701 | O16: 17.763 | P16: 12.097 | Q16: 151.985 | R16: 54.086 | S16: 97.899 | T16: 307.02 | U16: 85.402 | V16: 55.275 | W16: 166.343 | X16: 69.249 | Y16: 17.125 | Z16: 40.21 | AA16: 11.914 | AB16: 2017
A17: 2018 | B17: 1123.923 | C17: 28.795 | D17: 153.979 | E17: 2.975 | F17: 130.535 | G17: 8.213 | H17: 12.256 | I17: 95.552 | J17: 267.988 | K17: 139.758 | L17: 81.753 | M17: 46.477 | N17: 17.461 | O17: 16.647 | P17: 12.518 | Q17: 151.498 | R17: 53.832 | S17: 97.666 | T17: 311.41 | U17: 85.525 | V17: 56.123 | W17: 169.762 | X17: 68.075 | Y17: 17.78 | Z17: 38.179 | AA17: 12.116 | AB17: 2018
A18: 2019 | B18: 1129.779 | C18: 27.92 | D18: 154.163 | E18: 3.047 | F18: 130.746 | G18: 8.062 | H18: 12.308 | I18: 97 | J18: 267.008 | K18: 138.861 | L18: 81.066 | M18: 47.081 | N18: 17.808 | O18: 16.333 | P18: 12.858 | Q18: 151.31 | R18: 53.514 | S18: 97.796 | T18: 316.561 | U18: 86.367 | V18: 57.688 | W18: 172.506 | X18: 68.818 | Y18: 18.776 | Z18: 37.303 | AA18: 12.739 | AB18: 2019
... A24: 2025 | B24: 1144.106 | C24: 24.345 | D24: 153.29 | E24: 2.187 | F24: 129.324 | G24: 9.009 | H24: 12.77 | I24: 91.392 | J24: 263.095 | K24: 134.106 | L24: 82.806 | M24: 46.183 | N24: 17.219 | O24: 14.495 | P24: 14.302 | Q24: 146.074 | R24: 55.327 | S24: 90.747 | T24: 354.5 | U24: 96.759 | V24: 66.301 | W24: 191.44 | X24: 65.394 | Y24: 16.067 | Z24: 35.858 | AA24: 13.469 | AB24: 2025
B26: Veränderung zum Vorjahr in % | O26: Veränderung zum Vorjahr in %
A27: 2009 | B27: =ROUND(B8/B7*100-100,5) -> 1.24564 | C27: =ROUND(C8/C7*100-100,5) -> -0.31985 | D27: =ROUND(D8/D7*100-100,5) -> 0.24093 | E27: =ROUND(E8/E7*100-100,5) -> -1.52174 | F27: =ROUND(F8/F7*100-100,5) -> 0.57216 | G27: =ROUND(G8/G7*100-100,5) -> 1.02339 | H27: =ROUND(H8/H7*100-100,5) -> -2.45326 | I27: =ROUND(I8/I7*100-100,5) -> -0.23007 | ... AA27: =ROUND(AA8/AA7*100-100,5) -> 2.93639 | AB27: 2009
A28: 2010 | B28: =ROUND(B9/B8*100-100,5) -> 0.48274 | C28: =ROUND(C9/C8*100-100,5) -> -2.97814 | D28: =ROUND(D9/D8*100-100,5) -> -0.2659 | E28: =ROUND(E9/E8*100-100,5) -> -0.63466 | F28: =ROUND(F9/F8*100-100,5) -> 0.03514 | G28: =ROUND(G9/G8*100-100,5) -> 0.78937 | H28: =ROUND(H9/H8*100-100,5) -> -3.30579 | I28: =ROUND(I9/I8*100-100,5) -> -1.13701 | ... AA28: =ROUND(AA9/AA8*100-100,5) -> 0.9199 | AB28: 2010
A29: 2011 | B29: =ROUND(B10/B9*100-100,5) -> -0.07839 | C29: =ROUND(C10/C9*100-100,5) -> 1.7122 | D29: =ROUND(D10/D9*100-100,5) -> 4.80873 | E29: =ROUND(E10/E9*100-100,5) -> -3.41572 | F29: =ROUND(F10/F9*100-100,5) -> 5.64523 | G29: =ROUND(G10/G9*100-100,5) -> 2.80642 | H29: =ROUND(H10/H9*100-100,5) -> 0.75155 | I29: =ROUND(I10/I9*100-100,5) -> 2.80663 | ... AA29: =ROUND(AA10/AA9*100-100,5) -> 1.20615 | AB29: 2011
A30: 2012 | B30: =ROUND(B11/B10*100-100,5) -> 0.24035 | C30: =ROUND(C11/C10*100-100,5) -> -0.15242 | D30: =ROUND(D11/D10*100-100,5) -> 0.77041 | E30: =ROUND(E11/E10*100-100,5) -> 6.75676 | F30: =ROUND(F11/F10*100-100,5) -> 1.30937 | G30: =ROUND(G11/G10*100-100,5) -> -0.7745 | H30: =ROUND(H11/H10*100-100,5) -> -4.8413 | I30: =ROUND(I11/I10*100-100,5) -> 0.54621 | ... AA30: =ROUND(AA11/AA10*100-100,5) -> 0.85517 | AB30: 2012
A31: 2013 | B31: =ROUND(B12/B11*100-100,5) -> -0.15413 | C31: =ROUND(C12/C11*100-100,5) -> -0.21032 | D31: =ROUND(D12/D11*100-100,5) -> -0.67863 | E31: =ROUND(E12/E11*100-100,5) -> -1.10423 | F31: =ROUND(F12/F11*100-100,5) -> -0.64935 | G31: =ROUND(G12/G11*100-100,5) -> 1.39475 | H31: =ROUND(H12/H11*100-100,5) -> -2.09038 | I31: =ROUND(I12/I11*100-100,5) -> -1.65272 | ... AA31: =ROUND(AA12/AA11*100-100,5) -> 1.70485 | AB31: 2013
A32: 2014 | B32: =ROUND(B13/B12*100-100,5) -> 0.07349 | C32: =ROUND(C13/C12*100-100,5) -> -0.017 | D32: =ROUND(D13/D12*100-100,5) -> 0.45881 | E32: =ROUND(E13/E12*100-100,5) -> 0.35403 | F32: =ROUND(F13/F12*100-100,5) -> 0.36022 | G32: =ROUND(G13/G12*100-100,5) -> 2.52398 | H32: =ROUND(H13/H12*100-100,5) -> 0.18838 | I32: =ROUND(I13/I12*100-100,5) -> -0.5067 | ... AA32: =ROUND(AA13/AA12*100-100,5) -> -0.33703 | AB32: 2014
A33: 2015 | B33: =ROUND(B14/B13*100-100,5) -> 0.21318 | C33: =ROUND(C14/C13*100-100,5) -> 0.238 | D33: =ROUND(D14/D13*100-100,5) -> -0.4508 | E33: =ROUND(E14/E13*100-100,5) -> -1.41113 | F33: =ROUND(F14/F13*100-100,5) -> -0.27194 | G33: =ROUND(G14/G13*100-100,5) -> -0.36928 | H33: =ROUND(H14/H13*100-100,5) -> -2.01348 | I33: =ROUND(I14/I13*100-100,5) -> -0.62565 | ... AA33: =ROUND(AA14/AA13*100-100,5) -> 0.91661 | AB33: 2015
A34: 2016 | B34: =ROUND(B15/B14*100-100,5) -> 1.29998 | C34: =ROUND(C15/C14*100-100,5) -> -0.5868 | D34: =ROUND(D15/D14*100-100,5) -> -0.02574 | E34: =ROUND(E15/E14*100-100,5) -> -4.5417 | F34: =ROUND(F15/F14*100-100,5) -> 0.26011 | G34: =ROUND(G15/G14*100-100,5) -> 3.15048 | H34: =ROUND(H15/H14*100-100,5) -> -3.67794 | I34: =ROUND(I15/I14*100-100,5) -> 0.19124 | ... AA34: =ROUND(AA15/AA14*100-100,5) -> 2.00176 | AB34: 2016
A35: 2017 | B35: =ROUND(B16/B15*100-100,5) -> 1.28894 | C35: =ROUND(C16/C15*100-100,5) -> 2.33717 | D35: =ROUND(D16/D15*100-100,5) -> 0.45692 | E35: =ROUND(E16/E15*100-100,5) -> -2.19146 | F35: =ROUND(F16/F15*100-100,5) -> 0.76028 | G35: =ROUND(G16/G15*100-100,5) -> -1.36543 | H35: =ROUND(H16/H15*100-100,5) -> -0.73047 | I35: =ROUND(I16/I15*100-100,5) -> 0.24128 | ... AA35: =ROUND(AA16/AA15*100-100,5) -> 2.99991 | AB35: 2017
A36: 2018 | B36: =ROUND(B17/B16*100-100,5) -> 0.96262 | C36: =ROUND(C17/C16*100-100,5) -> -3.99747 | D36: =ROUND(D17/D16*100-100,5) -> 1.20809 | E36: =ROUND(E17/E16*100-100,5) -> -12.29363 | F36: =ROUND(F17/F16*100-100,5) -> 1.5402 | G36: =ROUND(G17/G16*100-100,5) -> -0.26715 | H36: =ROUND(H17/H16*100-100,5) -> 2.48349 | I36: =ROUND(I17/I16*100-100,5) -> 2.21761 | ... AA36: =ROUND(AA17/AA16*100-100,5) -> 1.69548 | AB36: 2018
A37: 2019 | B37: =ROUND(B18/B17*100-100,5) -> 0.52103 | C37: =ROUND(C18/C17*100-100,5) -> -3.03872 | D37: =ROUND(D18/D17*100-100,5) -> 0.1195 | E37: =ROUND(E18/E17*100-100,5) -> 2.42017 | F37: =ROUND(F18/F17*100-100,5) -> 0.16164 | G37: =ROUND(G18/G17*100-100,5) -> -1.83855 | H37: =ROUND(H18/H17*100-100,5) -> 0.42428 | I37: =ROUND(I18/I17*100-100,5) -> 1.51541 | ... AA37: =ROUND(AA18/AA17*100-100,5) -> 5.14196 | AB37: 2019
A38: 2020 | B38: =ROUND(B19/B18*100-100,5) -> -0.6157 | C38: =ROUND(C19/C18*100-100,5) -> -4.20129 | D38: =ROUND(D19/D18*100-100,5) -> -1.46728 | E38: =ROUND(E19/E18*100-100,5) -> -11.45389 | F38: =ROUND(F19/F18*100-100,5) -> -1.60846 | G38: =ROUND(G19/G18*100-100,5) -> 1.9226 | H38: =ROUND(H19/H18*100-100,5) -> 0.28437 | I38: =ROUND(I19/I18*100-100,5) -> 0.1268 | ... AA38: =ROUND(AA19/AA18*100-100,5) -> 3.73656 | AB38: 2020
... A43: 2025 | B43: =ROUND(B24/B23*100-100,5) -> -0.23248 | C43: =ROUND(C24/C23*100-100,5) -> -4.984 | D43: =ROUND(D24/D23*100-100,5) -> -2.30519 | E43: =ROUND(E24/E23*100-100,5) -> -3.57143 | F43: =ROUND(F24/F23*100-100,5) -> -2.98202 | G43: =ROUND(G24/G23*100-100,5) -> 3.16043 | H43: =ROUND(H24/H23*100-100,5) -> 1.29293 | I43: =ROUND(I24/I23*100-100,5) -> -1.70367 | ... AA43: =ROUND(AA24/AA23*100-100,5) -> -1.29708 | AB43: 2025
B45: Veränderung zum Vorjahr in 1 000 Personen | O45: Veränderung zum Vorjahr in 1 000 Personen
A46: 2009 | B46: =B8-B7 -> 13.245 | C46: =C8-C7 -> -0.096 | D46: =D8-D7 -> 0.348 | E46: =E8-E7 -> -0.056 | F46: =F8-F7 -> 0.68 | G46: =G8-G7 -> 0.077 | H46: =H8-H7 -> -0.353 | I46: =I8-I7 -> -0.216 | ... AA46: =AA8-AA7 -> 0.307 | AB46: 2009
A47: 2010 | B47: =B9-B8 -> 5.197 | C47: =C9-C8 -> -0.891 | D47: =D9-D8 -> -0.385 | E47: =E9-E8 -> -0.023 | F47: =F9-F8 -> 0.042 | G47: =G9-G8 -> 0.06 | H47: =H9-H8 -> -0.464 | I47: =I9-I8 -> -1.065 | ... AA47: =AA9-AA8 -> 0.099 | AB47: 2010
A48: 2011 | B48: =B10-B9 -> -0.848 | C48: =C10-C9 -> 0.497 | D48: =D10-D9 -> 6.944 | E48: =E10-E9 -> -0.123 | F48: =F10-F9 -> 6.75 | G48: =G10-G9 -> 0.215 | H48: =H10-H9 -> 0.102 | I48: =I10-I9 -> 2.599 | ... AA48: =AA10-AA9 -> 0.131 | AB48: 2011
A49: 2012 | B49: =B11-B10 -> 2.598 | C49: =C11-C10 -> -0.045 | D49: =D11-D10 -> 1.166 | E49: =E11-E10 -> 0.235 | F49: =F11-F10 -> 1.654 | G49: =G11-G10 -> -0.061 | H49: =H11-H10 -> -0.662 | I49: =I11-I10 -> 0.52 | ... AA49: =AA11-AA10 -> 0.094 | AB49: 2012
A50: 2013 | B50: =B12-B11 -> -1.67 | C50: =C12-C11 -> -0.062 | D50: =D12-D11 -> -1.035 | E50: =E12-E11 -> -0.041 | F50: =F12-F11 -> -0.831 | G50: =G12-G11 -> 0.109 | H50: =H12-H11 -> -0.272 | I50: =I12-I11 -> -1.582 | ... AA50: =AA12-AA11 -> 0.189 | AB50: 2013
A51: 2014 | B51: =B13-B12 -> 0.795 | C51: =C13-C12 -> -0.005 | D51: =D13-D12 -> 0.695 | E51: =E13-E12 -> 0.013 | F51: =F13-F12 -> 0.458 | G51: =G13-G12 -> 0.2 | H51: =H13-H12 -> 0.024 | I51: =I13-I12 -> -0.477 | ... AA51: =AA13-AA12 -> -0.038 | AB51: 2014
A52: 2015 | B52: =B14-B13 -> 2.308 | C52: =C14-C13 -> 0.07 | D52: =D14-D13 -> -0.686 | E52: =E14-E13 -> -0.052 | F52: =F14-F13 -> -0.347 | G52: =G14-G13 -> -0.03 | H52: =H14-H13 -> -0.257 | I52: =I14-I13 -> -0.586 | ... AA52: =AA14-AA13 -> 0.103 | AB52: 2015
A53: 2016 | B53: =B15-B14 -> 14.104 | C53: =C15-C14 -> -0.173 | D53: =D15-D14 -> -0.039 | E53: =E15-E14 -> -0.165 | F53: =F15-F14 -> 0.331 | G53: =G15-G14 -> 0.255 | H53: =H15-H14 -> -0.46 | I53: =I15-I14 -> 0.178 | ... AA53: =AA15-AA14 -> 0.227 | AB53: 2016
A54: 2017 | B54: =B16-B15 -> 14.166 | C54: =C16-C15 -> 0.685 | D54: =D16-D15 -> 0.692 | E54: =E16-E15 -> -0.076 | F54: =F16-F15 -> 0.97 | G54: =G16-G15 -> -0.114 | H54: =H16-H15 -> -0.088 | I54: =I16-I15 -> 0.225 | ... AA54: =AA16-AA15 -> 0.347 | AB54: 2017
A55: 2018 | B55: =B17-B16 -> 10.716 | C55: =C17-C16 -> -1.199 | D55: =D17-D16 -> 1.838 | E55: =E17-E16 -> -0.417 | F55: =F17-F16 -> 1.98 | G55: =G17-G16 -> -0.022 | H55: =H17-H16 -> 0.297 | I55: =I17-I16 -> 2.073 | ... AA55: =AA17-AA16 -> 0.202 | AB55: 2018
A56: 2019 | B56: =B18-B17 -> 5.856 | C56: =C18-C17 -> -0.875 | D56: =D18-D17 -> 0.184 | E56: =E18-E17 -> 0.072 | F56: =F18-F17 -> 0.211 | G56: =G18-G17 -> -0.151 | H56: =H18-H17 -> 0.052 | I56: =I18-I17 -> 1.448 | ... AA56: =AA18-AA17 -> 0.623 | AB56: 2019
A57: 2020 | B57: =B19-B18 -> -6.956 | C57: =C19-C18 -> -1.173 | D57: =D19-D18 -> -2.262 | E57: =E19-E18 -> -0.349 | F57: =F19-F18 -> -2.103 | G57: =G19-G18 -> 0.155 | H57: =H19-H18 -> 0.035 | I57: =I19-I18 -> 0.123 | ... AA57: =AA19-AA18 -> 0.476 | AB57: 2020
... A62: 2025 | B62: =B24-B23 -> -2.666 | C62: =C24-C23 -> -1.277 | D62: =D24-D23 -> -3.617 | E62: =E24-E23 -> -0.081 | F62: =F24-F23 -> -3.975 | G62: =G24-G23 -> 0.276 | H62: =H24-H23 -> 0.163 | I62: =I24-I23 -> -1.584 | ... AA62: =AA24-AA23 -> -0.177 | AB62: 2025
B64: Anteil an den Erwerbstätigen insgesamt in % | O64: Anteil an den Erwerbstätigen insgesamt in %
A65: 2008 | B65: 100 | C65: =ROUND(C7/$B7*100,5) -> 2.82269 | D65: =ROUND(D7/$B7*100,5) -> 13.58407 | E65: =ROUND(E7/$B7*100,5) -> 0.34609 | F65: =ROUND(F7/$B7*100,5) -> 11.17715 | G65: =ROUND(G7/$B7*100,5) -> 0.7076 | H65: =ROUND(H7/$B7*100,5) -> 1.35322 | I65: =ROUND(I7/$B7*100,5) -> 8.8293 | J65: =ROUND(J7/$B7*100,5) -> 23.00614 | ... AA65: =ROUND(AA7/$B7*100,5) -> 0.98325 | AB65: 2008
A66: 2009 | B66: 100 | C66: =ROUND(C8/$B8*100,5) -> 2.77904 | D66: =ROUND(D8/$B8*100,5) -> 13.44926 | E66: =ROUND(E8/$B8*100,5) -> 0.33663 | F66: =ROUND(F8/$B8*100,5) -> 11.1028 | G66: =ROUND(G8/$B8*100,5) -> 0.70605 | H66: =ROUND(H8/$B8*100,5) -> 1.30379 | I66: =ROUND(I8/$B8*100,5) -> 8.70061 | J66: =ROUND(J8/$B8*100,5) -> 22.8392 | ... AA66: =ROUND(AA8/$B8*100,5) -> 0.99967 | AB66: 2009
A67: 2010 | B67: 100 | C67: =ROUND(C9/$B9*100,5) -> 2.68333 | D67: =ROUND(D9/$B9*100,5) -> 13.34906 | E67: =ROUND(E9/$B9*100,5) -> 0.33289 | F67: =ROUND(F9/$B9*100,5) -> 11.05334 | G67: =ROUND(G9/$B9*100,5) -> 0.7082 | H67: =ROUND(H9/$B9*100,5) -> 1.25463 | I67: =ROUND(I9/$B9*100,5) -> 8.56036 | J67: =ROUND(J9/$B9*100,5) -> 22.88228 | ... AA67: =ROUND(AA9/$B9*100,5) -> 1.00402 | AB67: 2010
A68: 2011 | B68: 100 | C68: =ROUND(C10/$B10*100,5) -> 2.73141 | D68: =ROUND(D10/$B10*100,5) -> 14.00196 | E68: =ROUND(E10/$B10*100,5) -> 0.32177 | F68: =ROUND(F10/$B10*100,5) -> 11.68649 | G68: =ROUND(G10/$B10*100,5) -> 0.72865 | H68: =ROUND(H10/$B10*100,5) -> 1.26505 | I68: =ROUND(I10/$B10*100,5) -> 8.80752 | J68: =ROUND(J10/$B10*100,5) -> 23.13698 | ... AA68: =ROUND(AA10/$B10*100,5) -> 1.01692 | AB68: 2011
A69: 2012 | B69: 100 | C69: =ROUND(C11/$B11*100,5) -> 2.72071 | D69: =ROUND(D11/$B11*100,5) -> 14.076 | E69: =ROUND(E11/$B11*100,5) -> 0.34268 | F69: =ROUND(F11/$B11*100,5) -> 11.81112 | G69: =ROUND(G11/$B11*100,5) -> 0.72127 | H69: =ROUND(H11/$B11*100,5) -> 1.20092 | I69: =ROUND(I11/$B11*100,5) -> 8.83439 | J69: =ROUND(J11/$B11*100,5) -> 23.52109 | ... AA69: =ROUND(AA11/$B11*100,5) -> 1.02316 | AB69: 2012
A70: 2013 | B70: 100 | C70: =ROUND(C12/$B12*100,5) -> 2.71918 | D70: =ROUND(D12/$B12*100,5) -> 14.00206 | E70: =ROUND(E12/$B12*100,5) -> 0.33942 | F70: =ROUND(F12/$B12*100,5) -> 11.75254 | G70: =ROUND(G12/$B12*100,5) -> 0.73246 | H70: =ROUND(H12/$B12*100,5) -> 1.17763 | I70: =ROUND(I12/$B12*100,5) -> 8.7018 | J70: =ROUND(J12/$B12*100,5) -> 23.54308 | ... AA70: =ROUND(AA12/$B12*100,5) -> 1.04221 | AB70: 2013
A71: 2014 | B71: 100 | C71: =ROUND(C13/$B13*100,5) -> 2.71672 | D71: =ROUND(D13/$B13*100,5) -> 14.05597 | E71: =ROUND(E13/$B13*100,5) -> 0.34038 | F71: =ROUND(F13/$B13*100,5) -> 11.78622 | G71: =ROUND(G13/$B13*100,5) -> 0.7504 | H71: =ROUND(H13/$B13*100,5) -> 1.17898 | I71: =ROUND(I13/$B13*100,5) -> 8.65135 | J71: =ROUND(J13/$B13*100,5) -> 23.69658 | ... AA71: =ROUND(AA13/$B13*100,5) -> 1.03794 | AB71: 2014
A72: 2015 | B72: 100 | C72: =ROUND(C14/$B14*100,5) -> 2.71739 | D72: =ROUND(D14/$B14*100,5) -> 13.96284 | E72: =ROUND(E14/$B14*100,5) -> 0.33486 | F72: =ROUND(F14/$B14*100,5) -> 11.72916 | G72: =ROUND(G14/$B14*100,5) -> 0.74603 | H72: =ROUND(H14/$B14*100,5) -> 1.15279 | I72: =ROUND(I14/$B14*100,5) -> 8.57893 | J72: =ROUND(J14/$B14*100,5) -> 23.59731 | ... AA72: =ROUND(AA14/$B14*100,5) -> 1.04522 | AB72: 2015
A73: 2016 | B73: 100 | C73: =ROUND(C15/$B15*100,5) -> 2.66678 | D73: =ROUND(D15/$B15*100,5) -> 13.7801 | E73: =ROUND(E15/$B15*100,5) -> 0.31555 | F73: =ROUND(F15/$B15*100,5) -> 11.60876 | G73: =ROUND(G15/$B15*100,5) -> 0.75966 | H73: =ROUND(H15/$B15*100,5) -> 1.09614 | I73: =ROUND(I15/$B15*100,5) -> 8.48503 | J73: =ROUND(J15/$B15*100,5) -> 23.4428 | ... AA73: =ROUND(AA15/$B15*100,5) -> 1.05246 | AB73: 2016
A74: 2017 | B74: 100 | C74: =ROUND(C16/$B16*100,5) -> 2.69438 | D74: =ROUND(D16/$B16*100,5) -> 13.66691 | E74: =ROUND(E16/$B16*100,5) -> 0.30471 | F74: =ROUND(F16/$B16*100,5) -> 11.54817 | G74: =ROUND(G16/$B16*100,5) -> 0.73975 | H74: =ROUND(H16/$B16*100,5) -> 1.07428 | I74: =ROUND(I16/$B16*100,5) -> 8.39727 | J74: =ROUND(J16/$B16*100,5) -> 23.51566 | ... AA74: =ROUND(AA16/$B16*100,5) -> 1.07024 | AB74: 2017
A75: 2018 | B75: 100 | C75: =ROUND(C17/$B17*100,5) -> 2.56201 | D75: =ROUND(D17/$B17*100,5) -> 13.70014 | E75: =ROUND(E17/$B17*100,5) -> 0.2647 | F75: =ROUND(F17/$B17*100,5) -> 11.61423 | G75: =ROUND(G17/$B17*100,5) -> 0.73074 | H75: =ROUND(H17/$B17*100,5) -> 1.09047 | I75: =ROUND(I17/$B17*100,5) -> 8.50165 | J75: =ROUND(J17/$B17*100,5) -> 23.84398 | ... AA75: =ROUND(AA17/$B17*100,5) -> 1.07801 | AB75: 2018
A76: 2019 | B76: 100 | C76: =ROUND(C18/$B18*100,5) -> 2.47128 | D76: =ROUND(D18/$B18*100,5) -> 13.64541 | E76: =ROUND(E18/$B18*100,5) -> 0.2697 | F76: =ROUND(F18/$B18*100,5) -> 11.57271 | G76: =ROUND(G18/$B18*100,5) -> 0.71359 | H76: =ROUND(H18/$B18*100,5) -> 1.08942 | I76: =ROUND(I18/$B18*100,5) -> 8.58575 | J76: =ROUND(J18/$B18*100,5) -> 23.63365 | ... AA76: =ROUND(AA18/$B18*100,5) -> 1.12757 | AB76: 2019
... A82: 2025 | B82: 100 | C82: =ROUND(C24/$B24*100,5) -> 2.12786 | D82: =ROUND(D24/$B24*100,5) -> 13.39823 | E82: =ROUND(E24/$B24*100,5) -> 0.19115 | F82: =ROUND(F24/$B24*100,5) -> 11.3035 | G82: =ROUND(G24/$B24*100,5) -> 0.78743 | H82: =ROUND(H24/$B24*100,5) -> 1.11616 | I82: =ROUND(I24/$B24*100,5) -> 7.98807 | J82: =ROUND(J24/$B24*100,5) -> 22.99568 | ... AA82: =ROUND(AA24/$B24*100,5) -> 1.17725 | AB82: 2025
A83: _____
A84: Die Daten für die Jahre 2009 bis 2022 werden hier teilweise nicht dargestellt. In der Excel-Version dieser Veröffentlichung sind die Angaben vorhanden.

Sheet T6
A1: 6 Arbeitnehmer am Arbeitsort im Land Brandenburg 2008 bis 2025 nach Wirtschaftsbereichen | O1: 6 Arbeitnehmer am Arbeitsort im Land Brandenburg 2008 bis 2025 nach Wirtschaftsbereichen
A3: Jahr | B3: Ins- gesamt | C3: Land- und Forst- wirt- schaft, Fische- rei | D3: Produzierendes Gewerbe ohne Baugewerbe | I3: Bau- ge- werbe | J3: Handel, Verkehr und Lagerei, Gastgewerbe | N3: Infor- mation und Kom- muni- ka- tion | O3: Finanz- und Versiche- rungs- dienst- leister | P3: Grund- stücks- und Woh-nungs- wesen | Q3: Unternehmensdienstleister | T3: Öffentliche Dienstleister, Erziehung, Gesundheit | X3: sonstige Dienstleister | AB3: Jahr
D4: zu- sam- men | E4: Bergbau und Gewin- nung von Steinen und Erden | F4: Verarbei- tendes Gewerbe | G4: Energie- versor- gung | H4: Wasser- versor- gung, Entsor- gung u.Ä. | J4: zu- sam- men | K4: Handel; Instandh. und Repa- ratur von Kfz | L4: Verkehr und Lagerei | M4: Gast- ge- werbe | Q4: zu- sam- men | R4: Frei- berufl., wiss. u. techn. Dienst- leister | S4: Sonstige Unter-nehmens- dienst- leister | T4: zu- sam- men | U4: Öffentliche Verwaltg., Verteid., Sozial- versiche- rung | V4: Erzieh- ung und Unter-richt | W4: Gesund- heits- und Sozial- wesen | X4: zu- sam- men | Y4: Kunst, Unter- haltung und Erholung | Z4: Sonstige Dienst- leister a.n.g. | AA4: Häus- liche Dienste
B6: Jahresdurchschnitt in 1 000 Personen | O6: Jahresdurchschnitt in 1 000 Personen
A7: 2008 | B7: 926.77 | C7: 25.26 | D7: 136.652 | E7: 3.616 | F7: 111.637 | G7: 7.524 | H7: 13.875 | I7: 68.535 | J7: 211.392 | K7: 122.624 | L7: 55.819 | M7: 32.949 | N7: 20.439 | O7: 12.746 | P7: 10.531 | Q7: 105.534 | R7: 34.24 | S7: 71.294 | T7: 278.712 | U7: 95.764 | V7: 60.684 | W7: 122.264 | X7: 56.969 | Y7: 12.981 | Z7: 33.533 | AA7: 10.455 | AB7: 2008
A8: 2009 | B8: 936.562 | C8: 25.288 | D8: 136.937 | E8: 3.564 | F8: 112.305 | G8: 7.601 | H8: 13.467 | I8: 68.47 | J8: 212.796 | K8: 122.358 | L8: 55.535 | M8: 34.903 | N8: 20.492 | O8: 12.776 | P8: 10.015 | Q8: 107.514 | R8: 35.146 | S8: 72.368 | T8: 282.675 | U8: 97.361 | V8: 59.235 | W8: 126.079 | X8: 59.599 | Y8: 13.138 | Z8: 35.699 | AA8: 10.762 | AB8: 2009
A9: 2010 | B9: 941.985 | C9: 24.538 | D9: 136.565 | E9: 3.539 | F9: 112.362 | G9: 7.661 | H9: 13.003 | I9: 67.91 | J9: 214.638 | K9: 121.761 | L9: 57.442 | M9: 35.435 | N9: 20.24 | O9: 12.784 | P9: 10.048 | Q9: 113.172 | R9: 35.207 | S9: 77.965 | T9: 281.712 | U9: 95.552 | V9: 56.662 | W9: 129.498 | X9: 60.378 | Y9: 13.381 | Z9: 36.136 | AA9: 10.861 | AB9: 2010
A10: 2011 | B10: 943.37 | C10: 25.004 | D10: 143.534 | E10: 3.421 | F10: 119.133 | G10: 7.876 | H10: 13.104 | I10: 69.39 | J10: 217.982 | K10: 123.207 | L10: 59.447 | M10: 35.328 | N10: 20.7 | O10: 12.584 | P10: 10.004 | Q10: 113.568 | R10: 34.756 | S10: 78.812 | T10: 272.229 | U10: 89.028 | V10: 52.735 | W10: 130.466 | X10: 58.375 | Y10: 12.901 | Z10: 34.482 | AA10: 10.992 | AB10: 2011
A11: 2012 | B11: 947.194 | C11: 25.166 | D11: 144.818 | E11: 3.655 | F11: 120.896 | G11: 7.815 | H11: 12.452 | I11: 69.265 | J11: 223.079 | K11: 124.561 | L11: 61.985 | M11: 36.533 | N11: 20.261 | O11: 12.516 | P11: 10.092 | Q11: 115.166 | R11: 35.486 | S11: 79.68 | T11: 270.062 | U11: 86.154 | V11: 50.738 | W11: 133.17 | X11: 56.769 | Y11: 12.515 | Z11: 33.168 | AA11: 11.086 | AB11: 2012
A12: 2013 | B12: 948.773 | C12: 25.374 | D12: 143.806 | E12: 3.612 | F12: 120.079 | G12: 7.924 | H12: 12.191 | I12: 68.868 | J12: 223.705 | K12: 122.809 | L12: 63.612 | M12: 37.284 | N12: 17.99 | O12: 12.432 | P12: 10.543 | Q12: 119.782 | R12: 38.637 | S12: 81.145 | T12: 270.585 | U12: 85.189 | V12: 50.861 | W12: 134.535 | X12: 55.688 | Y12: 12.702 | Z12: 31.711 | AA12: 11.275 | AB12: 2013
A13: 2014 | B13: 951.627 | C13: 25.319 | D13: 144.623 | E13: 3.628 | F13: 120.668 | G13: 8.124 | H13: 12.203 | I13: 68.434 | J13: 225.693 | K13: 122.239 | L13: 65.468 | M13: 37.986 | N13: 16.016 | O13: 12.46 | P13: 10.754 | Q13: 122.266 | R13: 40.682 | S13: 81.584 | T13: 272.041 | U13: 84.545 | V13: 51.036 | W13: 136.46 | X13: 54.021 | Y13: 12.707 | Z13: 30.077 | AA13: 11.237 | AB13: 2014
A14: 2015 | B14: 951.946 | C14: 24.854 | D14: 143.987 | E14: 3.577 | F14: 120.358 | G14: 8.094 | H14: 11.958 | I14: 67.9 | J14: 225.965 | K14: 120.255 | L14: 67.801 | M14: 37.909 | N14: 14.588 | O14: 12.533 | P14: 10.688 | Q14: 123.391 | R14: 39.106 | S14: 84.285 | T14: 275.349 | U14: 84.125 | V14: 49.863 | W14: 141.361 | X14: 52.691 | Y14: 12.677 | Z14: 28.674 | AA14: 11.34 | AB14: 2015
A15: 2016 | B15: 963.871 | C15: 24.124 | D15: 144.022 | E15: 3.412 | F15: 120.749 | G15: 8.349 | H15: 11.512 | I15: 68.754 | J15: 228.25 | K15: 120.743 | L15: 69.106 | M15: 38.401 | N15: 14.251 | O15: 12.382 | P15: 10.428 | Q15: 126.441 | R15: 39.191 | S15: 87.25 | T15: 282.328 | U15: 84.873 | V15: 50.077 | W15: 147.378 | X15: 52.891 | Y15: 12.061 | Z15: 29.263 | AA15: 11.567 | AB15: 2016
A16: 2017 | B16: 980.226 | C16: 24.748 | D16: 144.79 | E16: 3.334 | F16: 121.783 | G16: 8.235 | H16: 11.438 | I16: 69.906 | J16: 233.729 | K16: 122.074 | L16: 72.123 | M16: 39.532 | N16: 14.498 | O16: 12.116 | P16: 10.51 | Q16: 128.368 | R16: 39.523 | S16: 88.845 | T16: 287.679 | U16: 85.402 | V16: 50.614 | W16: 151.663 | X16: 53.882 | Y16: 12.327 | Z16: 29.641 | AA16: 11.914 | AB16: 2017
A17: 2018 | B17: 992.86 | C17: 23.581 | D17: 146.703 | E17: 2.916 | F17: 123.815 | G17: 8.213 | H17: 11.759 | I17: 71.564 | J17: 240.662 | K17: 123.398 | L17: 77.675 | M17: 39.589 | N17: 14.333 | O17: 11.832 | P17: 10.957 | Q17: 127.516 | R17: 38.928 | S17: 88.588 | T17: 292.391 | U17: 85.525 | V17: 51.439 | W17: 155.427 | X17: 53.321 | Y17: 12.542 | Z17: 28.663 | AA17: 12.116 | AB17: 2018
A18: 2019 | B18: 1000.725 | C18: 22.976 | D18: 147.182 | E18: 2.988 | F18: 124.314 | G18: 8.062 | H18: 11.818 | I18: 72.699 | J18: 240.258 | K18: 122.968 | L18: 76.982 | M18: 40.308 | N18: 14.707 | O18: 11.702 | P18: 11.345 | Q18: 127.742 | R18: 38.717 | S18: 89.025 | T18: 298.288 | U18: 86.367 | V18: 52.759 | W18: 159.162 | X18: 53.826 | Y18: 12.7 | Z18: 28.387 | AA18: 12.739 | AB18: 2019
... A24: 2025 | B24: 1033.046 | C24: 20.605 | D24: 147.627 | E24: 2.124 | F24: 123.935 | G24: 9.009 | H24: 12.559 | I24: 70.852 | J24: 242.115 | K24: 122.586 | L24: 79.258 | M24: 40.271 | N24: 14.005 | O24: 10.993 | P24: 12.131 | Q24: 125.713 | R24: 43.057 | S24: 82.656 | T24: 335.285 | U24: 96.759 | V24: 62 | W24: 176.526 | X24: 53.72 | Y24: 13.325 | Z24: 26.926 | AA24: 13.469 | AB24: 2025
B26: Veränderung zum Vorjahr in % | O26: Veränderung zum Vorjahr in %
A27: 2009 | B27: =ROUND(B8/B7*100-100,5) -> 1.05657 | C27: =ROUND(C8/C7*100-100,5) -> 0.11085 | D27: =ROUND(D8/D7*100-100,5) -> 0.20856 | E27: =ROUND(E8/E7*100-100,5) -> -1.43805 | F27: =ROUND(F8/F7*100-100,5) -> 0.59837 | G27: =ROUND(G8/G7*100-100,5) -> 1.02339 | H27: =ROUND(H8/H7*100-100,5) -> -2.94054 | I27: =ROUND(I8/I7*100-100,5) -> -0.09484 | ... AA27: =ROUND(AA8/AA7*100-100,5) -> 2.93639 | AB27: 2009
A28: 2010 | B28: =ROUND(B9/B8*100-100,5) -> 0.57903 | C28: =ROUND(C9/C8*100-100,5) -> -2.96583 | D28: =ROUND(D9/D8*100-100,5) -> -0.27166 | E28: =ROUND(E9/E8*100-100,5) -> -0.70146 | F28: =ROUND(F9/F8*100-100,5) -> 0.05075 | G28: =ROUND(G9/G8*100-100,5) -> 0.78937 | H28: =ROUND(H9/H8*100-100,5) -> -3.44546 | I28: =ROUND(I9/I8*100-100,5) -> -0.81788 | ... AA28: =ROUND(AA9/AA8*100-100,5) -> 0.9199 | AB28: 2010
A29: 2011 | B29: =ROUND(B10/B9*100-100,5) -> 0.14703 | C29: =ROUND(C10/C9*100-100,5) -> 1.8991 | D29: =ROUND(D10/D9*100-100,5) -> 5.10306 | E29: =ROUND(E10/E9*100-100,5) -> -3.33428 | F29: =ROUND(F10/F9*100-100,5) -> 6.02606 | G29: =ROUND(G10/G9*100-100,5) -> 2.80642 | H29: =ROUND(H10/H9*100-100,5) -> 0.77674 | I29: =ROUND(I10/I9*100-100,5) -> 2.17936 | ... AA29: =ROUND(AA10/AA9*100-100,5) -> 1.20615 | AB29: 2011
A30: 2012 | B30: =ROUND(B11/B10*100-100,5) -> 0.40536 | C30: =ROUND(C11/C10*100-100,5) -> 0.6479 | D30: =ROUND(D11/D10*100-100,5) -> 0.89456 | E30: =ROUND(E11/E10*100-100,5) -> 6.84011 | F30: =ROUND(F11/F10*100-100,5) -> 1.47986 | G30: =ROUND(G11/G10*100-100,5) -> -0.7745 | H30: =ROUND(H11/H10*100-100,5) -> -4.97558 | I30: =ROUND(I11/I10*100-100,5) -> -0.18014 | ... AA30: =ROUND(AA11/AA10*100-100,5) -> 0.85517 | AB30: 2012
A31: 2013 | B31: =ROUND(B12/B11*100-100,5) -> 0.1667 | C31: =ROUND(C12/C11*100-100,5) -> 0.82651 | D31: =ROUND(D12/D11*100-100,5) -> -0.69881 | E31: =ROUND(E12/E11*100-100,5) -> -1.17647 | F31: =ROUND(F12/F11*100-100,5) -> -0.67579 | G31: =ROUND(G12/G11*100-100,5) -> 1.39475 | H31: =ROUND(H12/H11*100-100,5) -> -2.09605 | I31: =ROUND(I12/I11*100-100,5) -> -0.57316 | ... AA31: =ROUND(AA12/AA11*100-100,5) -> 1.70485 | AB31: 2013
A32: 2014 | B32: =ROUND(B13/B12*100-100,5) -> 0.30081 | C32: =ROUND(C13/C12*100-100,5) -> -0.21676 | D32: =ROUND(D13/D12*100-100,5) -> 0.56813 | E32: =ROUND(E13/E12*100-100,5) -> 0.44297 | F32: =ROUND(F13/F12*100-100,5) -> 0.49051 | G32: =ROUND(G13/G12*100-100,5) -> 2.52398 | H32: =ROUND(H13/H12*100-100,5) -> 0.09843 | I32: =ROUND(I13/I12*100-100,5) -> -0.63019 | ... AA32: =ROUND(AA13/AA12*100-100,5) -> -0.33703 | AB32: 2014
A33: 2015 | B33: =ROUND(B14/B13*100-100,5) -> 0.03352 | C33: =ROUND(C14/C13*100-100,5) -> -1.83657 | D33: =ROUND(D14/D13*100-100,5) -> -0.43976 | E33: =ROUND(E14/E13*100-100,5) -> -1.40573 | F33: =ROUND(F14/F13*100-100,5) -> -0.2569 | G33: =ROUND(G14/G13*100-100,5) -> -0.36928 | H33: =ROUND(H14/H13*100-100,5) -> -2.0077 | I33: =ROUND(I14/I13*100-100,5) -> -0.78031 | ... AA33: =ROUND(AA14/AA13*100-100,5) -> 0.91661 | AB33: 2015
A34: 2016 | B34: =ROUND(B15/B14*100-100,5) -> 1.2527 | C34: =ROUND(C15/C14*100-100,5) -> -2.93715 | D34: =ROUND(D15/D14*100-100,5) -> 0.02431 | E34: =ROUND(E15/E14*100-100,5) -> -4.6128 | F34: =ROUND(F15/F14*100-100,5) -> 0.32486 | G34: =ROUND(G15/G14*100-100,5) -> 3.15048 | H34: =ROUND(H15/H14*100-100,5) -> -3.72972 | I34: =ROUND(I15/I14*100-100,5) -> 1.25773 | ... AA34: =ROUND(AA15/AA14*100-100,5) -> 2.00176 | AB34: 2016
A35: 2017 | B35: =ROUND(B16/B15*100-100,5) -> 1.6968 | C35: =ROUND(C16/C15*100-100,5) -> 2.58664 | D35: =ROUND(D16/D15*100-100,5) -> 0.53325 | E35: =ROUND(E16/E15*100-100,5) -> -2.28605 | F35: =ROUND(F16/F15*100-100,5) -> 0.85632 | G35: =ROUND(G16/G15*100-100,5) -> -1.36543 | H35: =ROUND(H16/H15*100-100,5) -> -0.64281 | I35: =ROUND(I16/I15*100-100,5) -> 1.67554 | ... AA35: =ROUND(AA16/AA15*100-100,5) -> 2.99991 | AB35: 2017
A36: 2018 | B36: =ROUND(B17/B16*100-100,5) -> 1.28889 | C36: =ROUND(C17/C16*100-100,5) -> -4.71553 | D36: =ROUND(D17/D16*100-100,5) -> 1.32122 | E36: =ROUND(E17/E16*100-100,5) -> -12.53749 | F36: =ROUND(F17/F16*100-100,5) -> 1.66854 | G36: =ROUND(G17/G16*100-100,5) -> -0.26715 | H36: =ROUND(H17/H16*100-100,5) -> 2.80643 | I36: =ROUND(I17/I16*100-100,5) -> 2.37176 | ... AA36: =ROUND(AA17/AA16*100-100,5) -> 1.69548 | AB36: 2018
A37: 2019 | B37: =ROUND(B18/B17*100-100,5) -> 0.79216 | C37: =ROUND(C18/C17*100-100,5) -> -2.56562 | D37: =ROUND(D18/D17*100-100,5) -> 0.32651 | E37: =ROUND(E18/E17*100-100,5) -> 2.46914 | F37: =ROUND(F18/F17*100-100,5) -> 0.40302 | G37: =ROUND(G18/G17*100-100,5) -> -1.83855 | H37: =ROUND(H18/H17*100-100,5) -> 0.50174 | I37: =ROUND(I18/I17*100-100,5) -> 1.58599 | ... AA37: =ROUND(AA18/AA17*100-100,5) -> 5.14196 | AB37: 2019
A38: 2020 | B38: =ROUND(B19/B18*100-100,5) -> -0.30668 | C38: =ROUND(C19/C18*100-100,5) -> -2.00644 | D38: =ROUND(D19/D18*100-100,5) -> -1.53687 | E38: =ROUND(E19/E18*100-100,5) -> -11.57965 | F38: =ROUND(F19/F18*100-100,5) -> -1.69812 | G38: =ROUND(G19/G18*100-100,5) -> 1.9226 | H38: =ROUND(H19/H18*100-100,5) -> 0.33847 | I38: =ROUND(I19/I18*100-100,5) -> 0.6465 | ... AA38: =ROUND(AA19/AA18*100-100,5) -> 3.73656 | AB38: 2020
... A43: 2025 | B43: =ROUND(B24/B23*100-100,5) -> 0.16211 | C43: =ROUND(C24/C23*100-100,5) -> -1.49632 | D43: =ROUND(D24/D23*100-100,5) -> -2.3631 | E43: =ROUND(E24/E23*100-100,5) -> -5.09383 | F43: =ROUND(F24/F23*100-100,5) -> -3.08871 | G43: =ROUND(G24/G23*100-100,5) -> 3.16043 | H43: =ROUND(H24/H23*100-100,5) -> 1.74174 | I43: =ROUND(I24/I23*100-100,5) -> -1.04331 | ... AA43: =ROUND(AA24/AA23*100-100,5) -> -1.29708 | AB43: 2025
B45: Veränderung zum Vorjahr in 1 000 Personen | O45: Veränderung zum Vorjahr in 1 000 Personen
A46: 2009 | B46: =B8-B7 -> 9.792 | C46: =C8-C7 -> 0.028 | D46: =D8-D7 -> 0.285 | E46: =E8-E7 -> -0.052 | F46: =F8-F7 -> 0.668 | G46: =G8-G7 -> 0.077 | H46: =H8-H7 -> -0.408 | I46: =I8-I7 -> -0.065 | ... AA46: =AA8-AA7 -> 0.307 | AB46: 2009
A47: 2010 | B47: =B9-B8 -> 5.423 | C47: =C9-C8 -> -0.75 | D47: =D9-D8 -> -0.372 | E47: =E9-E8 -> -0.025 | F47: =F9-F8 -> 0.057 | G47: =G9-G8 -> 0.06 | H47: =H9-H8 -> -0.464 | I47: =I9-I8 -> -0.56 | ... AA47: =AA9-AA8 -> 0.099 | AB47: 2010
A48: 2011 | B48: =B10-B9 -> 1.385 | C48: =C10-C9 -> 0.466 | D48: =D10-D9 -> 6.969 | E48: =E10-E9 -> -0.118 | F48: =F10-F9 -> 6.771 | G48: =G10-G9 -> 0.215 | H48: =H10-H9 -> 0.101 | I48: =I10-I9 -> 1.48 | ... AA48: =AA10-AA9 -> 0.131 | AB48: 2011
A49: 2012 | B49: =B11-B10 -> 3.824 | C49: =C11-C10 -> 0.162 | D49: =D11-D10 -> 1.284 | E49: =E11-E10 -> 0.234 | F49: =F11-F10 -> 1.763 | G49: =G11-G10 -> -0.061 | H49: =H11-H10 -> -0.652 | I49: =I11-I10 -> -0.125 | ... AA49: =AA11-AA10 -> 0.094 | AB49: 2012
A50: 2013 | B50: =B12-B11 -> 1.579 | C50: =C12-C11 -> 0.208 | D50: =D12-D11 -> -1.012 | E50: =E12-E11 -> -0.043 | F50: =F12-F11 -> -0.817 | G50: =G12-G11 -> 0.109 | H50: =H12-H11 -> -0.261 | I50: =I12-I11 -> -0.397 | ... AA50: =AA12-AA11 -> 0.189 | AB50: 2013
A51: 2014 | B51: =B13-B12 -> 2.854 | C51: =C13-C12 -> -0.055 | D51: =D13-D12 -> 0.817 | E51: =E13-E12 -> 0.016 | F51: =F13-F12 -> 0.589 | G51: =G13-G12 -> 0.2 | H51: =H13-H12 -> 0.012 | I51: =I13-I12 -> -0.434 | ... AA51: =AA13-AA12 -> -0.038 | AB51: 2014
A52: 2015 | B52: =B14-B13 -> 0.319 | C52: =C14-C13 -> -0.465 | D52: =D14-D13 -> -0.636 | E52: =E14-E13 -> -0.051 | F52: =F14-F13 -> -0.31 | G52: =G14-G13 -> -0.03 | H52: =H14-H13 -> -0.245 | I52: =I14-I13 -> -0.534 | ... AA52: =AA14-AA13 -> 0.103 | AB52: 2015
A53: 2016 | B53: =B15-B14 -> 11.925 | C53: =C15-C14 -> -0.73 | D53: =D15-D14 -> 0.035 | E53: =E15-E14 -> -0.165 | F53: =F15-F14 -> 0.391 | G53: =G15-G14 -> 0.255 | H53: =H15-H14 -> -0.446 | I53: =I15-I14 -> 0.854 | ... AA53: =AA15-AA14 -> 0.227 | AB53: 2016
A54: 2017 | B54: =B16-B15 -> 16.355 | C54: =C16-C15 -> 0.624 | D54: =D16-D15 -> 0.768 | E54: =E16-E15 -> -0.078 | F54: =F16-F15 -> 1.034 | G54: =G16-G15 -> -0.114 | H54: =H16-H15 -> -0.074 | I54: =I16-I15 -> 1.152 | ... AA54: =AA16-AA15 -> 0.347 | AB54: 2017
A55: 2018 | B55: =B17-B16 -> 12.634 | C55: =C17-C16 -> -1.167 | D55: =D17-D16 -> 1.913 | E55: =E17-E16 -> -0.418 | F55: =F17-F16 -> 2.032 | G55: =G17-G16 -> -0.022 | H55: =H17-H16 -> 0.321 | I55: =I17-I16 -> 1.658 | ... AA55: =AA17-AA16 -> 0.202 | AB55: 2018
A56: 2019 | B56: =B18-B17 -> 7.865 | C56: =C18-C17 -> -0.605 | D56: =D18-D17 -> 0.479 | E56: =E18-E17 -> 0.072 | F56: =F18-F17 -> 0.499 | G56: =G18-G17 -> -0.151 | H56: =H18-H17 -> 0.059 | I56: =I18-I17 -> 1.135 | ... AA56: =AA18-AA17 -> 0.623 | AB56: 2019
A57: 2020 | B57: =B19-B18 -> -3.069 | C57: =C19-C18 -> -0.461 | D57: =D19-D18 -> -2.262 | E57: =E19-E18 -> -0.346 | F57: =F19-F18 -> -2.111 | G57: =G19-G18 -> 0.155 | H57: =H19-H18 -> 0.04 | I57: =I19-I18 -> 0.47 | ... AA57: =AA19-AA18 -> 0.476 | AB57: 2020
... A62: 2025 | B62: =B24-B23 -> 1.672 | C62: =C24-C23 -> -0.313 | D62: =D24-D23 -> -3.573 | E62: =E24-E23 -> -0.114 | F62: =F24-F23 -> -3.95 | G62: =G24-G23 -> 0.276 | H62: =H24-H23 -> 0.215 | I62: =I24-I23 -> -0.747 | ... AA62: =AA24-AA23 -> -0.177 | AB62: 2025
B64: Anteil an den Arbeitnehmern insgesamt in % | O64: Anteil an den Arbeitnehmern insgesamt in %
A65: 2008 | B65: 100 | C65: =ROUND(C7/$B7*100,5) -> 2.7256 | D65: =ROUND(D7/$B7*100,5) -> 14.74497 | E65: =ROUND(E7/$B7*100,5) -> 0.39017 | F65: =ROUND(F7/$B7*100,5) -> 12.04582 | G65: =ROUND(G7/$B7*100,5) -> 0.81185 | H65: =ROUND(H7/$B7*100,5) -> 1.49714 | I65: =ROUND(I7/$B7*100,5) -> 7.39504 | J65: =ROUND(J7/$B7*100,5) -> 22.80954 | ... AA65: =ROUND(AA7/$B7*100,5) -> 1.12811 | AB65: 2008
A66: 2009 | B66: 100 | C66: =ROUND(C8/$B8*100,5) -> 2.70009 | D66: =ROUND(D8/$B8*100,5) -> 14.62124 | E66: =ROUND(E8/$B8*100,5) -> 0.38054 | F66: =ROUND(F8/$B8*100,5) -> 11.9912 | G66: =ROUND(G8/$B8*100,5) -> 0.81159 | H66: =ROUND(H8/$B8*100,5) -> 1.43792 | I66: =ROUND(I8/$B8*100,5) -> 7.31078 | J66: =ROUND(J8/$B8*100,5) -> 22.72097 | ... AA66: =ROUND(AA8/$B8*100,5) -> 1.1491 | AB66: 2009
A67: 2010 | B67: 100 | C67: =ROUND(C9/$B9*100,5) -> 2.60492 | D67: =ROUND(D9/$B9*100,5) -> 14.49758 | E67: =ROUND(E9/$B9*100,5) -> 0.3757 | F67: =ROUND(F9/$B9*100,5) -> 11.92822 | G67: =ROUND(G9/$B9*100,5) -> 0.81328 | H67: =ROUND(H9/$B9*100,5) -> 1.38038 | I67: =ROUND(I9/$B9*100,5) -> 7.20924 | J67: =ROUND(J9/$B9*100,5) -> 22.78571 | ... AA67: =ROUND(AA9/$B9*100,5) -> 1.15299 | AB67: 2010
A68: 2011 | B68: 100 | C68: =ROUND(C10/$B10*100,5) -> 2.6505 | D68: =ROUND(D10/$B10*100,5) -> 15.21503 | E68: =ROUND(E10/$B10*100,5) -> 0.36264 | F68: =ROUND(F10/$B10*100,5) -> 12.62845 | G68: =ROUND(G10/$B10*100,5) -> 0.83488 | H68: =ROUND(H10/$B10*100,5) -> 1.38906 | I68: =ROUND(I10/$B10*100,5) -> 7.35554 | J68: =ROUND(J10/$B10*100,5) -> 23.10673 | ... AA68: =ROUND(AA10/$B10*100,5) -> 1.16518 | AB68: 2011
A69: 2012 | B69: 100 | C69: =ROUND(C11/$B11*100,5) -> 2.6569 | D69: =ROUND(D11/$B11*100,5) -> 15.28916 | E69: =ROUND(E11/$B11*100,5) -> 0.38588 | F69: =ROUND(F11/$B11*100,5) -> 12.76359 | G69: =ROUND(G11/$B11*100,5) -> 0.82507 | H69: =ROUND(H11/$B11*100,5) -> 1.31462 | I69: =ROUND(I11/$B11*100,5) -> 7.31265 | J69: =ROUND(J11/$B11*100,5) -> 23.55156 | ... AA69: =ROUND(AA11/$B11*100,5) -> 1.1704 | AB69: 2012
A70: 2013 | B70: 100 | C70: =ROUND(C12/$B12*100,5) -> 2.6744 | D70: =ROUND(D12/$B12*100,5) -> 15.15705 | E70: =ROUND(E12/$B12*100,5) -> 0.3807 | F70: =ROUND(F12/$B12*100,5) -> 12.65624 | G70: =ROUND(G12/$B12*100,5) -> 0.83518 | H70: =ROUND(H12/$B12*100,5) -> 1.28492 | I70: =ROUND(I12/$B12*100,5) -> 7.25864 | J70: =ROUND(J12/$B12*100,5) -> 23.57835 | ... AA70: =ROUND(AA12/$B12*100,5) -> 1.18838 | AB70: 2013
A71: 2014 | B71: 100 | C71: =ROUND(C13/$B13*100,5) -> 2.6606 | D71: =ROUND(D13/$B13*100,5) -> 15.19745 | E71: =ROUND(E13/$B13*100,5) -> 0.38124 | F71: =ROUND(F13/$B13*100,5) -> 12.68018 | G71: =ROUND(G13/$B13*100,5) -> 0.8537 | H71: =ROUND(H13/$B13*100,5) -> 1.28233 | I71: =ROUND(I13/$B13*100,5) -> 7.19126 | J71: =ROUND(J13/$B13*100,5) -> 23.71654 | ... AA71: =ROUND(AA13/$B13*100,5) -> 1.18082 | AB71: 2014
A72: 2015 | B72: 100 | C72: =ROUND(C14/$B14*100,5) -> 2.61086 | D72: =ROUND(D14/$B14*100,5) -> 15.12554 | E72: =ROUND(E14/$B14*100,5) -> 0.37576 | F72: =ROUND(F14/$B14*100,5) -> 12.64336 | G72: =ROUND(G14/$B14*100,5) -> 0.85026 | H72: =ROUND(H14/$B14*100,5) -> 1.25616 | I72: =ROUND(I14/$B14*100,5) -> 7.13276 | J72: =ROUND(J14/$B14*100,5) -> 23.73717 | ... AA72: =ROUND(AA14/$B14*100,5) -> 1.19124 | AB72: 2015
A73: 2016 | B73: 100 | C73: =ROUND(C15/$B15*100,5) -> 2.50282 | D73: =ROUND(D15/$B15*100,5) -> 14.94204 | E73: =ROUND(E15/$B15*100,5) -> 0.35399 | F73: =ROUND(F15/$B15*100,5) -> 12.52751 | G73: =ROUND(G15/$B15*100,5) -> 0.86619 | H73: =ROUND(H15/$B15*100,5) -> 1.19435 | I73: =ROUND(I15/$B15*100,5) -> 7.13311 | J73: =ROUND(J15/$B15*100,5) -> 23.68055 | ... AA73: =ROUND(AA15/$B15*100,5) -> 1.20006 | AB73: 2016
A74: 2017 | B74: 100 | C74: =ROUND(C16/$B16*100,5) -> 2.52472 | D74: =ROUND(D16/$B16*100,5) -> 14.77108 | E74: =ROUND(E16/$B16*100,5) -> 0.34013 | F74: =ROUND(F16/$B16*100,5) -> 12.42397 | G74: =ROUND(G16/$B16*100,5) -> 0.84011 | H74: =ROUND(H16/$B16*100,5) -> 1.16687 | I74: =ROUND(I16/$B16*100,5) -> 7.13162 | J74: =ROUND(J16/$B16*100,5) -> 23.8444 | ... AA74: =ROUND(AA16/$B16*100,5) -> 1.21543 | AB74: 2017
A75: 2018 | B75: 100 | C75: =ROUND(C17/$B17*100,5) -> 2.37506 | D75: =ROUND(D17/$B17*100,5) -> 14.7758 | E75: =ROUND(E17/$B17*100,5) -> 0.2937 | F75: =ROUND(F17/$B17*100,5) -> 12.47054 | G75: =ROUND(G17/$B17*100,5) -> 0.82721 | H75: =ROUND(H17/$B17*100,5) -> 1.18436 | I75: =ROUND(I17/$B17*100,5) -> 7.20786 | J75: =ROUND(J17/$B17*100,5) -> 24.23927 | ... AA75: =ROUND(AA17/$B17*100,5) -> 1.22031 | AB75: 2018
A76: 2019 | B76: 100 | C76: =ROUND(C18/$B18*100,5) -> 2.29594 | D76: =ROUND(D18/$B18*100,5) -> 14.70754 | E76: =ROUND(E18/$B18*100,5) -> 0.29858 | F76: =ROUND(F18/$B18*100,5) -> 12.42239 | G76: =ROUND(G18/$B18*100,5) -> 0.80562 | H76: =ROUND(H18/$B18*100,5) -> 1.18094 | I76: =ROUND(I18/$B18*100,5) -> 7.26463 | J76: =ROUND(J18/$B18*100,5) -> 24.00839 | ... AA76: =ROUND(AA18/$B18*100,5) -> 1.27298 | AB76: 2019
... A82: 2025 | B82: 100 | C82: =ROUND(C24/$B24*100,5) -> 1.99459 | D82: =ROUND(D24/$B24*100,5) -> 14.29046 | E82: =ROUND(E24/$B24*100,5) -> 0.20561 | F82: =ROUND(F24/$B24*100,5) -> 11.99705 | G82: =ROUND(G24/$B24*100,5) -> 0.87208 | H82: =ROUND(H24/$B24*100,5) -> 1.21573 | I82: =ROUND(I24/$B24*100,5) -> 6.85855 | J82: =ROUND(J24/$B24*100,5) -> 23.437 | ... AA82: =ROUND(AA24/$B24*100,5) -> 1.30381 | AB82: 2025
A83: _____
A84: Die Daten für die Jahre 2009 bis 2022 werden hier teilweise nicht dargestellt. In der Excel-Version dieser Veröffentlichung sind die Angaben vorhanden.

Sheet T7
A1: 7 Selbstständige und mithelfende Familienangehörige am Arbeitsort im Land Brandenburg 2008 bis 2025 nach Wirtschaftsbereichen | O1: 7 Selbstständige und mithelfende Familienangehörige am Arbeitsort im Land Brandenburg 2008 bis 2025 nach Wirtschaftsbereichen
A3: Jahr | B3: Ins- gesamt | C3: Land- und Forst- wirt- schaft, Fische- rei | D3: Produzierendes Gewerbe ohne Baugewerbe | I3: Bau- ge- werbe | J3: Handel, Verkehr und Lagerei, Gastgewerbe | N3: Infor- mation und Kom- muni- ka- tion | O3: Finanz- und Versiche- rungs- dienst- leister | P3: Grund- stücks- und Woh-nungs- wesen | Q3: Unternehmensdienstleister | T3: Öffentliche Dienstleister, Erziehung, Gesundheit | X3: sonstige Dienstleister | AB3: Jahr
D4: zu- sam- men | E4: Bergbau und Gewin- nung von Steinen und Erden | F4: Verarbei- tendes Gewerbe | G4: Energie- versor- gung | H4: Wasser- versor- gung, Entsor- gung u.Ä. | J4: zu- sam- men | K4: Handel; Instandh. und Repa- ratur von Kfz | L4: Verkehr und Lagerei | M4: Gast- ge- werbe | Q4: zu- sam- men | R4: Frei- berufl., wiss. u. techn. Dienst- leister | S4: Sonstige Unter-nehmens- dienst- leister | T4: zu- sam- men | U4: Öffentliche Verwaltg., Verteid., Sozial- versiche- rung | V4: Erzieh- ung und Unter-richt | W4: Gesund- heits- und Sozial- wesen | X4: zu- sam- men | Y4: Kunst, Unter- haltung und Erholung | Z4: Sonstige Dienst- leister a.n.g. | AA4: Häus- liche Dienste
B6: Jahresdurchschnitt in 1 000 Personen | O6: Jahresdurchschnitt in 1 000 Personen
A7: 2008 | B7: 136.542 | C7: 4.754 | D7: 7.789 | E7: 0.064 | F7: 7.211 | G7: – | H7: 0.514 | I7: 25.348 | J7: 33.235 | K7: 19.597 | L7: 5.013 | M7: 8.625 | N7: 3.001 | O7: 5.906 | P7: 1.976 | Q7: 23.929 | R7: 15.09 | S7: 8.839 | T7: 14.397 | U7: – | V7: 3.506 | W7: 10.891 | X7: 16.207 | Y7: 4.787 | Z7: 11.42 | AA7: – | AB7: 2008
A8: 2009 | B8: 139.995 | C8: 4.63 | D8: 7.852 | E8: 0.06 | F8: 7.223 | G8: – | H8: 0.569 | I8: 25.197 | J8: 33.081 | K8: 19.485 | L8: 5.057 | M8: 8.539 | N8: 3.013 | O8: 6.679 | P8: 1.985 | Q8: 25.154 | R8: 16.208 | S8: 8.946 | T8: 16.073 | U8: – | V8: 4.148 | W8: 11.925 | X8: 16.331 | Y8: 5.472 | Z8: 10.859 | AA8: – | AB8: 2009
A9: 2010 | B9: 139.769 | C9: 4.489 | D9: 7.839 | E9: 0.062 | F9: 7.208 | G9: – | H9: 0.569 | I9: 24.692 | J9: 32.892 | K9: 19.131 | L9: 5.136 | M9: 8.625 | N9: 3.102 | O9: 7.168 | P9: 2.012 | Q9: 25.615 | R9: 16.789 | S9: 8.826 | T9: 16.798 | U9: – | V9: 4.586 | W9: 12.212 | X9: 15.162 | Y9: 4.893 | Z9: 10.269 | AA9: – | AB9: 2010
A10: 2011 | B10: 137.536 | C10: 4.52 | D10: 7.814 | E10: 0.057 | F10: 7.187 | G10: – | H10: 0.57 | I10: 25.811 | J10: 32.107 | K10: 18.708 | L10: 4.883 | M10: 8.516 | N10: 3.063 | O10: 6.681 | P10: 1.983 | Q10: 24.644 | R10: 15.825 | S10: 8.819 | T10: 16.241 | U10: – | V10: 4.318 | W10: 11.923 | X10: 14.672 | Y10: 4.236 | Z10: 10.436 | AA10: – | AB10: 2011
A11: 2012 | B11: 136.31 | C11: 4.313 | D11: 7.696 | E11: 0.058 | F11: 7.078 | G11: – | H11: 0.56 | I11: 26.456 | J11: 31.773 | K11: 18.81 | L11: 4.557 | M11: 8.406 | N11: 2.906 | O11: 6.19 | P11: 1.97 | Q11: 24.215 | R11: 15.258 | S11: 8.957 | T11: 16.359 | U11: – | V11: 4.141 | W11: 12.218 | X11: 14.432 | Y11: 4.185 | Z11: 10.247 | AA11: – | AB11: 2012
A12: 2013 | B12: 133.061 | C12: 4.043 | D12: 7.673 | E12: 0.06 | F12: 7.064 | G12: – | H12: 0.549 | I12: 25.271 | J12: 30.992 | K12: 18.37 | L12: 4.405 | M12: 8.217 | N12: 3.091 | O12: 5.658 | P12: 1.905 | Q12: 23.997 | R12: 15.041 | S12: 8.956 | T12: 16.716 | U12: – | V12: 4.238 | W12: 12.478 | X12: 13.715 | Y12: 3.759 | Z12: 9.956 | AA12: – | AB12: 2013
A13: 2014 | B13: 131.002 | C13: 4.093 | D13: 7.551 | E13: 0.057 | F13: 6.933 | G13: – | H13: 0.561 | I13: 25.228 | J13: 30.853 | K13: 18.312 | L13: 4.567 | M13: 7.974 | N13: 2.959 | O13: 5.507 | P13: 1.814 | Q13: 23.153 | R13: 14.181 | S13: 8.972 | T13: 16.295 | U13: – | V13: 4.195 | W13: 12.1 | X13: 13.549 | Y13: 3.721 | Z13: 9.828 | AA13: – | AB13: 2014
A14: 2015 | B14: 132.991 | C14: 4.628 | D14: 7.501 | E14: 0.056 | F14: 6.896 | G14: – | H14: 0.549 | I14: 25.176 | J14: 30.051 | K14: 17.895 | L14: 4.451 | M14: 7.705 | N14: 2.938 | O14: 5.994 | P14: 1.704 | Q14: 22.954 | R14: 13.896 | S14: 9.058 | T14: 17.145 | U14: – | V14: 4.675 | W14: 12.47 | X14: 14.9 | Y14: 4.323 | Z14: 10.577 | AA14: – | AB14: 2015
A15: 2016 | B15: 135.17 | C15: 5.185 | D15: 7.427 | E15: 0.056 | F15: 6.836 | G15: – | H15: 0.535 | I15: 24.5 | J15: 29.396 | K15: 17.695 | L15: 4.345 | M15: 7.356 | N15: 3.052 | O15: 6.185 | P15: 1.596 | Q15: 23.072 | R15: 14.157 | S15: 8.915 | T15: 18.764 | U15: – | V15: 5.107 | W15: 13.657 | X15: 15.993 | Y15: 4.712 | Z15: 11.281 | AA15: – | AB15: 2016
A16: 2017 | B16: 132.981 | C16: 5.246 | D16: 7.351 | E16: 0.058 | F16: 6.772 | G16: – | H16: 0.521 | I16: 23.573 | J16: 28.049 | K16: 16.766 | L16: 4.233 | M16: 7.05 | N16: 3.203 | O16: 5.647 | P16: 1.587 | Q16: 23.617 | R16: 14.563 | S16: 9.054 | T16: 19.341 | U16: – | V16: 4.661 | W16: 14.68 | X16: 15.367 | Y16: 4.798 | Z16: 10.569 | AA16: – | AB16: 2017
A17: 2018 | B17: 131.063 | C17: 5.214 | D17: 7.276 | E17: 0.059 | F17: 6.72 | G17: – | H17: 0.497 | I17: 23.988 | J17: 27.326 | K17: 16.36 | L17: 4.078 | M17: 6.888 | N17: 3.128 | O17: 4.815 | P17: 1.561 | Q17: 23.982 | R17: 14.904 | S17: 9.078 | T17: 19.019 | U17: – | V17: 4.684 | W17: 14.335 | X17: 14.754 | Y17: 5.238 | Z17: 9.516 | AA17: – | AB17: 2018
A18: 2019 | B18: 129.054 | C18: 4.944 | D18: 6.981 | E18: 0.059 | F18: 6.432 | G18: – | H18: 0.49 | I18: 24.301 | J18: 26.75 | K18: 15.893 | L18: 4.084 | M18: 6.773 | N18: 3.101 | O18: 4.631 | P18: 1.513 | Q18: 23.568 | R18: 14.797 | S18: 8.771 | T18: 18.273 | U18: – | V18: 4.929 | W18: 13.344 | X18: 14.992 | Y18: 6.076 | Z18: 8.916 | AA18: – | AB18: 2019
... A24: 2025 | B24: 111.06 | C24: 3.74 | D24: 5.663 | E24: 0.063 | F24: 5.389 | G24: – | H24: 0.211 | I24: 20.54 | J24: 20.98 | K24: 11.52 | L24: 3.548 | M24: 5.912 | N24: 3.214 | O24: 3.502 | P24: 2.171 | Q24: 20.361 | R24: 12.27 | S24: 8.091 | T24: 19.215 | U24: – | V24: 4.301 | W24: 14.914 | X24: 11.674 | Y24: 2.742 | Z24: 8.932 | AA24: – | AB24: 2025
B26: Veränderung zum Vorjahr in % | O26: Veränderung zum Vorjahr in %
A27: 2009 | B27: =ROUND(B8/B7*100-100,5) -> 2.52889 | C27: =ROUND(C8/C7*100-100,5) -> -2.60833 | D27: =ROUND(D8/D7*100-100,5) -> 0.80883 | E27: =ROUND(E8/E7*100-100,5) -> -6.25 | F27: =ROUND(F8/F7*100-100,5) -> 0.16641 | G27: – | H27: =ROUND(H8/H7*100-100,5) -> 10.70039 | I27: =ROUND(I8/I7*100-100,5) -> -0.59571 | J27: =ROUND(J8/J7*100-100,5) -> -0.46337 | K27: =ROUND(K8/K7*100-100,5) -> -0.57152 | L27: =ROUND(L8/L7*100-100,5) -> 0.87772 | M27: =ROUND(M8/M7*100-100,5) -> -0.9971 | N27: =ROUND(N8/N7*100-100,5) -> 0.39987 | O27: =ROUND(O8/O7*100-100,5) -> 13.08838 | ... T27: =ROUND(T8/T7*100-100,5) -> 11.64131 | U27: – | V27: =ROUND(V8/V7*100-100,5) -> 18.31147 | W27: =ROUND(W8/W7*100-100,5) -> 9.49408 | X27: =ROUND(X8/X7*100-100,5) -> 0.7651 | Y27: =ROUND(Y8/Y7*100-100,5) -> 14.30959 | Z27: =ROUND(Z8/Z7*100-100,5) -> -4.91243 | AA27: – | AB27: 2009
A28: 2010 | B28: =ROUND(B9/B8*100-100,5) -> -0.16143 | C28: =ROUND(C9/C8*100-100,5) -> -3.04536 | D28: =ROUND(D9/D8*100-100,5) -> -0.16556 | E28: =ROUND(E9/E8*100-100,5) -> 3.33333 | F28: =ROUND(F9/F8*100-100,5) -> -0.20767 | G28: – | H28: =ROUND(H9/H8*100-100,5) -> 0 | I28: =ROUND(I9/I8*100-100,5) -> -2.00421 | J28: =ROUND(J9/J8*100-100,5) -> -0.57132 | K28: =ROUND(K9/K8*100-100,5) -> -1.81678 | L28: =ROUND(L9/L8*100-100,5) -> 1.56219 | M28: =ROUND(M9/M8*100-100,5) -> 1.00714 | N28: =ROUND(N9/N8*100-100,5) -> 2.95387 | O28: =ROUND(O9/O8*100-100,5) -> 7.32146 | ... T28: =ROUND(T9/T8*100-100,5) -> 4.51067 | U28: – | V28: =ROUND(V9/V8*100-100,5) -> 10.55931 | W28: =ROUND(W9/W8*100-100,5) -> 2.40671 | X28: =ROUND(X9/X8*100-100,5) -> -7.15817 | Y28: =ROUND(Y9/Y8*100-100,5) -> -10.58114 | Z28: =ROUND(Z9/Z8*100-100,5) -> -5.43328 | AA28: – | AB28: 2010
A29: 2011 | B29: =ROUND(B10/B9*100-100,5) -> -1.59764 | C29: =ROUND(C10/C9*100-100,5) -> 0.69058 | D29: =ROUND(D10/D9*100-100,5) -> -0.31892 | E29: =ROUND(E10/E9*100-100,5) -> -8.06452 | F29: =ROUND(F10/F9*100-100,5) -> -0.29134 | G29: – | H29: =ROUND(H10/H9*100-100,5) -> 0.17575 | I29: =ROUND(I10/I9*100-100,5) -> 4.53183 | J29: =ROUND(J10/J9*100-100,5) -> -2.3866 | K29: =ROUND(K10/K9*100-100,5) -> -2.21107 | L29: =ROUND(L10/L9*100-100,5) -> -4.92601 | M29: =ROUND(M10/M9*100-100,5) -> -1.26377 | N29: =ROUND(N10/N9*100-100,5) -> -1.25725 | O29: =ROUND(O10/O9*100-100,5) -> -6.79408 | ... T29: =ROUND(T10/T9*100-100,5) -> -3.31587 | U29: – | V29: =ROUND(V10/V9*100-100,5) -> -5.84387 | W29: =ROUND(W10/W9*100-100,5) -> -2.36652 | X29: =ROUND(X10/X9*100-100,5) -> -3.23176 | Y29: =ROUND(Y10/Y9*100-100,5) -> -13.42735 | Z29: =ROUND(Z10/Z9*100-100,5) -> 1.62625 | AA29: – | AB29: 2011
A30: 2012 | B30: =ROUND(B11/B10*100-100,5) -> -0.8914 | C30: =ROUND(C11/C10*100-100,5) -> -4.57965 | D30: =ROUND(D11/D10*100-100,5) -> -1.51011 | E30: =ROUND(E11/E10*100-100,5) -> 1.75439 | F30: =ROUND(F11/F10*100-100,5) -> -1.51663 | G30: – | H30: =ROUND(H11/H10*100-100,5) -> -1.75439 | I30: =ROUND(I11/I10*100-100,5) -> 2.49893 | J30: =ROUND(J11/J10*100-100,5) -> -1.04027 | K30: =ROUND(K11/K10*100-100,5) -> 0.54522 | L30: =ROUND(L11/L10*100-100,5) -> -6.67622 | M30: =ROUND(M11/M10*100-100,5) -> -1.29169 | N30: =ROUND(N11/N10*100-100,5) -> -5.12569 | O30: =ROUND(O11/O10*100-100,5) -> -7.3492 | ... T30: =ROUND(T11/T10*100-100,5) -> 0.72656 | U30: – | V30: =ROUND(V11/V10*100-100,5) -> -4.09912 | W30: =ROUND(W11/W10*100-100,5) -> 2.47421 | X30: =ROUND(X11/X10*100-100,5) -> -1.63577 | Y30: =ROUND(Y11/Y10*100-100,5) -> -1.20397 | Z30: =ROUND(Z11/Z10*100-100,5) -> -1.81104 | AA30: – | AB30: 2012
A31: 2013 | B31: =ROUND(B12/B11*100-100,5) -> -2.38354 | C31: =ROUND(C12/C11*100-100,5) -> -6.26014 | D31: =ROUND(D12/D11*100-100,5) -> -0.29886 | E31: =ROUND(E12/E11*100-100,5) -> 3.44828 | F31: =ROUND(F12/F11*100-100,5) -> -0.1978 | G31: – | H31: =ROUND(H12/H11*100-100,5) -> -1.96429 | I31: =ROUND(I12/I11*100-100,5) -> -4.47914 | J31: =ROUND(J12/J11*100-100,5) -> -2.45806 | K31: =ROUND(K12/K11*100-100,5) -> -2.33918 | L31: =ROUND(L12/L11*100-100,5) -> -3.33553 | M31: =ROUND(M12/M11*100-100,5) -> -2.24839 | N31: =ROUND(N12/N11*100-100,5) -> 6.36614 | O31: =ROUND(O12/O11*100-100,5) -> -8.59451 | ... T31: =ROUND(T12/T11*100-100,5) -> 2.18228 | U31: – | V31: =ROUND(V12/V11*100-100,5) -> 2.34243 | W31: =ROUND(W12/W11*100-100,5) -> 2.12801 | X31: =ROUND(X12/X11*100-100,5) -> -4.96813 | Y31: =ROUND(Y12/Y11*100-100,5) -> -10.17921 | Z31: =ROUND(Z12/Z11*100-100,5) -> -2.83986 | AA31: – | AB31: 2013
A32: 2014 | B32: =ROUND(B13/B12*100-100,5) -> -1.54741 | C32: =ROUND(C13/C12*100-100,5) -> 1.23671 | D32: =ROUND(D13/D12*100-100,5) -> -1.58999 | E32: =ROUND(E13/E12*100-100,5) -> -5 | F32: =ROUND(F13/F12*100-100,5) -> -1.85447 | G32: – | H32: =ROUND(H13/H12*100-100,5) -> 2.18579 | I32: =ROUND(I13/I12*100-100,5) -> -0.17016 | J32: =ROUND(J13/J12*100-100,5) -> -0.4485 | K32: =ROUND(K13/K12*100-100,5) -> -0.31573 | L32: =ROUND(L13/L12*100-100,5) -> 3.67764 | M32: =ROUND(M13/M12*100-100,5) -> -2.95728 | N32: =ROUND(N13/N12*100-100,5) -> -4.27046 | O32: =ROUND(O13/O12*100-100,5) -> -2.66879 | ... T32: =ROUND(T13/T12*100-100,5) -> -2.51855 | U32: – | V32: =ROUND(V13/V12*100-100,5) -> -1.01463 | W32: =ROUND(W13/W12*100-100,5) -> -3.02933 | X32: =ROUND(X13/X12*100-100,5) -> -1.21035 | Y32: =ROUND(Y13/Y12*100-100,5) -> -1.01091 | Z32: =ROUND(Z13/Z12*100-100,5) -> -1.28566 | AA32: – | AB32: 2014
A33: 2015 | B33: =ROUND(B14/B13*100-100,5) -> 1.5183 | C33: =ROUND(C14/C13*100-100,5) -> 13.0711 | D33: =ROUND(D14/D13*100-100,5) -> -0.66216 | E33: =ROUND(E14/E13*100-100,5) -> -1.75439 | F33: =ROUND(F14/F13*100-100,5) -> -0.53368 | G33: – | H33: =ROUND(H14/H13*100-100,5) -> -2.13904 | I33: =ROUND(I14/I13*100-100,5) -> -0.20612 | J33: =ROUND(J14/J13*100-100,5) -> -2.59942 | K33: =ROUND(K14/K13*100-100,5) -> -2.2772 | L33: =ROUND(L14/L13*100-100,5) -> -2.53996 | M33: =ROUND(M14/M13*100-100,5) -> -3.37346 | N33: =ROUND(N14/N13*100-100,5) -> -0.7097 | O33: =ROUND(O14/O13*100-100,5) -> 8.84329 | ... T33: =ROUND(T14/T13*100-100,5) -> 5.21632 | U33: – | V33: =ROUND(V14/V13*100-100,5) -> 11.44219 | W33: =ROUND(W14/W13*100-100,5) -> 3.05785 | X33: =ROUND(X14/X13*100-100,5) -> 9.97122 | Y33: =ROUND(Y14/Y13*100-100,5) -> 16.17845 | Z33: =ROUND(Z14/Z13*100-100,5) -> 7.62108 | AA33: – | AB33: 2015
A34: 2016 | B34: =ROUND(B15/B14*100-100,5) -> 1.63846 | C34: =ROUND(C15/C14*100-100,5) -> 12.03544 | D34: =ROUND(D15/D14*100-100,5) -> -0.98654 | E34: =ROUND(E15/E14*100-100,5) -> 0 | F34: =ROUND(F15/F14*100-100,5) -> -0.87007 | G34: – | H34: =ROUND(H15/H14*100-100,5) -> -2.55009 | I34: =ROUND(I15/I14*100-100,5) -> -2.6851 | J34: =ROUND(J15/J14*100-100,5) -> -2.17963 | K34: =ROUND(K15/K14*100-100,5) -> -1.11763 | L34: =ROUND(L15/L14*100-100,5) -> -2.38149 | M34: =ROUND(M15/M14*100-100,5) -> -4.52953 | N34: =ROUND(N15/N14*100-100,5) -> 3.88019 | O34: =ROUND(O15/O14*100-100,5) -> 3.18652 | ... T34: =ROUND(T15/T14*100-100,5) -> 9.44299 | U34: – | V34: =ROUND(V15/V14*100-100,5) -> 9.24064 | W34: =ROUND(W15/W14*100-100,5) -> 9.51885 | X34: =ROUND(X15/X14*100-100,5) -> 7.33557 | Y34: =ROUND(Y15/Y14*100-100,5) -> 8.99838 | Z34: =ROUND(Z15/Z14*100-100,5) -> 6.65595 | AA34: – | AB34: 2016
A35: 2017 | B35: =ROUND(B16/B15*100-100,5) -> -1.61944 | C35: =ROUND(C16/C15*100-100,5) -> 1.17647 | D35: =ROUND(D16/D15*100-100,5) -> -1.02329 | E35: =ROUND(E16/E15*100-100,5) -> 3.57143 | F35: =ROUND(F16/F15*100-100,5) -> -0.93622 | G35: – | H35: =ROUND(H16/H15*100-100,5) -> -2.61682 | I35: =ROUND(I16/I15*100-100,5) -> -3.78367 | J35: =ROUND(J16/J15*100-100,5) -> -4.58226 | K35: =ROUND(K16/K15*100-100,5) -> -5.25007 | L35: =ROUND(L16/L15*100-100,5) -> -2.57768 | M35: =ROUND(M16/M15*100-100,5) -> -4.15987 | N35: =ROUND(N16/N15*100-100,5) -> 4.94758 | O35: =ROUND(O16/O15*100-100,5) -> -8.69846 | ... T35: =ROUND(T16/T15*100-100,5) -> 3.07504 | U35: – | V35: =ROUND(V16/V15*100-100,5) -> -8.73311 | W35: =ROUND(W16/W15*100-100,5) -> 7.49066 | X35: =ROUND(X16/X15*100-100,5) -> -3.91421 | Y35: =ROUND(Y16/Y15*100-100,5) -> 1.82513 | Z35: =ROUND(Z16/Z15*100-100,5) -> -6.3115 | AA35: – | AB35: 2017
A36: 2018 | B36: =ROUND(B17/B16*100-100,5) -> -1.44231 | C36: =ROUND(C17/C16*100-100,5) -> -0.60999 | D36: =ROUND(D17/D16*100-100,5) -> -1.02027 | E36: =ROUND(E17/E16*100-100,5) -> 1.72414 | F36: =ROUND(F17/F16*100-100,5) -> -0.76787 | G36: – | H36: =ROUND(H17/H16*100-100,5) -> -4.60653 | I36: =ROUND(I17/I16*100-100,5) -> 1.76049 | J36: =ROUND(J17/J16*100-100,5) -> -2.57763 | K36: =ROUND(K17/K16*100-100,5) -> -2.42157 | L36: =ROUND(L17/L16*100-100,5) -> -3.66171 | M36: =ROUND(M17/M16*100-100,5) -> -2.29787 | N36: =ROUND(N17/N16*100-100,5) -> -2.34155 | O36: =ROUND(O17/O16*100-100,5) -> -14.73349 | ... T36: =ROUND(T17/T16*100-100,5) -> -1.66486 | U36: – | V36: =ROUND(V17/V16*100-100,5) -> 0.49346 | W36: =ROUND(W17/W16*100-100,5) -> -2.35014 | X36: =ROUND(X17/X16*100-100,5) -> -3.98907 | Y36: =ROUND(Y17/Y16*100-100,5) -> 9.17049 | Z36: =ROUND(Z17/Z16*100-100,5) -> -9.9631 | AA36: – | AB36: 2018
A37: 2019 | B37: =ROUND(B18/B17*100-100,5) -> -1.53285 | C37: =ROUND(C18/C17*100-100,5) -> -5.17837 | D37: =ROUND(D18/D17*100-100,5) -> -4.05443 | E37: =ROUND(E18/E17*100-100,5) -> 0 | F37: =ROUND(F18/F17*100-100,5) -> -4.28571 | G37: – | H37: =ROUND(H18/H17*100-100,5) -> -1.40845 | I37: =ROUND(I18/I17*100-100,5) -> 1.30482 | J37: =ROUND(J18/J17*100-100,5) -> -2.10788 | K37: =ROUND(K18/K17*100-100,5) -> -2.85452 | L37: =ROUND(L18/L17*100-100,5) -> 0.14713 | M37: =ROUND(M18/M17*100-100,5) -> -1.66957 | N37: =ROUND(N18/N17*100-100,5) -> -0.86317 | O37: =ROUND(O18/O17*100-100,5) -> -3.82139 | ... T37: =ROUND(T18/T17*100-100,5) -> -3.92239 | U37: – | V37: =ROUND(V18/V17*100-100,5) -> 5.23057 | W37: =ROUND(W18/W17*100-100,5) -> -6.91315 | X37: =ROUND(X18/X17*100-100,5) -> 1.61312 | Y37: =ROUND(Y18/Y17*100-100,5) -> 15.99847 | Z37: =ROUND(Z18/Z17*100-100,5) -> -6.30517 | AA37: – | AB37: 2019
A38: 2020 | B38: =ROUND(B19/B18*100-100,5) -> -3.01192 | C38: =ROUND(C19/C18*100-100,5) -> -14.40129 | D38: =ROUND(D19/D18*100-100,5) -> 0 | E38: =ROUND(E19/E18*100-100,5) -> -5.08475 | F38: =ROUND(F19/F18*100-100,5) -> 0.12438 | G38: – | H38: =ROUND(H19/H18*100-100,5) -> -1.02041 | I38: =ROUND(I19/I18*100-100,5) -> -1.42792 | J38: =ROUND(J19/J18*100-100,5) -> -4.10467 | K38: =ROUND(K19/K18*100-100,5) -> -5.65658 | L38: =ROUND(L19/L18*100-100,5) -> -1.10186 | M38: =ROUND(M19/M18*100-100,5) -> -2.27373 | N38: =ROUND(N19/N18*100-100,5) -> -0.25798 | O38: =ROUND(O19/O18*100-100,5) -> 0.79896 | ... T38: =ROUND(T19/T18*100-100,5) -> -0.32288 | U38: – | V38: =ROUND(V19/V18*100-100,5) -> -4.09819 | W38: =ROUND(W19/W18*100-100,5) -> 1.07164 | X38: =ROUND(X19/X18*100-100,5) -> -4.16889 | Y38: =ROUND(Y19/Y18*100-100,5) -> -5.28308 | Z38: =ROUND(Z19/Z18*100-100,5) -> -3.4096 | AA38: – | AB38: 2020
... A43: 2025 | B43: =ROUND(B24/B23*100-100,5) -> -3.75916 | C43: =ROUND(C24/C23*100-100,5) -> -20.4932 | D43: =ROUND(D24/D23*100-100,5) -> -0.77098 | E43: =ROUND(E24/E23*100-100,5) -> 110 | F43: =ROUND(F24/F23*100-100,5) -> -0.46177 | G43: – | H43: =ROUND(H24/H23*100-100,5) -> -19.77186 | I43: =ROUND(I24/I23*100-100,5) -> -3.91542 | J43: =ROUND(J24/J23*100-100,5) -> -4.00366 | K43: =ROUND(K24/K23*100-100,5) -> -4.97402 | L43: =ROUND(L24/L23*100-100,5) -> -0.05634 | M43: =ROUND(M24/M23*100-100,5) -> -4.36752 | N43: =ROUND(N24/N23*100-100,5) -> -0.18634 | O43: =ROUND(O24/O23*100-100,5) -> -4.57766 | ... T43: =ROUND(T24/T23*100-100,5) -> 0.30276 | U43: – | V43: =ROUND(V24/V23*100-100,5) -> -6.25545 | W43: =ROUND(W24/W23*100-100,5) -> 2.36804 | X43: =ROUND(X24/X23*100-100,5) -> -10.20691 | Y43: =ROUND(Y24/Y23*100-100,5) -> -18.73148 | Z43: =ROUND(Z24/Z23*100-100,5) -> -7.21928 | AA43: – | AB43: 2025
B45: Veränderung zum Vorjahr in 1 000 Personen | O45: Veränderung zum Vorjahr in 1 000 Personen
A46: 2009 | B46: =B8-B7 -> 3.453 | C46: =C8-C7 -> -0.124 | D46: =D8-D7 -> 0.063 | E46: =E8-E7 -> -0.004 | F46: =F8-F7 -> 0.012 | G46: – | H46: =H8-H7 -> 0.055 | I46: =I8-I7 -> -0.151 | J46: =J8-J7 -> -0.154 | K46: =K8-K7 -> -0.112 | L46: =L8-L7 -> 0.044 | M46: =M8-M7 -> -0.086 | N46: =N8-N7 -> 0.012 | O46: =O8-O7 -> 0.773 | ... T46: =T8-T7 -> 1.676 | U46: – | V46: =V8-V7 -> 0.642 | W46: =W8-W7 -> 1.034 | X46: =X8-X7 -> 0.124 | Y46: =Y8-Y7 -> 0.685 | Z46: =Z8-Z7 -> -0.561 | AA46: – | AB46: 2009
A47: 2010 | B47: =B9-B8 -> -0.226 | C47: =C9-C8 -> -0.141 | D47: =D9-D8 -> -0.013 | E47: =E9-E8 -> 0.002 | F47: =F9-F8 -> -0.015 | G47: – | H47: =H9-H8 -> 0 | I47: =I9-I8 -> -0.505 | J47: =J9-J8 -> -0.189 | K47: =K9-K8 -> -0.354 | L47: =L9-L8 -> 0.079 | M47: =M9-M8 -> 0.086 | N47: =N9-N8 -> 0.089 | O47: =O9-O8 -> 0.489 | ... T47: =T9-T8 -> 0.725 | U47: – | V47: =V9-V8 -> 0.438 | W47: =W9-W8 -> 0.287 | X47: =X9-X8 -> -1.169 | Y47: =Y9-Y8 -> -0.579 | Z47: =Z9-Z8 -> -0.59 | AA47: – | AB47: 2010
A48: 2011 | B48: =B10-B9 -> -2.233 | C48: =C10-C9 -> 0.031 | D48: =D10-D9 -> -0.025 | E48: =E10-E9 -> -0.005 | F48: =F10-F9 -> -0.021 | G48: – | H48: =H10-H9 -> 0.001 | I48: =I10-I9 -> 1.119 | J48: =J10-J9 -> -0.785 | K48: =K10-K9 -> -0.423 | L48: =L10-L9 -> -0.253 | M48: =M10-M9 -> -0.109 | N48: =N10-N9 -> -0.039 | O48: =O10-O9 -> -0.487 | ... T48: =T10-T9 -> -0.557 | U48: – | V48: =V10-V9 -> -0.268 | W48: =W10-W9 -> -0.289 | X48: =X10-X9 -> -0.49 | Y48: =Y10-Y9 -> -0.657 | Z48: =Z10-Z9 -> 0.167 | AA48: – | AB48: 2011
A49: 2012 | B49: =B11-B10 -> -1.226 | C49: =C11-C10 -> -0.207 | D49: =D11-D10 -> -0.118 | E49: =E11-E10 -> 0.001 | F49: =F11-F10 -> -0.109 | G49: – | H49: =H11-H10 -> -0.01 | I49: =I11-I10 -> 0.645 | J49: =J11-J10 -> -0.334 | K49: =K11-K10 -> 0.102 | L49: =L11-L10 -> -0.326 | M49: =M11-M10 -> -0.11 | N49: =N11-N10 -> -0.157 | O49: =O11-O10 -> -0.491 | ... T49: =T11-T10 -> 0.118 | U49: – | V49: =V11-V10 -> -0.177 | W49: =W11-W10 -> 0.295 | X49: =X11-X10 -> -0.24 | Y49: =Y11-Y10 -> -0.051 | Z49: =Z11-Z10 -> -0.189 | AA49: – | AB49: 2012
A50: 2013 | B50: =B12-B11 -> -3.249 | C50: =C12-C11 -> -0.27 | D50: =D12-D11 -> -0.023 | E50: =E12-E11 -> 0.002 | F50: =F12-F11 -> -0.014 | G50: – | H50: =H12-H11 -> -0.011 | I50: =I12-I11 -> -1.185 | J50: =J12-J11 -> -0.781 | K50: =K12-K11 -> -0.44 | L50: =L12-L11 -> -0.152 | M50: =M12-M11 -> -0.189 | N50: =N12-N11 -> 0.185 | O50: =O12-O11 -> -0.532 | ... T50: =T12-T11 -> 0.357 | U50: – | V50: =V12-V11 -> 0.097 | W50: =W12-W11 -> 0.26 | X50: =X12-X11 -> -0.717 | Y50: =Y12-Y11 -> -0.426 | Z50: =Z12-Z11 -> -0.291 | AA50: – | AB50: 2013
A51: 2014 | B51: =B13-B12 -> -2.059 | C51: =C13-C12 -> 0.05 | D51: =D13-D12 -> -0.122 | E51: =E13-E12 -> -0.003 | F51: =F13-F12 -> -0.131 | G51: – | H51: =H13-H12 -> 0.012 | I51: =I13-I12 -> -0.043 | J51: =J13-J12 -> -0.139 | K51: =K13-K12 -> -0.058 | L51: =L13-L12 -> 0.162 | M51: =M13-M12 -> -0.243 | N51: =N13-N12 -> -0.132 | O51: =O13-O12 -> -0.151 | ... T51: =T13-T12 -> -0.421 | U51: – | V51: =V13-V12 -> -0.043 | W51: =W13-W12 -> -0.378 | X51: =X13-X12 -> -0.166 | Y51: =Y13-Y12 -> -0.038 | Z51: =Z13-Z12 -> -0.128 | AA51: – | AB51: 2014
A52: 2015 | B52: =B14-B13 -> 1.989 | C52: =C14-C13 -> 0.535 | D52: =D14-D13 -> -0.05 | E52: =E14-E13 -> -0.001 | F52: =F14-F13 -> -0.037 | G52: – | H52: =H14-H13 -> -0.012 | I52: =I14-I13 -> -0.052 | J52: =J14-J13 -> -0.802 | K52: =K14-K13 -> -0.417 | L52: =L14-L13 -> -0.116 | M52: =M14-M13 -> -0.269 | N52: =N14-N13 -> -0.021 | O52: =O14-O13 -> 0.487 | ... T52: =T14-T13 -> 0.85 | U52: – | V52: =V14-V13 -> 0.48 | W52: =W14-W13 -> 0.37 | X52: =X14-X13 -> 1.351 | Y52: =Y14-Y13 -> 0.602 | Z52: =Z14-Z13 -> 0.749 | AA52: – | AB52: 2015
A53: 2016 | B53: =B15-B14 -> 2.179 | C53: =C15-C14 -> 0.557 | D53: =D15-D14 -> -0.074 | E53: =E15-E14 -> 0 | F53: =F15-F14 -> -0.06 | G53: – | H53: =H15-H14 -> -0.014 | I53: =I15-I14 -> -0.676 | J53: =J15-J14 -> -0.655 | K53: =K15-K14 -> -0.2 | L53: =L15-L14 -> -0.106 | M53: =M15-M14 -> -0.349 | N53: =N15-N14 -> 0.114 | O53: =O15-O14 -> 0.191 | ... T53: =T15-T14 -> 1.619 | U53: – | V53: =V15-V14 -> 0.432 | W53: =W15-W14 -> 1.187 | X53: =X15-X14 -> 1.093 | Y53: =Y15-Y14 -> 0.389 | Z53: =Z15-Z14 -> 0.704 | AA53: – | AB53: 2016
A54: 2017 | B54: =B16-B15 -> -2.189 | C54: =C16-C15 -> 0.061 | D54: =D16-D15 -> -0.076 | E54: =E16-E15 -> 0.002 | F54: =F16-F15 -> -0.064 | G54: – | H54: =H16-H15 -> -0.014 | I54: =I16-I15 -> -0.927 | J54: =J16-J15 -> -1.347 | K54: =K16-K15 -> -0.929 | L54: =L16-L15 -> -0.112 | M54: =M16-M15 -> -0.306 | N54: =N16-N15 -> 0.151 | O54: =O16-O15 -> -0.538 | ... T54: =T16-T15 -> 0.577 | U54: – | V54: =V16-V15 -> -0.446 | W54: =W16-W15 -> 1.023 | X54: =X16-X15 -> -0.626 | Y54: =Y16-Y15 -> 0.086 | Z54: =Z16-Z15 -> -0.712 | AA54: – | AB54: 2017
A55: 2018 | B55: =B17-B16 -> -1.918 | C55: =C17-C16 -> -0.032 | D55: =D17-D16 -> -0.075 | E55: =E17-E16 -> 0.001 | F55: =F17-F16 -> -0.052 | G55: – | H55: =H17-H16 -> -0.024 | I55: =I17-I16 -> 0.415 | J55: =J17-J16 -> -0.723 | K55: =K17-K16 -> -0.406 | L55: =L17-L16 -> -0.155 | M55: =M17-M16 -> -0.162 | N55: =N17-N16 -> -0.075 | O55: =O17-O16 -> -0.832 | ... T55: =T17-T16 -> -0.322 | U55: – | V55: =V17-V16 -> 0.023 | W55: =W17-W16 -> -0.345 | X55: =X17-X16 -> -0.613 | Y55: =Y17-Y16 -> 0.44 | Z55: =Z17-Z16 -> -1.053 | AA55: – | AB55: 2018
A56: 2019 | B56: =B18-B17 -> -2.009 | C56: =C18-C17 -> -0.27 | D56: =D18-D17 -> -0.295 | E56: =E18-E17 -> 0 | F56: =F18-F17 -> -0.288 | G56: – | H56: =H18-H17 -> -0.007 | I56: =I18-I17 -> 0.313 | J56: =J18-J17 -> -0.576 | K56: =K18-K17 -> -0.467 | L56: =L18-L17 -> 0.006 | M56: =M18-M17 -> -0.115 | N56: =N18-N17 -> -0.027 | O56: =O18-O17 -> -0.184 | ... T56: =T18-T17 -> -0.746 | U56: – | V56: =V18-V17 -> 0.245 | W56: =W18-W17 -> -0.991 | X56: =X18-X17 -> 0.238 | Y56: =Y18-Y17 -> 0.838 | Z56: =Z18-Z17 -> -0.6 | AA56: – | AB56: 2019
A57: 2020 | B57: =B19-B18 -> -3.887 | C57: =C19-C18 -> -0.712 | D57: =D19-D18 -> 0 | E57: =E19-E18 -> -0.003 | F57: =F19-F18 -> 0.008 | G57: – | H57: =H19-H18 -> -0.005 | I57: =I19-I18 -> -0.347 | J57: =J19-J18 -> -1.098 | K57: =K19-K18 -> -0.899 | L57: =L19-L18 -> -0.045 | M57: =M19-M18 -> -0.154 | N57: =N19-N18 -> -0.008 | O57: =O19-O18 -> 0.037 | ... T57: =T19-T18 -> -0.059 | U57: – | V57: =V19-V18 -> -0.202 | W57: =W19-W18 -> 0.143 | X57: =X19-X18 -> -0.625 | Y57: =Y19-Y18 -> -0.321 | Z57: =Z19-Z18 -> -0.304 | AA57: – | AB57: 2020
... A62: 2025 | B62: =B24-B23 -> -4.338 | C62: =C24-C23 -> -0.964 | D62: =D24-D23 -> -0.044 | E62: =E24-E23 -> 0.033 | F62: =F24-F23 -> -0.025 | G62: – | H62: =H24-H23 -> -0.052 | I62: =I24-I23 -> -0.837 | J62: =J24-J23 -> -0.875 | K62: =K24-K23 -> -0.603 | L62: =L24-L23 -> -0.002 | M62: =M24-M23 -> -0.27 | N62: =N24-N23 -> -0.006 | O62: =O24-O23 -> -0.168 | ... T62: =T24-T23 -> 0.058 | U62: – | V62: =V24-V23 -> -0.287 | W62: =W24-W23 -> 0.345 | X62: =X24-X23 -> -1.327 | Y62: =Y24-Y23 -> -0.632 | Z62: =Z24-Z23 -> -0.695 | AA62: – | AB62: 2025
B64: Anteil an den Selbstständigen insgesamt in % | O64: Anteil an den Selbstständigen insgesamt in %
A65: 2008 | B65: 100 | C65: =ROUND(C7/$B7*100,5) -> 3.48171 | D65: =ROUND(D7/$B7*100,5) -> 5.70447 | E65: =ROUND(E7/$B7*100,5) -> 0.04687 | F65: =ROUND(F7/$B7*100,5) -> 5.28116 | G65: – | H65: =ROUND(H7/$B7*100,5) -> 0.37644 | I65: =ROUND(I7/$B7*100,5) -> 18.56425 | J65: =ROUND(J7/$B7*100,5) -> 24.3405 | K65: =ROUND(K7/$B7*100,5) -> 14.35236 | L65: =ROUND(L7/$B7*100,5) -> 3.6714 | M65: =ROUND(M7/$B7*100,5) -> 6.31674 | N65: =ROUND(N7/$B7*100,5) -> 2.19786 | O65: =ROUND(O7/$B7*100,5) -> 4.32541 | ... T65: =ROUND(T7/$B7*100,5) -> 10.54401 | U65: – | V65: =ROUND(V7/$B7*100,5) -> 2.56771 | W65: =ROUND(W7/$B7*100,5) -> 7.9763 | X65: =ROUND(X7/$B7*100,5) -> 11.86961 | Y65: =ROUND(Y7/$B7*100,5) -> 3.50588 | Z65: =ROUND(Z7/$B7*100,5) -> 8.36373 | AA65: – | AB65: 2008
A66: 2009 | B66: 100 | C66: =ROUND(C8/$B8*100,5) -> 3.30726 | D66: =ROUND(D8/$B8*100,5) -> 5.60877 | E66: =ROUND(E8/$B8*100,5) -> 0.04286 | F66: =ROUND(F8/$B8*100,5) -> 5.15947 | G66: – | H66: =ROUND(H8/$B8*100,5) -> 0.40644 | I66: =ROUND(I8/$B8*100,5) -> 17.9985 | J66: =ROUND(J8/$B8*100,5) -> 23.63013 | K66: =ROUND(K8/$B8*100,5) -> 13.91835 | L66: =ROUND(L8/$B8*100,5) -> 3.61227 | M66: =ROUND(M8/$B8*100,5) -> 6.0995 | N66: =ROUND(N8/$B8*100,5) -> 2.15222 | O66: =ROUND(O8/$B8*100,5) -> 4.77088 | ... T66: =ROUND(T8/$B8*100,5) -> 11.48112 | U66: – | V66: =ROUND(V8/$B8*100,5) -> 2.96296 | W66: =ROUND(W8/$B8*100,5) -> 8.51816 | X66: =ROUND(X8/$B8*100,5) -> 11.66542 | Y66: =ROUND(Y8/$B8*100,5) -> 3.90871 | Z66: =ROUND(Z8/$B8*100,5) -> 7.75671 | AA66: – | AB66: 2009
A67: 2010 | B67: 100 | C67: =ROUND(C9/$B9*100,5) -> 3.21173 | D67: =ROUND(D9/$B9*100,5) -> 5.60854 | E67: =ROUND(E9/$B9*100,5) -> 0.04436 | F67: =ROUND(F9/$B9*100,5) -> 5.15708 | G67: – | H67: =ROUND(H9/$B9*100,5) -> 0.4071 | I67: =ROUND(I9/$B9*100,5) -> 17.66629 | J67: =ROUND(J9/$B9*100,5) -> 23.53312 | K67: =ROUND(K9/$B9*100,5) -> 13.68758 | L67: =ROUND(L9/$B9*100,5) -> 3.67463 | M67: =ROUND(M9/$B9*100,5) -> 6.1709 | N67: =ROUND(N9/$B9*100,5) -> 2.21938 | O67: =ROUND(O9/$B9*100,5) -> 5.12846 | ... T67: =ROUND(T9/$B9*100,5) -> 12.0184 | U67: – | V67: =ROUND(V9/$B9*100,5) -> 3.28113 | W67: =ROUND(W9/$B9*100,5) -> 8.73727 | X67: =ROUND(X9/$B9*100,5) -> 10.8479 | Y67: =ROUND(Y9/$B9*100,5) -> 3.50078 | Z67: =ROUND(Z9/$B9*100,5) -> 7.34712 | AA67: – | AB67: 2010
A68: 2011 | B68: 100 | C68: =ROUND(C10/$B10*100,5) -> 3.28641 | D68: =ROUND(D10/$B10*100,5) -> 5.68142 | E68: =ROUND(E10/$B10*100,5) -> 0.04144 | F68: =ROUND(F10/$B10*100,5) -> 5.22554 | G68: – | H68: =ROUND(H10/$B10*100,5) -> 0.41444 | I68: =ROUND(I10/$B10*100,5) -> 18.76672 | J68: =ROUND(J10/$B10*100,5) -> 23.34443 | K68: =ROUND(K10/$B10*100,5) -> 13.60226 | L68: =ROUND(L10/$B10*100,5) -> 3.55034 | M68: =ROUND(M10/$B10*100,5) -> 6.19183 | N68: =ROUND(N10/$B10*100,5) -> 2.22705 | O68: =ROUND(O10/$B10*100,5) -> 4.85764 | ... T68: =ROUND(T10/$B10*100,5) -> 11.80854 | U68: – | V68: =ROUND(V10/$B10*100,5) -> 3.13954 | W68: =ROUND(W10/$B10*100,5) -> 8.669 | X68: =ROUND(X10/$B10*100,5) -> 10.66775 | Y68: =ROUND(Y10/$B10*100,5) -> 3.07992 | Z68: =ROUND(Z10/$B10*100,5) -> 7.58783 | AA68: – | AB68: 2011
A69: 2012 | B69: 100 | C69: =ROUND(C11/$B11*100,5) -> 3.16411 | D69: =ROUND(D11/$B11*100,5) -> 5.64595 | E69: =ROUND(E11/$B11*100,5) -> 0.04255 | F69: =ROUND(F11/$B11*100,5) -> 5.19258 | G69: – | H69: =ROUND(H11/$B11*100,5) -> 0.41083 | I69: =ROUND(I11/$B11*100,5) -> 19.4087 | J69: =ROUND(J11/$B11*100,5) -> 23.30937 | K69: =ROUND(K11/$B11*100,5) -> 13.79943 | L69: =ROUND(L11/$B11*100,5) -> 3.34311 | M69: =ROUND(M11/$B11*100,5) -> 6.16683 | N69: =ROUND(N11/$B11*100,5) -> 2.13191 | O69: =ROUND(O11/$B11*100,5) -> 4.54112 | ... T69: =ROUND(T11/$B11*100,5) -> 12.00132 | U69: – | V69: =ROUND(V11/$B11*100,5) -> 3.03793 | W69: =ROUND(W11/$B11*100,5) -> 8.96339 | X69: =ROUND(X11/$B11*100,5) -> 10.58763 | Y69: =ROUND(Y11/$B11*100,5) -> 3.07021 | Z69: =ROUND(Z11/$B11*100,5) -> 7.51742 | AA69: – | AB69: 2012
A70: 2013 | B70: 100 | C70: =ROUND(C12/$B12*100,5) -> 3.03846 | D70: =ROUND(D12/$B12*100,5) -> 5.76653 | E70: =ROUND(E12/$B12*100,5) -> 0.04509 | F70: =ROUND(F12/$B12*100,5) -> 5.30884 | G70: – | H70: =ROUND(H12/$B12*100,5) -> 0.41259 | I70: =ROUND(I12/$B12*100,5) -> 18.99204 | J70: =ROUND(J12/$B12*100,5) -> 23.29157 | K70: =ROUND(K12/$B12*100,5) -> 13.8057 | L70: =ROUND(L12/$B12*100,5) -> 3.31051 | M70: =ROUND(M12/$B12*100,5) -> 6.17536 | N70: =ROUND(N12/$B12*100,5) -> 2.32299 | O70: =ROUND(O12/$B12*100,5) -> 4.25219 | ... T70: =ROUND(T12/$B12*100,5) -> 12.56266 | U70: – | V70: =ROUND(V12/$B12*100,5) -> 3.18501 | W70: =ROUND(W12/$B12*100,5) -> 9.37765 | X70: =ROUND(X12/$B12*100,5) -> 10.3073 | Y70: =ROUND(Y12/$B12*100,5) -> 2.82502 | Z70: =ROUND(Z12/$B12*100,5) -> 7.48228 | AA70: – | AB70: 2013
A71: 2014 | B71: 100 | C71: =ROUND(C13/$B13*100,5) -> 3.12438 | D71: =ROUND(D13/$B13*100,5) -> 5.76403 | E71: =ROUND(E13/$B13*100,5) -> 0.04351 | F71: =ROUND(F13/$B13*100,5) -> 5.29229 | G71: – | H71: =ROUND(H13/$B13*100,5) -> 0.42824 | I71: =ROUND(I13/$B13*100,5) -> 19.25772 | J71: =ROUND(J13/$B13*100,5) -> 23.55155 | K71: =ROUND(K13/$B13*100,5) -> 13.97841 | L71: =ROUND(L13/$B13*100,5) -> 3.48621 | M71: =ROUND(M13/$B13*100,5) -> 6.08693 | N71: =ROUND(N13/$B13*100,5) -> 2.25874 | O71: =ROUND(O13/$B13*100,5) -> 4.20375 | ... T71: =ROUND(T13/$B13*100,5) -> 12.43874 | U71: – | V71: =ROUND(V13/$B13*100,5) -> 3.20224 | W71: =ROUND(W13/$B13*100,5) -> 9.2365 | X71: =ROUND(X13/$B13*100,5) -> 10.34259 | Y71: =ROUND(Y13/$B13*100,5) -> 2.84041 | Z71: =ROUND(Z13/$B13*100,5) -> 7.50218 | AA71: – | AB71: 2014
A72: 2015 | B72: 100 | C72: =ROUND(C14/$B14*100,5) -> 3.47993 | D72: =ROUND(D14/$B14*100,5) -> 5.64023 | E72: =ROUND(E14/$B14*100,5) -> 0.04211 | F72: =ROUND(F14/$B14*100,5) -> 5.18531 | G72: – | H72: =ROUND(H14/$B14*100,5) -> 0.41281 | I72: =ROUND(I14/$B14*100,5) -> 18.9306 | J72: =ROUND(J14/$B14*100,5) -> 22.59627 | K72: =ROUND(K14/$B14*100,5) -> 13.4558 | L72: =ROUND(L14/$B14*100,5) -> 3.34684 | M72: =ROUND(M14/$B14*100,5) -> 5.79363 | N72: =ROUND(N14/$B14*100,5) -> 2.20917 | O72: =ROUND(O14/$B14*100,5) -> 4.50707 | ... T72: =ROUND(T14/$B14*100,5) -> 12.89185 | U72: – | V72: =ROUND(V14/$B14*100,5) -> 3.51528 | W72: =ROUND(W14/$B14*100,5) -> 9.37657 | X72: =ROUND(X14/$B14*100,5) -> 11.20377 | Y72: =ROUND(Y14/$B14*100,5) -> 3.2506 | Z72: =ROUND(Z14/$B14*100,5) -> 7.95317 | AA72: – | AB72: 2015
A73: 2016 | B73: 100 | C73: =ROUND(C15/$B15*100,5) -> 3.83591 | D73: =ROUND(D15/$B15*100,5) -> 5.49456 | E73: =ROUND(E15/$B15*100,5) -> 0.04143 | F73: =ROUND(F15/$B15*100,5) -> 5.05734 | G73: – | H73: =ROUND(H15/$B15*100,5) -> 0.3958 | I73: =ROUND(I15/$B15*100,5) -> 18.12532 | J73: =ROUND(J15/$B15*100,5) -> 21.74743 | K73: =ROUND(K15/$B15*100,5) -> 13.09092 | L73: =ROUND(L15/$B15*100,5) -> 3.21447 | M73: =ROUND(M15/$B15*100,5) -> 5.44204 | N73: =ROUND(N15/$B15*100,5) -> 2.2579 | O73: =ROUND(O15/$B15*100,5) -> 4.57572 | ... T73: =ROUND(T15/$B15*100,5) -> 13.88178 | U73: – | V73: =ROUND(V15/$B15*100,5) -> 3.77821 | W73: =ROUND(W15/$B15*100,5) -> 10.10357 | X73: =ROUND(X15/$B15*100,5) -> 11.83177 | Y73: =ROUND(Y15/$B15*100,5) -> 3.48598 | Z73: =ROUND(Z15/$B15*100,5) -> 8.34579 | AA73: – | AB73: 2016
A74: 2017 | B74: 100 | C74: =ROUND(C16/$B16*100,5) -> 3.94492 | D74: =ROUND(D16/$B16*100,5) -> 5.52786 | E74: =ROUND(E16/$B16*100,5) -> 0.04362 | F74: =ROUND(F16/$B16*100,5) -> 5.09246 | G74: – | H74: =ROUND(H16/$B16*100,5) -> 0.39179 | I74: =ROUND(I16/$B16*100,5) -> 17.72659 | J74: =ROUND(J16/$B16*100,5) -> 21.09249 | K74: =ROUND(K16/$B16*100,5) -> 12.60782 | L74: =ROUND(L16/$B16*100,5) -> 3.18316 | M74: =ROUND(M16/$B16*100,5) -> 5.30151 | N74: =ROUND(N16/$B16*100,5) -> 2.40861 | O74: =ROUND(O16/$B16*100,5) -> 4.24647 | ... T74: =ROUND(T16/$B16*100,5) -> 14.54418 | U74: – | V74: =ROUND(V16/$B16*100,5) -> 3.50501 | W74: =ROUND(W16/$B16*100,5) -> 11.03917 | X74: =ROUND(X16/$B16*100,5) -> 11.55579 | Y74: =ROUND(Y16/$B16*100,5) -> 3.60803 | Z74: =ROUND(Z16/$B16*100,5) -> 7.94775 | AA74: – | AB74: 2017
A75: 2018 | B75: 100 | C75: =ROUND(C17/$B17*100,5) -> 3.97824 | D75: =ROUND(D17/$B17*100,5) -> 5.55153 | E75: =ROUND(E17/$B17*100,5) -> 0.04502 | F75: =ROUND(F17/$B17*100,5) -> 5.12731 | G75: – | H75: =ROUND(H17/$B17*100,5) -> 0.37921 | I75: =ROUND(I17/$B17*100,5) -> 18.30265 | J75: =ROUND(J17/$B17*100,5) -> 20.84952 | K75: =ROUND(K17/$B17*100,5) -> 12.48255 | L75: =ROUND(L17/$B17*100,5) -> 3.11148 | M75: =ROUND(M17/$B17*100,5) -> 5.25549 | N75: =ROUND(N17/$B17*100,5) -> 2.38664 | O75: =ROUND(O17/$B17*100,5) -> 3.67381 | ... T75: =ROUND(T17/$B17*100,5) -> 14.51134 | U75: – | V75: =ROUND(V17/$B17*100,5) -> 3.57385 | W75: =ROUND(W17/$B17*100,5) -> 10.93749 | X75: =ROUND(X17/$B17*100,5) -> 11.25718 | Y75: =ROUND(Y17/$B17*100,5) -> 3.99655 | Z75: =ROUND(Z17/$B17*100,5) -> 7.26063 | AA75: – | AB75: 2018
A76: 2019 | B76: 100 | C76: =ROUND(C18/$B18*100,5) -> 3.83095 | D76: =ROUND(D18/$B18*100,5) -> 5.40936 | E76: =ROUND(E18/$B18*100,5) -> 0.04572 | F76: =ROUND(F18/$B18*100,5) -> 4.98396 | G76: – | H76: =ROUND(H18/$B18*100,5) -> 0.37969 | I76: =ROUND(I18/$B18*100,5) -> 18.8301 | J76: =ROUND(J18/$B18*100,5) -> 20.72776 | K76: =ROUND(K18/$B18*100,5) -> 12.315 | L76: =ROUND(L18/$B18*100,5) -> 3.16457 | M76: =ROUND(M18/$B18*100,5) -> 5.24819 | N76: =ROUND(N18/$B18*100,5) -> 2.40287 | O76: =ROUND(O18/$B18*100,5) -> 3.58842 | ... T76: =ROUND(T18/$B18*100,5) -> 14.15919 | U76: – | V76: =ROUND(V18/$B18*100,5) -> 3.81933 | W76: =ROUND(W18/$B18*100,5) -> 10.33986 | X76: =ROUND(X18/$B18*100,5) -> 11.61684 | Y76: =ROUND(Y18/$B18*100,5) -> 4.70811 | Z76: =ROUND(Z18/$B18*100,5) -> 6.90874 | AA76: – | AB76: 2019
... A82: 2025 | B82: 100 | C82: =ROUND(C24/$B24*100,5) -> 3.36755 | D82: =ROUND(D24/$B24*100,5) -> 5.09905 | E82: =ROUND(E24/$B24*100,5) -> 0.05673 | F82: =ROUND(F24/$B24*100,5) -> 4.85233 | G82: – | H82: =ROUND(H24/$B24*100,5) -> 0.18999 | I82: =ROUND(I24/$B24*100,5) -> 18.49451 | J82: =ROUND(J24/$B24*100,5) -> 18.89069 | K82: =ROUND(K24/$B24*100,5) -> 10.37277 | L82: =ROUND(L24/$B24*100,5) -> 3.19467 | M82: =ROUND(M24/$B24*100,5) -> 5.32325 | N82: =ROUND(N24/$B24*100,5) -> 2.89393 | O82: =ROUND(O24/$B24*100,5) -> 3.15325 | ... T82: =ROUND(T24/$B24*100,5) -> 17.30146 | U82: – | V82: =ROUND(V24/$B24*100,5) -> 3.87268 | W82: =ROUND(W24/$B24*100,5) -> 13.42878 | X82: =ROUND(X24/$B24*100,5) -> 10.51144 | Y82: =ROUND(Y24/$B24*100,5) -> 2.46894 | Z82: =ROUND(Z24/$B24*100,5) -> 8.0425 | AA82: – | AB82: 2025
A83: _____
A84: Die Daten für die Jahre 2009 bis 2022 werden hier teilweise nicht dargestellt. In der Excel-Version dieser Veröffentlichung sind die Angaben vorhanden.

Sheet T8
A1: 8 Erwerbstätige am Arbeitsort in Deutschland 1991 bis 2025 nach Bundesländern | L1: 8 Erwerbstätige am Arbeitsort in Deutschland 1991 bis 2025 nach Bundesländern
A3: Jahr | B3: Baden- Württemberg | C3: Bayern | D3: Berlin | E3: Branden- burg | F3: Bremen | G3: Hamburg | H3: Hessen | I3: Mecklenburg- Vorpommern | J3: Nieder- sachsen | K3: Nordrhein- Westfalen | L3: Rheinland- Pfalz | M3: Saarland | N3: Sachsen | O3: Sachsen- Anhalt | P3: Schleswig- Holstein | Q3: Thüringen | R3: Deutschland | S3: West- deutschland ohne Berlin | T3: Ost- deutschland ohne Berlin | U3: Jahr
B5: Jahresdurchschnitt in 1 000 Personen | L5: Jahresdurchschnitt in 1 000 Personen
A6: 1991 | B6: 5175.085 | C6: 6060.004 | D6: 1706.011 | E6: 1191.026 | F6: 397.861 | G6: 1022.935 | H6: 2958.474 | I6: 836.072 | J6: 3300.7 | K6: 8072.812 | L6: 1684.181 | M6: 484.092 | N6: 2257.066 | O6: 1277.852 | P6: 1221.245 | Q6: 1227.584 | R6: 38873 | S6: 30377.389 | T6: 6789.6 | U6: 1991
A7: 1992 | B7: 5231.166 | C7: 6139.349 | D7: 1678.636 | E7: 1063.011 | F7: 402.742 | G7: 1038.755 | H7: 2998.785 | I7: 752.595 | J7: 3348.89 | K7: 8146.252 | L7: 1695.029 | M7: 485.862 | N7: 1968.599 | O7: 1133.85 | P7: 1231.887 | Q7: 1046.592 | R7: 38362 | S7: 30718.717 | T7: 5964.647 | U7: 1992
A8: 1993 | B8: 5149.913 | C8: 6088.093 | D8: 1670.749 | E8: 1031.561 | F8: 397.755 | G8: 1033.131 | H8: 2971.104 | I8: 738.494 | J8: 3331.16 | K8: 8037.701 | L8: 1676.154 | M8: 478.287 | N8: 1908.45 | O8: 1106.892 | P8: 1221.483 | Q8: 1024.073 | R8: 37865 | S8: 30384.781 | T8: 5809.47 | U8: 1993
A9: 1994 | B9: 5104.818 | C9: 6087.665 | D9: 1659.917 | E9: 1063.426 | F9: 393.55 | G9: 1031.371 | H9: 2956.313 | I9: 761.742 | J9: 3341.686 | K9: 7960.689 | L9: 1676.367 | M9: 477.043 | N9: 1963.919 | O9: 1130.241 | P9: 1220.326 | Q9: 1051.927 | R9: 37881 | S9: 30249.828 | T9: 5971.255 | U9: 1994
A10: 1995 | B10: 5116.991 | C10: 6092.464 | D10: 1661.563 | E10: 1088.752 | F10: 384.94 | G10: 1020.427 | H10: 2952.42 | I10: 784.327 | J10: 3377.862 | K10: 7935.033 | L10: 1687.34 | M10: 480.345 | N10: 2020.482 | O10: 1149.048 | P10: 1228.136 | Q10: 1065.87 | R10: 38046 | S10: 30275.958 | T10: 6108.479 | U10: 1995
A11: 1996 | B11: 5153.046 | C11: 6082.106 | D11: 1635.679 | E11: 1087.474 | F11: 379.625 | G11: 1013.834 | H11: 2966.244 | I11: 776.635 | J11: 3379.114 | K11: 7972.652 | L11: 1695.978 | M11: 482.343 | N11: 2020.819 | O11: 1129.613 | P11: 1233.666 | Q11: 1053.172 | R11: 38062 | S11: 30358.608 | T11: 6067.713 | U11: 1996
A12: 1997 | B12: 5181.135 | C12: 6089.55 | D12: 1601.287 | E12: 1087.551 | F12: 381.225 | G12: 1007.561 | H12: 2962.225 | I12: 763.798 | J12: 3385.582 | K12: 8027.732 | L12: 1698.9 | M12: 482.332 | N12: 1994.09 | O12: 1107.51 | P12: 1231.771 | Q12: 1042.751 | R12: 38045 | S12: 30448.013 | T12: 5995.7 | U12: 1997
A13: 1998 | B13: 5252.958 | C13: 6212.85 | D13: 1589.157 | E13: 1082.924 | F13: 379.276 | G13: 1018.299 | H13: 2991.351 | I13: 760.511 | J13: 3411.54 | K13: 8185.592 | L13: 1725.096 | M13: 490.944 | N13: 1993.355 | O13: 1104.475 | P13: 1235.781 | Q13: 1065.891 | R13: 38500 | S13: 30903.687 | T13: 6007.156 | U13: 1998
A14: 1999 | B14: 5339.713 | C14: 6323.808 | D14: 1587.865 | E14: 1088.171 | F14: 383.027 | G14: 1032.105 | H14: 3040.365 | I14: 767.422 | J14: 3485.445 | K14: 8367.017 | L14: 1760.321 | M14: 503.932 | N14: 2005.889 | O14: 1093.87 | P14: 1258.827 | Q14: 1087.223 | R14: 39125 | S14: 31494.56 | T14: 6042.575 | U14: 1999
A15: 2000 | B15: 5503.594 | C15: 6460.191 | D15: 1619.139 | E15: 1089.825 | F15: 394.52 | G15: 1052.615 | H15: 3120.488 | I15: 767.268 | J15: 3585.134 | K15: 8618.513 | L15: 1808.783 | M15: 517.72 | N15: 2001.208 | O15: 1071.714 | P15: 1285.417 | Q15: 1079.871 | R15: 39976 | S15: 32346.975 | T15: 6009.886 | U15: 2000
A16: 2001 | B16: 5547.697 | C16: 6495.954 | D16: 1599.907 | E16: 1063.946 | F16: 396.025 | G16: 1060.206 | H16: 3130.204 | I16: 749.612 | J16: 3571.23 | K16: 8580.411 | L16: 1810.747 | M16: 515.173 | N16: 1955.215 | O16: 1043.142 | P16: 1288.067 | Q16: 1057.464 | R16: 39865 | S16: 32395.714 | T16: 5869.379 | U16: 2001
A17: 2002 | B17: 5547.119 | C17: 6477.119 | D17: 1573.395 | E17: 1043.036 | F17: 395.364 | G17: 1052.989 | H17: 3119.049 | I17: 740.225 | J17: 3575.179 | K17: 8544.553 | L17: 1819.655 | M17: 513.473 | N17: 1933.167 | O17: 1025.066 | P17: 1279.059 | Q17: 1035.552 | R17: 39674 | S17: 32323.559 | T17: 5777.046 | U17: 2002
... A40: 2025 | B40: 6395.019 | C40: 7840.979 | D40: 2196.533 | E40: 1144.106 | F40: 445.519 | G40: 1370.166 | H40: 3611.255 | I40: 751.823 | J40: 4230.822 | K40: 9817.726 | L40: 2053.475 | M40: 515.569 | N40: 2047.404 | O40: 983.354 | P40: 1469.511 | Q40: 1004.739 | R40: 45878 | S40: 37750.041 | T40: 5931.426 | U40: 2025
B42: Veränderung gegenüber dem Vorjahr in % | L42: Veränderung gegenüber dem Vorjahr in %
A43: 1992 | B43: =ROUND(B7/B6*100-100,5) -> 1.08367 | C43: =ROUND(C7/C6*100-100,5) -> 1.30932 | D43: =ROUND(D7/D6*100-100,5) -> -1.60462 | E43: =ROUND(E7/E6*100-100,5) -> -10.7483 | F43: =ROUND(F7/F6*100-100,5) -> 1.22681 | G43: =ROUND(G7/G6*100-100,5) -> 1.54653 | H43: =ROUND(H7/H6*100-100,5) -> 1.36256 | I43: =ROUND(I7/I6*100-100,5) -> -9.98443 | ... T43: =ROUND(T7/T6*100-100,5) -> -12.15024 | U43: 1992
A44: 1993 | B44: =ROUND(B8/B7*100-100,5) -> -1.55325 | C44: =ROUND(C8/C7*100-100,5) -> -0.83488 | D44: =ROUND(D8/D7*100-100,5) -> -0.46985 | E44: =ROUND(E8/E7*100-100,5) -> -2.95858 | F44: =ROUND(F8/F7*100-100,5) -> -1.23826 | G44: =ROUND(G8/G7*100-100,5) -> -0.54142 | H44: =ROUND(H8/H7*100-100,5) -> -0.92307 | I44: =ROUND(I8/I7*100-100,5) -> -1.87365 | ... T44: =ROUND(T8/T7*100-100,5) -> -2.60161 | U44: 1993
A45: 1994 | B45: =ROUND(B9/B8*100-100,5) -> -0.87565 | C45: =ROUND(C9/C8*100-100,5) -> -0.00703 | D45: =ROUND(D9/D8*100-100,5) -> -0.64833 | E45: =ROUND(E9/E8*100-100,5) -> 3.08901 | F45: =ROUND(F9/F8*100-100,5) -> -1.05718 | G45: =ROUND(G9/G8*100-100,5) -> -0.17036 | H45: =ROUND(H9/H8*100-100,5) -> -0.49783 | I45: =ROUND(I9/I8*100-100,5) -> 3.14803 | ... T45: =ROUND(T9/T8*100-100,5) -> 2.78485 | U45: 1994
A46: 1995 | B46: =ROUND(B10/B9*100-100,5) -> 0.23846 | C46: =ROUND(C10/C9*100-100,5) -> 0.07883 | D46: =ROUND(D10/D9*100-100,5) -> 0.09916 | E46: =ROUND(E10/E9*100-100,5) -> 2.38155 | F46: =ROUND(F10/F9*100-100,5) -> -2.18778 | G46: =ROUND(G10/G9*100-100,5) -> -1.06111 | H46: =ROUND(H10/H9*100-100,5) -> -0.13168 | I46: =ROUND(I10/I9*100-100,5) -> 2.96491 | ... T46: =ROUND(T10/T9*100-100,5) -> 2.29808 | U46: 1995
A47: 1996 | B47: =ROUND(B11/B10*100-100,5) -> 0.70461 | C47: =ROUND(C11/C10*100-100,5) -> -0.17001 | D47: =ROUND(D11/D10*100-100,5) -> -1.55781 | E47: =ROUND(E11/E10*100-100,5) -> -0.11738 | F47: =ROUND(F11/F10*100-100,5) -> -1.38073 | G47: =ROUND(G11/G10*100-100,5) -> -0.6461 | H47: =ROUND(H11/H10*100-100,5) -> 0.46823 | I47: =ROUND(I11/I10*100-100,5) -> -0.98071 | ... T47: =ROUND(T11/T10*100-100,5) -> -0.66737 | U47: 1996
A48: 1997 | B48: =ROUND(B12/B11*100-100,5) -> 0.5451 | C48: =ROUND(C12/C11*100-100,5) -> 0.12239 | D48: =ROUND(D12/D11*100-100,5) -> -2.10261 | E48: =ROUND(E12/E11*100-100,5) -> 0.00708 | F48: =ROUND(F12/F11*100-100,5) -> 0.42147 | G48: =ROUND(G12/G11*100-100,5) -> -0.61874 | H48: =ROUND(H12/H11*100-100,5) -> -0.13549 | I48: =ROUND(I12/I11*100-100,5) -> -1.6529 | ... T48: =ROUND(T12/T11*100-100,5) -> -1.18682 | U48: 1997
A49: 1998 | B49: =ROUND(B13/B12*100-100,5) -> 1.38624 | C49: =ROUND(C13/C12*100-100,5) -> 2.02478 | D49: =ROUND(D13/D12*100-100,5) -> -0.75752 | E49: =ROUND(E13/E12*100-100,5) -> -0.42545 | F49: =ROUND(F13/F12*100-100,5) -> -0.51125 | G49: =ROUND(G13/G12*100-100,5) -> 1.06574 | H49: =ROUND(H13/H12*100-100,5) -> 0.98325 | I49: =ROUND(I13/I12*100-100,5) -> -0.43035 | ... T49: =ROUND(T13/T12*100-100,5) -> 0.19107 | U49: 1998
A50: 1999 | B50: =ROUND(B14/B13*100-100,5) -> 1.65155 | C50: =ROUND(C14/C13*100-100,5) -> 1.78594 | D50: =ROUND(D14/D13*100-100,5) -> -0.0813 | E50: =ROUND(E14/E13*100-100,5) -> 0.48452 | F50: =ROUND(F14/F13*100-100,5) -> 0.98899 | G50: =ROUND(G14/G13*100-100,5) -> 1.35579 | H50: =ROUND(H14/H13*100-100,5) -> 1.63852 | I50: =ROUND(I14/I13*100-100,5) -> 0.90873 | ... T50: =ROUND(T14/T13*100-100,5) -> 0.58961 | U50: 1999
A51: 2000 | B51: =ROUND(B15/B14*100-100,5) -> 3.0691 | C51: =ROUND(C15/C14*100-100,5) -> 2.15666 | D51: =ROUND(D15/D14*100-100,5) -> 1.96956 | E51: =ROUND(E15/E14*100-100,5) -> 0.152 | F51: =ROUND(F15/F14*100-100,5) -> 3.00057 | G51: =ROUND(G15/G14*100-100,5) -> 1.9872 | H51: =ROUND(H15/H14*100-100,5) -> 2.63531 | I51: =ROUND(I15/I14*100-100,5) -> -0.02007 | ... T51: =ROUND(T15/T14*100-100,5) -> -0.54098 | U51: 2000
A52: 2001 | B52: =ROUND(B16/B15*100-100,5) -> 0.80135 | C52: =ROUND(C16/C15*100-100,5) -> 0.55359 | D52: =ROUND(D16/D15*100-100,5) -> -1.18779 | E52: =ROUND(E16/E15*100-100,5) -> -2.3746 | F52: =ROUND(F16/F15*100-100,5) -> 0.38148 | G52: =ROUND(G16/G15*100-100,5) -> 0.72116 | H52: =ROUND(H16/H15*100-100,5) -> 0.31136 | I52: =ROUND(I16/I15*100-100,5) -> -2.30115 | ... T52: =ROUND(T16/T15*100-100,5) -> -2.33793 | U52: 2001
A53: 2002 | B53: =ROUND(B17/B16*100-100,5) -> -0.01042 | C53: =ROUND(C17/C16*100-100,5) -> -0.28995 | D53: =ROUND(D17/D16*100-100,5) -> -1.6571 | E53: =ROUND(E17/E16*100-100,5) -> -1.96533 | F53: =ROUND(F17/F16*100-100,5) -> -0.16691 | G53: =ROUND(G17/G16*100-100,5) -> -0.68072 | H53: =ROUND(H17/H16*100-100,5) -> -0.35637 | I53: =ROUND(I17/I16*100-100,5) -> -1.25225 | ... T53: =ROUND(T17/T16*100-100,5) -> -1.57313 | U53: 2002
A54: 2003 | B54: =ROUND(B18/B17*100-100,5) -> -0.98172 | C54: =ROUND(C18/C17*100-100,5) -> -1.21599 | D54: =ROUND(D18/D17*100-100,5) -> -1.42863 | E54: =ROUND(E18/E17*100-100,5) -> -1.54894 | F54: =ROUND(F18/F17*100-100,5) -> -0.7029 | G54: =ROUND(G18/G17*100-100,5) -> -1.07893 | H54: =ROUND(H18/H17*100-100,5) -> -1.35955 | I54: =ROUND(I18/I17*100-100,5) -> -1.81458 | ... T54: =ROUND(T18/T17*100-100,5) -> -1.32118 | U54: 2003
... A76: 2025 | B76: =ROUND(B40/B39*100-100,5) -> -0.21126 | C76: =ROUND(C40/C39*100-100,5) -> -0.20951 | D76: =ROUND(D40/D39*100-100,5) -> -0.1506 | E76: =ROUND(E40/E39*100-100,5) -> -0.23248 | F76: =ROUND(F40/F39*100-100,5) -> 0.12158 | G76: =ROUND(G40/G39*100-100,5) -> 0.72195 | H76: =ROUND(H40/H39*100-100,5) -> 0.0254 | I76: =ROUND(I40/I39*100-100,5) -> -0.17725 | ... T76: =ROUND(T40/T39*100-100,5) -> -0.60704 | U76: 2025
B78: Anteil an Deutschland in % | L78: Anteil an Deutschland in %
A79: 1991 | B79: =ROUND(B6/$R6*100,5) -> 13.3128 | C79: =ROUND(C6/$R6*100,5) -> 15.58924 | D79: =ROUND(D6/$R6*100,5) -> 4.38868 | E79: =ROUND(E6/$R6*100,5) -> 3.06389 | F79: =ROUND(F6/$R6*100,5) -> 1.02349 | G79: =ROUND(G6/$R6*100,5) -> 2.63148 | H79: =ROUND(H6/$R6*100,5) -> 7.61061 | I79: =ROUND(I6/$R6*100,5) -> 2.15078 | ... Q79: =ROUND(Q6/$R6*100,5) -> 3.15793 | R79: 100 | S79: =ROUND(S6/$R6*100,5) -> 78.14521 | T79: =ROUND(T6/$R6*100,5) -> 17.46611 | U79: 1991
A80: 1992 | B80: =ROUND(B7/$R7*100,5) -> 13.63632 | C80: =ROUND(C7/$R7*100,5) -> 16.00373 | D80: =ROUND(D7/$R7*100,5) -> 4.37578 | E80: =ROUND(E7/$R7*100,5) -> 2.771 | F80: =ROUND(F7/$R7*100,5) -> 1.04985 | G80: =ROUND(G7/$R7*100,5) -> 2.70777 | H80: =ROUND(H7/$R7*100,5) -> 7.81707 | I80: =ROUND(I7/$R7*100,5) -> 1.96182 | ... Q80: =ROUND(Q7/$R7*100,5) -> 2.7282 | R80: 100 | S80: =ROUND(S7/$R7*100,5) -> 80.0759 | T80: =ROUND(T7/$R7*100,5) -> 15.54832 | U80: 1992
A81: 1993 | B81: =ROUND(B8/$R8*100,5) -> 13.60072 | C81: =ROUND(C8/$R8*100,5) -> 16.07842 | D81: =ROUND(D8/$R8*100,5) -> 4.41238 | E81: =ROUND(E8/$R8*100,5) -> 2.72431 | F81: =ROUND(F8/$R8*100,5) -> 1.05046 | G81: =ROUND(G8/$R8*100,5) -> 2.72846 | H81: =ROUND(H8/$R8*100,5) -> 7.84657 | I81: =ROUND(I8/$R8*100,5) -> 1.95033 | ... Q81: =ROUND(Q8/$R8*100,5) -> 2.70454 | R81: 100 | S81: =ROUND(S8/$R8*100,5) -> 80.24503 | T81: =ROUND(T8/$R8*100,5) -> 15.34259 | U81: 1993
A82: 1994 | B82: =ROUND(B9/$R9*100,5) -> 13.47593 | C82: =ROUND(C9/$R9*100,5) -> 16.0705 | D82: =ROUND(D9/$R9*100,5) -> 4.38192 | E82: =ROUND(E9/$R9*100,5) -> 2.80728 | F82: =ROUND(F9/$R9*100,5) -> 1.03891 | G82: =ROUND(G9/$R9*100,5) -> 2.72266 | H82: =ROUND(H9/$R9*100,5) -> 7.80421 | I82: =ROUND(I9/$R9*100,5) -> 2.01088 | ... Q82: =ROUND(Q9/$R9*100,5) -> 2.77693 | R82: 100 | S82: =ROUND(S9/$R9*100,5) -> 79.85488 | T82: =ROUND(T9/$R9*100,5) -> 15.76319 | U82: 1994
A83: 1995 | B83: =ROUND(B10/$R10*100,5) -> 13.44948 | C83: =ROUND(C10/$R10*100,5) -> 16.01342 | D83: =ROUND(D10/$R10*100,5) -> 4.36725 | E83: =ROUND(E10/$R10*100,5) -> 2.86167 | F83: =ROUND(F10/$R10*100,5) -> 1.01178 | G83: =ROUND(G10/$R10*100,5) -> 2.68209 | H83: =ROUND(H10/$R10*100,5) -> 7.76013 | I83: =ROUND(I10/$R10*100,5) -> 2.06152 | ... Q83: =ROUND(Q10/$R10*100,5) -> 2.80153 | R83: 100 | S83: =ROUND(S10/$R10*100,5) -> 79.57724 | T83: =ROUND(T10/$R10*100,5) -> 16.05551 | U83: 1995
A84: 1996 | B84: =ROUND(B11/$R11*100,5) -> 13.53856 | C84: =ROUND(C11/$R11*100,5) -> 15.97947 | D84: =ROUND(D11/$R11*100,5) -> 4.29741 | E84: =ROUND(E11/$R11*100,5) -> 2.85711 | F84: =ROUND(F11/$R11*100,5) -> 0.99739 | G84: =ROUND(G11/$R11*100,5) -> 2.66364 | H84: =ROUND(H11/$R11*100,5) -> 7.79319 | I84: =ROUND(I11/$R11*100,5) -> 2.04045 | ... Q84: =ROUND(Q11/$R11*100,5) -> 2.76699 | R84: 100 | S84: =ROUND(S11/$R11*100,5) -> 79.76094 | T84: =ROUND(T11/$R11*100,5) -> 15.94166 | U84: 1996
A85: 1997 | B85: =ROUND(B12/$R12*100,5) -> 13.61844 | C85: =ROUND(C12/$R12*100,5) -> 16.00618 | D85: =ROUND(D12/$R12*100,5) -> 4.20893 | E85: =ROUND(E12/$R12*100,5) -> 2.85859 | F85: =ROUND(F12/$R12*100,5) -> 1.00204 | G85: =ROUND(G12/$R12*100,5) -> 2.64834 | H85: =ROUND(H12/$R12*100,5) -> 7.78611 | I85: =ROUND(I12/$R12*100,5) -> 2.00762 | ... Q85: =ROUND(Q12/$R12*100,5) -> 2.74084 | R85: 100 | S85: =ROUND(S12/$R12*100,5) -> 80.03158 | T85: =ROUND(T12/$R12*100,5) -> 15.7595 | U85: 1997
A86: 1998 | B86: =ROUND(B13/$R13*100,5) -> 13.64405 | C86: =ROUND(C13/$R13*100,5) -> 16.13727 | D86: =ROUND(D13/$R13*100,5) -> 4.12768 | E86: =ROUND(E13/$R13*100,5) -> 2.81279 | F86: =ROUND(F13/$R13*100,5) -> 0.98513 | G86: =ROUND(G13/$R13*100,5) -> 2.64493 | H86: =ROUND(H13/$R13*100,5) -> 7.76974 | I86: =ROUND(I13/$R13*100,5) -> 1.97535 | ... Q86: =ROUND(Q13/$R13*100,5) -> 2.76855 | R86: 100 | S86: =ROUND(S13/$R13*100,5) -> 80.26932 | T86: =ROUND(T13/$R13*100,5) -> 15.603 | U86: 1998
A87: 1999 | B87: =ROUND(B14/$R14*100,5) -> 13.64783 | C87: =ROUND(C14/$R14*100,5) -> 16.16309 | D87: =ROUND(D14/$R14*100,5) -> 4.05844 | E87: =ROUND(E14/$R14*100,5) -> 2.78127 | F87: =ROUND(F14/$R14*100,5) -> 0.97898 | G87: =ROUND(G14/$R14*100,5) -> 2.63797 | H87: =ROUND(H14/$R14*100,5) -> 7.7709 | I87: =ROUND(I14/$R14*100,5) -> 1.96146 | ... Q87: =ROUND(Q14/$R14*100,5) -> 2.77884 | R87: 100 | S87: =ROUND(S14/$R14*100,5) -> 80.49728 | T87: =ROUND(T14/$R14*100,5) -> 15.44428 | U87: 1999
A88: 2000 | B88: =ROUND(B15/$R15*100,5) -> 13.76725 | C88: =ROUND(C15/$R15*100,5) -> 16.16017 | D88: =ROUND(D15/$R15*100,5) -> 4.05028 | E88: =ROUND(E15/$R15*100,5) -> 2.7262 | F88: =ROUND(F15/$R15*100,5) -> 0.98689 | G88: =ROUND(G15/$R15*100,5) -> 2.63312 | H88: =ROUND(H15/$R15*100,5) -> 7.8059 | I88: =ROUND(I15/$R15*100,5) -> 1.91932 | ... Q88: =ROUND(Q15/$R15*100,5) -> 2.7013 | R88: 100 | S88: =ROUND(S15/$R15*100,5) -> 80.91599 | T88: =ROUND(T15/$R15*100,5) -> 15.03374 | U88: 2000
A89: 2001 | B89: =ROUND(B16/$R16*100,5) -> 13.91621 | C89: =ROUND(C16/$R16*100,5) -> 16.29488 | D89: =ROUND(D16/$R16*100,5) -> 4.01331 | E89: =ROUND(E16/$R16*100,5) -> 2.66887 | F89: =ROUND(F16/$R16*100,5) -> 0.99342 | G89: =ROUND(G16/$R16*100,5) -> 2.65949 | H89: =ROUND(H16/$R16*100,5) -> 7.85201 | I89: =ROUND(I16/$R16*100,5) -> 1.88038 | ... Q89: =ROUND(Q16/$R16*100,5) -> 2.65261 | R89: 100 | S89: =ROUND(S16/$R16*100,5) -> 81.26355 | T89: =ROUND(T16/$R16*100,5) -> 14.72314 | U89: 2001
A90: 2002 | B90: =ROUND(B17/$R17*100,5) -> 13.98175 | C90: =ROUND(C17/$R17*100,5) -> 16.32585 | D90: =ROUND(D17/$R17*100,5) -> 3.96581 | E90: =ROUND(E17/$R17*100,5) -> 2.62902 | F90: =ROUND(F17/$R17*100,5) -> 0.99653 | G90: =ROUND(G17/$R17*100,5) -> 2.6541 | H90: =ROUND(H17/$R17*100,5) -> 7.8617 | I90: =ROUND(I17/$R17*100,5) -> 1.86577 | ... Q90: =ROUND(Q17/$R17*100,5) -> 2.61015 | R90: 100 | S90: =ROUND(S17/$R17*100,5) -> 81.4729 | T90: =ROUND(T17/$R17*100,5) -> 14.56129 | U90: 2002
... A113: 2025 | B113: =ROUND(B40/$R40*100,5) -> 13.93918 | C113: =ROUND(C40/$R40*100,5) -> 17.09093 | D113: =ROUND(D40/$R40*100,5) -> 4.78777 | E113: =ROUND(E40/$R40*100,5) -> 2.4938 | F113: =ROUND(F40/$R40*100,5) -> 0.9711 | G113: =ROUND(G40/$R40*100,5) -> 2.98654 | H113: =ROUND(H40/$R40*100,5) -> 7.87143 | I113: =ROUND(I40/$R40*100,5) -> 1.63874 | ... Q113: =ROUND(Q40/$R40*100,5) -> 2.19002 | R113: 100 | S113: =ROUND(S40/$R40*100,5) -> 82.28354 | T113: =ROUND(T40/$R40*100,5) -> 12.92869 | U113: 2025
A114: _____
A115: Die Daten für die Jahre 1991 bis 2016 werden hier teilweise nicht dargestellt. In der Excel-Version dieser Veröffentlichung sind die Angaben vorhanden.

Sheet T9
A1: 9 Arbeitnehmer am Arbeitsort in Deutschland 1991 bis 2025 nach Bundesländern | L1: 9 Arbeitnehmer am Arbeitsort in Deutschland 1991 bis 2025 nach Bundesländern
A3: Jahr | B3: Baden- Württemberg | C3: Bayern | D3: Berlin | E3: Branden- burg | F3: Bremen | G3: Hamburg | H3: Hessen | I3: Mecklenburg- Vorpommern | J3: Nieder- sachsen | K3: Nordrhein- Westfalen | L3: Rheinland- Pfalz | M3: Saarland | N3: Sachsen | O3: Sachsen- Anhalt | P3: Schleswig- Holstein | Q3: Thüringen | R3: Deutschland | S3: West- deutschland ohne Berlin | T3: Ost- deutschland ohne Berlin | U3: Jahr
B5: Jahresdurchschnitt in 1 000 Personen | L5: Jahresdurchschnitt in 1 000 Personen
A6: 1991 | B6: 4667.414 | C6: 5274.9 | D6: 1581.072 | E6: 1131.908 | F6: 374.894 | G6: 943.72 | H6: 2681.224 | I6: 800.201 | J6: 2949.412 | K6: 7385.076 | L6: 1484.699 | M6: 442.638 | N6: 2136.041 | O6: 1215.263 | P6: 1083.028 | Q6: 1158.51 | R6: 35310 | S6: 27287.005 | T6: 6441.923 | U6: 1991
A7: 1992 | B7: 4721.195 | C7: 5359.071 | D7: 1546.333 | E7: 992.334 | F7: 378.308 | G7: 955.875 | H7: 2717.511 | I7: 708.879 | J7: 3001.035 | K7: 7456.152 | L7: 1497.607 | M7: 446.177 | N7: 1837.274 | O7: 1065.861 | P7: 1097.009 | Q7: 973.379 | R7: 34754 | S7: 27629.94 | T7: 5577.727 | U7: 1992
A8: 1993 | B8: 4633.154 | C8: 5310.93 | D8: 1530.422 | E8: 956.325 | F8: 371.542 | G8: 946.399 | H8: 2687.107 | I8: 689.102 | J8: 2982.863 | K8: 7338.451 | L8: 1484.196 | M8: 439.254 | N8: 1763.376 | O8: 1033.427 | P8: 1086.958 | Q8: 943.494 | R8: 34197 | S8: 27280.854 | T8: 5385.724 | U8: 1993
A9: 1994 | B9: 4580.952 | C9: 5307.954 | D9: 1508.495 | E9: 982.344 | F9: 366.29 | G9: 943.019 | H9: 2669.651 | I9: 706.762 | J9: 2990.074 | K9: 7250.83 | L9: 1485.377 | M9: 436.631 | N9: 1809.597 | O9: 1050.506 | P9: 1082.819 | Q9: 963.699 | R9: 34135 | S9: 27113.597 | T9: 5512.908 | U9: 1994
A10: 1995 | B10: 4584.53 | C10: 5304.846 | D10: 1503.327 | E10: 1005.244 | F10: 357.796 | G10: 931.754 | H10: 2658.784 | I10: 727.351 | J10: 3022.711 | K10: 7226.344 | L10: 1495.989 | M10: 438.671 | N10: 1862.435 | O10: 1066.094 | P10: 1088.647 | Q10: 974.477 | R10: 34249 | S10: 27110.072 | T10: 5635.601 | U10: 1995
A11: 1996 | B11: 4609.351 | C11: 5285.751 | D11: 1471.358 | E11: 1001.266 | F11: 352.824 | G11: 924.312 | H11: 2662.566 | I11: 718.498 | J11: 3018.911 | K11: 7253.26 | L11: 1506.17 | M11: 438.975 | N11: 1861.731 | O11: 1045.642 | P11: 1092.518 | Q11: 962.867 | R11: 34206 | S11: 27144.638 | T11: 5590.004 | U11: 1996
A12: 1997 | B12: 4628.196 | C12: 5289.409 | D12: 1433.746 | E12: 996.853 | F12: 354.754 | G12: 915.075 | H12: 2649.478 | I12: 705.78 | J12: 3023.953 | K12: 7293.83 | L12: 1510.036 | M12: 437.506 | N12: 1828.544 | O12: 1021.729 | P12: 1089.373 | Q12: 951.738 | R12: 34130 | S12: 27191.61 | T12: 5504.644 | U12: 1997
A13: 1998 | B13: 4702.652 | C13: 5404.854 | D13: 1421.879 | E13: 987.501 | F13: 353.236 | G13: 921.035 | H13: 2673.986 | I13: 702.575 | J13: 3052.494 | K13: 7433.487 | L13: 1533.712 | M13: 446.602 | N13: 1820.371 | O13: 1017.634 | P13: 1093.737 | Q13: 971.245 | R13: 34537 | S13: 27615.795 | T13: 5499.326 | U13: 1998
A14: 1999 | B14: 4793.545 | C14: 5513.071 | D14: 1422.175 | E14: 985.727 | F14: 355.516 | G14: 932.41 | H14: 2724.673 | I14: 707.877 | J14: 3127.061 | K14: 7608.118 | L14: 1567.45 | M14: 460.104 | N14: 1824.423 | O14: 1006.845 | P14: 1115.509 | Q14: 989.496 | R14: 35134 | S14: 28197.457 | T14: 5514.368 | U14: 1999
A15: 2000 | B15: 4953.671 | C15: 5660.907 | D15: 1448.52 | E15: 980.845 | F15: 366.152 | G15: 951.95 | H15: 2806.044 | I15: 706.246 | J15: 3228.097 | K15: 7854.663 | L15: 1613.973 | M15: 475.077 | N15: 1812.704 | O15: 985.391 | P15: 1139.851 | Q15: 978.909 | R15: 35963 | S15: 29050.385 | T15: 5464.095 | U15: 2000
A16: 2001 | B16: 4992.351 | C16: 5708.574 | D16: 1427.44 | E16: 951.795 | F16: 366.504 | G16: 957.729 | H16: 2814.014 | I16: 685.431 | J16: 3213.254 | K16: 7813.774 | L16: 1614.165 | M16: 474.572 | N16: 1767.544 | O16: 955.458 | P16: 1139.988 | Q16: 954.407 | R16: 35837 | S16: 29094.925 | T16: 5314.635 | U16: 2001
A17: 2002 | B17: 4988.634 | C17: 5694.048 | D17: 1398.588 | E17: 930.711 | F17: 364.596 | G17: 948.842 | H17: 2801.377 | I17: 672.445 | J17: 3211.759 | K17: 7770.489 | L17: 1620.415 | M17: 472.397 | N17: 1741.131 | O17: 934.392 | P17: 1130.181 | Q17: 931.995 | R17: 35612 | S17: 29002.738 | T17: 5210.674 | U17: 2002
... A40: 2025 | B40: 5907.741 | C40: 7194.638 | D40: 1995.596 | E40: 1033.046 | F40: 419.921 | G40: 1266.361 | H40: 3334.032 | I40: 690.6 | J40: 3898.364 | K40: 9072.659 | L40: 1875.595 | M40: 480.056 | N40: 1879.469 | O40: 911.49 | P40: 1332.262 | Q40: 922.17 | R40: 42214 | S40: 34781.629 | T40: 5436.775 | U40: 2025
B42: Veränderung gegenüber dem Vorjahr in % | L42: Veränderung gegenüber dem Vorjahr in %
A43: 1992 | B43: =ROUND(B7/B6*100-100,5) -> 1.15227 | C43: =ROUND(C7/C6*100-100,5) -> 1.59569 | D43: =ROUND(D7/D6*100-100,5) -> -2.19718 | E43: =ROUND(E7/E6*100-100,5) -> -12.33086 | F43: =ROUND(F7/F6*100-100,5) -> 0.91066 | G43: =ROUND(G7/G6*100-100,5) -> 1.28799 | H43: =ROUND(H7/H6*100-100,5) -> 1.35337 | I43: =ROUND(I7/I6*100-100,5) -> -11.41238 | ... T43: =ROUND(T7/T6*100-100,5) -> -13.41519 | U43: 1992
A44: 1993 | B44: =ROUND(B8/B7*100-100,5) -> -1.8648 | C44: =ROUND(C8/C7*100-100,5) -> -0.89831 | D44: =ROUND(D8/D7*100-100,5) -> -1.02895 | E44: =ROUND(E8/E7*100-100,5) -> -3.62872 | F44: =ROUND(F8/F7*100-100,5) -> -1.78849 | G44: =ROUND(G8/G7*100-100,5) -> -0.99134 | H44: =ROUND(H8/H7*100-100,5) -> -1.11882 | I44: =ROUND(I8/I7*100-100,5) -> -2.7899 | ... T44: =ROUND(T8/T7*100-100,5) -> -3.44232 | U44: 1993
A45: 1994 | B45: =ROUND(B9/B8*100-100,5) -> -1.12671 | C45: =ROUND(C9/C8*100-100,5) -> -0.05604 | D45: =ROUND(D9/D8*100-100,5) -> -1.43274 | E45: =ROUND(E9/E8*100-100,5) -> 2.72073 | F45: =ROUND(F9/F8*100-100,5) -> -1.41357 | G45: =ROUND(G9/G8*100-100,5) -> -0.35714 | H45: =ROUND(H9/H8*100-100,5) -> -0.64962 | I45: =ROUND(I9/I8*100-100,5) -> 2.56276 | ... T45: =ROUND(T9/T8*100-100,5) -> 2.3615 | U45: 1994
A46: 1995 | B46: =ROUND(B10/B9*100-100,5) -> 0.07811 | C46: =ROUND(C10/C9*100-100,5) -> -0.05855 | D46: =ROUND(D10/D9*100-100,5) -> -0.34259 | E46: =ROUND(E10/E9*100-100,5) -> 2.33116 | F46: =ROUND(F10/F9*100-100,5) -> -2.31893 | G46: =ROUND(G10/G9*100-100,5) -> -1.19457 | H46: =ROUND(H10/H9*100-100,5) -> -0.40706 | I46: =ROUND(I10/I9*100-100,5) -> 2.91314 | ... T46: =ROUND(T10/T9*100-100,5) -> 2.22556 | U46: 1995
A47: 1996 | B47: =ROUND(B11/B10*100-100,5) -> 0.54141 | C47: =ROUND(C11/C10*100-100,5) -> -0.35995 | D47: =ROUND(D11/D10*100-100,5) -> -2.12655 | E47: =ROUND(E11/E10*100-100,5) -> -0.39572 | F47: =ROUND(F11/F10*100-100,5) -> -1.38962 | G47: =ROUND(G11/G10*100-100,5) -> -0.79871 | H47: =ROUND(H11/H10*100-100,5) -> 0.14225 | I47: =ROUND(I11/I10*100-100,5) -> -1.21716 | ... T47: =ROUND(T11/T10*100-100,5) -> -0.80909 | U47: 1996
A48: 1997 | B48: =ROUND(B12/B11*100-100,5) -> 0.40884 | C48: =ROUND(C12/C11*100-100,5) -> 0.0692 | D48: =ROUND(D12/D11*100-100,5) -> -2.55628 | E48: =ROUND(E12/E11*100-100,5) -> -0.44074 | F48: =ROUND(F12/F11*100-100,5) -> 0.54701 | G48: =ROUND(G12/G11*100-100,5) -> -0.99934 | H48: =ROUND(H12/H11*100-100,5) -> -0.49156 | I48: =ROUND(I12/I11*100-100,5) -> -1.77008 | ... T48: =ROUND(T12/T11*100-100,5) -> -1.52701 | U48: 1997
A49: 1998 | B49: =ROUND(B13/B12*100-100,5) -> 1.60875 | C49: =ROUND(C13/C12*100-100,5) -> 2.18257 | D49: =ROUND(D13/D12*100-100,5) -> -0.82769 | E49: =ROUND(E13/E12*100-100,5) -> -0.93815 | F49: =ROUND(F13/F12*100-100,5) -> -0.4279 | G49: =ROUND(G13/G12*100-100,5) -> 0.65131 | H49: =ROUND(H13/H12*100-100,5) -> 0.92501 | I49: =ROUND(I13/I12*100-100,5) -> -0.45411 | ... T49: =ROUND(T13/T12*100-100,5) -> -0.09661 | U49: 1998
A50: 1999 | B50: =ROUND(B14/B13*100-100,5) -> 1.9328 | C50: =ROUND(C14/C13*100-100,5) -> 2.00222 | D50: =ROUND(D14/D13*100-100,5) -> 0.02082 | E50: =ROUND(E14/E13*100-100,5) -> -0.17965 | F50: =ROUND(F14/F13*100-100,5) -> 0.64546 | G50: =ROUND(G14/G13*100-100,5) -> 1.23502 | H50: =ROUND(H14/H13*100-100,5) -> 1.89556 | I50: =ROUND(I14/I13*100-100,5) -> 0.75465 | ... T50: =ROUND(T14/T13*100-100,5) -> 0.27352 | U50: 1999
A51: 2000 | B51: =ROUND(B15/B14*100-100,5) -> 3.34045 | C51: =ROUND(C15/C14*100-100,5) -> 2.68155 | D51: =ROUND(D15/D14*100-100,5) -> 1.85244 | E51: =ROUND(E15/E14*100-100,5) -> -0.49527 | F51: =ROUND(F15/F14*100-100,5) -> 2.99171 | G51: =ROUND(G15/G14*100-100,5) -> 2.09564 | H51: =ROUND(H15/H14*100-100,5) -> 2.98645 | I51: =ROUND(I15/I14*100-100,5) -> -0.23041 | ... T51: =ROUND(T15/T14*100-100,5) -> -0.91167 | U51: 2000
A52: 2001 | B52: =ROUND(B16/B15*100-100,5) -> 0.78084 | C52: =ROUND(C16/C15*100-100,5) -> 0.84204 | D52: =ROUND(D16/D15*100-100,5) -> -1.45528 | E52: =ROUND(E16/E15*100-100,5) -> -2.96173 | F52: =ROUND(F16/F15*100-100,5) -> 0.09613 | G52: =ROUND(G16/G15*100-100,5) -> 0.60707 | H52: =ROUND(H16/H15*100-100,5) -> 0.28403 | I52: =ROUND(I16/I15*100-100,5) -> -2.94727 | ... T52: =ROUND(T16/T15*100-100,5) -> -2.73531 | U52: 2001
A53: 2002 | B53: =ROUND(B17/B16*100-100,5) -> -0.07445 | C53: =ROUND(C17/C16*100-100,5) -> -0.25446 | D53: =ROUND(D17/D16*100-100,5) -> -2.02124 | E53: =ROUND(E17/E16*100-100,5) -> -2.21518 | F53: =ROUND(F17/F16*100-100,5) -> -0.52059 | G53: =ROUND(G17/G16*100-100,5) -> -0.92792 | H53: =ROUND(H17/H16*100-100,5) -> -0.44907 | I53: =ROUND(I17/I16*100-100,5) -> -1.89457 | ... T53: =ROUND(T17/T16*100-100,5) -> -1.95613 | U53: 2002
