Workbook
Name Database: #REF!
Name Database: #REF!
Name Database: #REF!
Name Database: #REF!
Name Database: #REF!
Name Datenbank2: #REF!
Name Datenbank2: #REF!
Name Datenbank2: #REF!
Name Datenbank2: #REF!
Name Druckbereich1: #REF!
Name Druckbereich1: #REF!
Name Druckbereich1: #REF!
Name Druckbereich1: #REF!
Name Druckbereich1: #REF!
Name Druckbereich1.1: #REF!
Name Druckbereich1.1: #REF!
Name Druckbereich1.1: #REF!
Name Druckbereich1.1: #REF!
Name Druckbereich11: #REF!
Name Druckbereich11: #REF!
Name Druckbereich11: #REF!
Name Druckbereich11: #REF!
Name Druckbereich4: #REF!
Name Druckbereich4: #REF!
Name Druckbereich4: #REF!
Name Druckbereich4: #REF!

Sheet Titel
B2: Statistischer
B3: Bericht
C5: A VI 9 — hj 3/25
C7: Erwerbstätigenrechnung — Erwerbstätige im Land Brandenburg 1991 bis 2025
C9: Ergebnisse des Arbeitskreises „Erwerbstätigenrechnung der Länder" Berechnungsstand: August 2026
C11: Erwerbstätige Arbeitnehmer Marginal Beschäftigte Selbstständige und mithelfende Familienangehörige

Sheet Impressum
A21: Impressum | E21: Die beiliegenden Ergebnisse dürfen in dieser Form (jeweilige Darstellungseinheit mit mehreren hinterlegten Nachkommastellen) nur für eigene Berechnungen verwendet werden. Absolutzahlen dürfen nicht genauer als in der vom Arbeitskreis „Erwerbstätigenrechnung der Länder” freigegebenen Zahlengenauigkeit („Personen" in Tausend „Geleistete Arbeitsstunden" in Millionen — jeweils mit nur einer Nachkommastelle) an Dritte weitergeleitet oder veröffentlicht werden.
B23: Statistischer Bericht
B24: A VI 9 — hj 3/25
B26: Erscheinungsfolge: halbjährlich
B27: Erschienen im September 2026
B28: Berechnungsstand des
B29: Statistischen Bundesamtes: August 2026
A34: Herausgeber | D34: Zeichenerklärung
B36: Amt für Statistik Berlin-Brandenburg | D36: 0 | E36: weniger als die Hälfte von 1
B37: Steinstraße 104–106 | E37: in der letzten besetzten Stelle,
B38: 14480 Potsdam | E38: jedoch mehr als nichts
B39: info@statistik-bbb.de | D39: – | E39: nichts vorhanden
B40: www.statistik-berlin-brandenburg.de | D40: … | E40: Angabe fällt später an
D41: ( ) | E41: Aussagewert ist eingeschränkt
B42: Tel. 0331 8173-1777 | D42: / | E42: Zahlenwert nicht sicher genug
B43: Fax 0331 817330-4091 | D43: • | E43: Zahlenwert unbekannt oder
E44: geheim zu halten
D45: x | E45: Tabellenfach gesperrt
D46: p | E46: vorläufige Zahl
D47: r | E47: berichtigte Zahl
D48: s | E48: geschätzte Zahl
A51: © | B51: Amt für Statistik Berlin-Brandenburg,
B52: Potsdam, 2026
B53: Auszugsweise Vervielfältigung und Verbreitung mit Quellenangabe gestattet.

Sheet Inhaltsverzeichnis
A1: Inhaltsverzeichnis
C2: Seite
B4: Metadaten zu dieser Statistik
B5: (externer Link)
B6: Tabellen
A8: 1 | B8: Erwerbstätige am Arbeitsort im Land Brandenburg 1991 bis 2025 | C8: 5
A10: 2 | B10: Erwerbstätige am Arbeitsort im Land Brandenburg 1991 bis 2025
B11: nach ausgewählten Wirtschaftsbereichen | C11: 6
A13: 3 | B13: Arbeitnehmer am Arbeitsort im Land Brandenburg 1991 bis 2025
B14: nach ausgewählten Wirtschaftsbereichen | C14: 8
A16: 4 | B16: Selbstständige am Arbeitsort im Land Brandenburg 1991 bis 2025
B17: nach ausgewählten Wirtschaftsbereichen | C17: 10
A19: 5 | B19: Erwerbstätige am Arbeitsort im Land Brandenburg 2008 bis 2025 nach Wirtschaftsbereichen | C19: 12
A21: 6 | B21: Arbeitnehmer am Arbeitsort im Land Brandenburg 2008 bis 2025 nach Wirtschaftsbereichen | C21: 14
A23: 7 | B23: Selbstständige am Arbeitsort im Land Brandenburg 2008 bis 2025 nach Wirtschaftsbereichen | C23: 16
A25: 8 | B25: Erwerbstätige am Arbeitsort in Deutschland 1991 bis 2025 nach Bundesländern | C25: 18
A27: 9 | B27: Arbeitnehmer am Arbeitsort in Deutschland 1991 bis 2025 nach Bundesländern | C27: 20
A29: 10 | B29: Selbstständige am Arbeitsort in Deutschland 1991 bis 2025 nach Bundesländern | C29: 22
A31: 11 | B31: Marginal Beschäftigte am Arbeitsort in Deutschland 2003 bis 2025 nach Bundesländern | C31: 24

Sheet T1
A1: 1 Erwerbstätige am Arbeitsort im Land Brandenburg 1991 bis 2025
A3: Jahr | B3: Erwerbstätige | C3: Selbstständige und mithelfende Familien- angehörige | D3: Arbeitnehmer | E3: Davon
E4: Arbeitnehmer ohne marginal Beschäftigte | F4: Marginal Beschäftigte
B6: Jahresdurchschnitt in 1 000 Personen
A7: 1991 | B7: 1191.026 | C7: 59.118 | D7: 1131.908 | E7: • | F7: •
A8: 1992 | B8: 1063.011 | C8: 70.677 | D8: 992.334 | E8: • | F8: •
A9: 1993 | B9: 1031.561 | C9: 75.236 | D9: 956.325 | E9: • | F9: •
A10: 1994 | B10: 1063.426 | C10: 81.082 | D10: 982.344 | E10: • | F10: •
A11: 1995 | B11: 1088.752 | C11: 83.508 | D11: 1005.244 | E11: • | F11: •
A12: 1996 | B12: 1087.474 | C12: 86.208 | D12: 1001.266 | E12: • | F12: •
A13: 1997 | B13: 1087.551 | C13: 90.698 | D13: 996.853 | E13: • | F13: •
A14: 1998 | B14: 1082.924 | C14: 95.423 | D14: 987.501 | E14: • | F14: •
A15: 1999 | B15: 1088.171 | C15: 102.444 | D15: 985.727 | E15: • | F15: •
A16: 2000 | B16: 1089.825 | C16: 108.98 | D16: 980.845 | E16: • | F16: •
A17: 2001 | B17: 1063.946 | C17: 112.151 | D17: 951.795 | E17: • | F17: •
A18: 2002 | B18: 1043.036 | C18: 112.325 | D18: 930.711 | E18: • | F18: •
A19: 2003 | B19: 1026.88 | C19: 114.738 | D19: 912.142 | E19: =D19-F19 -> 803.314 | F19: 108.828
A20: 2004 | B20: 1029.555 | C20: 120.803 | D20: 908.752 | E20: =D20-F20 -> 786.79 | F20: 121.962
A21: 2005 | B21: 1021.516 | C21: 129.077 | D21: 892.439 | E21: =D21-F21 -> 765.552 | F21: 126.887
A22: 2006 | B22: 1027.229 | C22: 130.665 | D22: 896.564 | E22: =D22-F22 -> 766.274 | F22: 130.29
A23: 2007 | B23: 1047.732 | C23: 132.236 | D23: 915.496 | E23: =D23-F23 -> 786.636 | F23: 128.86
A24: 2008 | B24: 1063.312 | C24: 136.542 | D24: 926.77 | E24: =D24-F24 -> 795.686 | F24: 131.084
A25: 2009 | B25: 1076.557 | C25: 139.995 | D25: 936.562 | E25: =D25-F25 -> 800.651 | F25: 135.911
A26: 2010 | B26: 1081.754 | C26: 139.769 | D26: 941.985 | E26: =D26-F26 -> 805.877 | F26: 136.108
A27: 2011 | B27: 1080.906 | C27: 137.536 | D27: 943.37 | E27: =D27-F27 -> 816.88 | F27: 126.49
A28: 2012 | B28: 1083.504 | C28: 136.31 | D28: 947.194 | E28: =D28-F28 -> 825.793 | F28: 121.401
A29: 2013 | B29: 1081.834 | C29: 133.061 | D29: 948.773 | E29: =D29-F29 -> 827.085 | F29: 121.688
A30: 2014 | B30: 1082.629 | C30: 131.002 | D30: 951.627 | E30: =D30-F30 -> 834.802 | F30: 116.825
... A41: 2025 | B41: 1144.106 | C41: 111.06 | D41: 1033.046 | E41: =D41-F41 -> 938.391 | F41: 94.655
B43: Veränderung zum Vorjahr in %
A44: 1992 | B44: =ROUND(B8/B7*100-100,5) -> -10.7483 | C44: =ROUND(C8/C7*100-100,5) -> 19.55242 | D44: =ROUND(D8/D7*100-100,5) -> -12.33086 | E44: • | F44: •
A45: 1993 | B45: =ROUND(B9/B8*100-100,5) -> -2.95858 | C45: =ROUND(C9/C8*100-100,5) -> 6.45047 | D45: =ROUND(D9/D8*100-100,5) -> -3.62872 | E45: • | F45: •
A46: 1994 | B46: =ROUND(B10/B9*100-100,5) -> 3.08901 | C46: =ROUND(C10/C9*100-100,5) -> 7.77022 | D46: =ROUND(D10/D9*100-100,5) -> 2.72073 | E46: • | F46: •
A47: 1995 | B47: =ROUND(B11/B10*100-100,5) -> 2.38155 | C47: =ROUND(C11/C10*100-100,5) -> 2.99203 | D47: =ROUND(D11/D10*100-100,5) -> 2.33116 | E47: • | F47: •
A48: 1996 | B48: =ROUND(B12/B11*100-100,5) -> -0.11738 | C48: =ROUND(C12/C11*100-100,5) -> 3.23322 | D48: =ROUND(D12/D11*100-100,5) -> -0.39572 | E48: • | F48: •
A49: 1997 | B49: =ROUND(B13/B12*100-100,5) -> 0.00708 | C49: =ROUND(C13/C12*100-100,5) -> 5.20833 | D49: =ROUND(D13/D12*100-100,5) -> -0.44074 | E49: • | F49: •
A50: 1998 | B50: =ROUND(B14/B13*100-100,5) -> -0.42545 | C50: =ROUND(C14/C13*100-100,5) -> 5.2096 | D50: =ROUND(D14/D13*100-100,5) -> -0.93815 | E50: • | F50: •
A51: 1999 | B51: =ROUND(B15/B14*100-100,5) -> 0.48452 | C51: =ROUND(C15/C14*100-100,5) -> 7.35776 | D51: =ROUND(D15/D14*100-100,5) -> -0.17965 | E51: • | F51: •
A52: 2000 | B52: =ROUND(B16/B15*100-100,5) -> 0.152 | C52: =ROUND(C16/C15*100-100,5) -> 6.38007 | D52: =ROUND(D16/D15*100-100,5) -> -0.49527 | E52: • | F52: •
A53: 2001 | B53: =ROUND(B17/B16*100-100,5) -> -2.3746 | C53: =ROUND(C17/C16*100-100,5) -> 2.90971 | D53: =ROUND(D17/D16*100-100,5) -> -2.96173 | E53: • | F53: •
...

Sheet T2
B1: 2 Erwerbstätige am Arbeitsort im Land Brandenburg 1991 bis 2025 nach ausgewählten Wirtschaftsbereichen | I1: 2 Erwerbstätige am Arbeitsort im Land Brandenburg 1991 bis 2025 nach ausgewählten Wirtschaftsbereichen
B3: Jahr | C3: Ins- gesamt | D3: Land- und Forst- wirtschaft, Fischerei | E3: Produ- zierendes Gewerbe | F3: Davon | I3: Dienst- leistungs- bereiche | J3: Davon | T3: Jahr
F4: Produ- zierendes Gewerbe ohne Baugewerbe | G4: darunter | H4: Bau- gewerbe | J4: Handel, Verkehr und Lagerei, Gast- gewerbe, Infor- mation und Kommuni- kation | K4: Davon | M4: Finanz-, Versich.- und Unter- nehmens- dienst- leister, Grund- stücks- u. Wohnungs- wesen | N4: Davon | Q4: Öffentliche und sonstige Dienst- leister, Erziehung und Gesund- heit, priv. Haushalte | R4: Davon
G5: Verarbei-tendes Gewerbe | K5: Handel, Verkehr und Lagerei, Gast- gewerbe | L5: Infor- mation und Kommuni- kation | N5: Finanz- und Versich.- dienst- leister | O5: Grund- stücks- und Wohnungs- wesen | P5: Unter- nehmens- dienst- leister | R5: Öffentl. Dienst- leister, Erziehung, Gesund- heit | S5: Sonstige Dienst- leister, private Haushalte
C7: Jahresdurchschnitt in 1 000 Personen | I7: Jahresdurchschnitt in 1 000 Personen
B8: 1991 | C8: 1191.026 | D8: 77.858 | E8: 429.021 | F8: 301.734 | G8: 236.981 | H8: 127.287 | I8: 684.147 | J8: 260.359 | K8: • | L8: • | M8: 86.246 | N8: • | O8: • | P8: • | Q8: 337.542 | R8: • | S8: • | T8: 1991
B9: 1992 | C9: 1063.011 | D9: 53.028 | E9: 351.197 | F9: 213.248 | G9: 161.651 | H9: 137.949 | I9: 658.786 | J9: 246.021 | K9: • | L9: • | M9: 83.78 | N9: • | O9: • | P9: • | Q9: 328.985 | R9: • | S9: • | T9: 1992
B10: 1993 | C10: 1031.561 | D10: 44.109 | E10: 340.343 | F10: 182.866 | G10: 139.699 | H10: 157.477 | I10: 647.109 | J10: 242.659 | K10: • | L10: • | M10: 86.806 | N10: • | O10: • | P10: • | Q10: 317.644 | R10: • | S10: • | T10: 1993
B11: 1994 | C11: 1063.426 | D11: 42.605 | E11: 350.726 | F11: 173.595 | G11: 133.52 | H11: 177.131 | I11: 670.095 | J11: 251.326 | K11: • | L11: • | M11: 94.111 | N11: • | O11: • | P11: • | Q11: 324.658 | R11: • | S11: • | T11: 1994
B12: 1995 | C12: 1088.752 | D12: 42.766 | E12: 362.584 | F12: 173.231 | G12: 133.21 | H12: 189.353 | I12: 683.402 | J12: 255.685 | K12: • | L12: • | M12: 96.549 | N12: • | O12: • | P12: • | Q12: 331.168 | R12: • | S12: • | T12: 1995
B13: 1996 | C13: 1087.474 | D13: 41.05 | E13: 350.567 | F13: 166.472 | G13: 131.588 | H13: 184.095 | I13: 695.857 | J13: 257.313 | K13: • | L13: • | M13: 102.228 | N13: • | O13: • | P13: • | Q13: 336.316 | R13: • | S13: • | T13: 1996
B14: 1997 | C14: 1087.551 | D14: 37.569 | E14: 338.095 | F14: 163.307 | G14: 130.549 | H14: 174.788 | I14: 711.887 | J14: 265.387 | K14: • | L14: • | M14: 108.647 | N14: • | O14: • | P14: • | Q14: 337.853 | R14: • | S14: • | T14: 1997
B15: 1998 | C15: 1082.924 | D15: 37.391 | E15: 320.501 | F15: 159.822 | G15: 128.782 | H15: 160.679 | I15: 725.032 | J15: 262.015 | K15: • | L15: • | M15: 117.21 | N15: • | O15: • | P15: • | Q15: 345.807 | R15: • | S15: • | T15: 1998
B16: 1999 | C16: 1088.171 | D16: 36.301 | E16: 306.904 | F16: 152.91 | G16: 123.445 | H16: 153.994 | I16: 744.966 | J16: 263.989 | K16: • | L16: • | M16: 123.927 | N16: • | O16: • | P16: • | Q16: 357.05 | R16: • | S16: • | T16: 1999
B17: 2000 | C17: 1089.825 | D17: 35.305 | E17: 294.823 | F17: 152.29 | G17: 123.417 | H17: 142.533 | I17: 759.697 | J17: 270.426 | K17: 250.334 | L17: 20.092 | M17: 126.571 | N17: 19.819 | O17: 12.796 | P17: 93.956 | Q17: 362.7 | R17: 297.475 | S17: 65.225 | T17: 2000
B18: 2001 | C18: 1063.946 | D18: 32.907 | E18: 273.734 | F18: 149.109 | G18: 121.099 | H18: 124.625 | I18: 757.305 | J18: 267.476 | K18: 246.784 | L18: 20.692 | M18: 127.031 | N18: 20.038 | O18: 12.187 | P18: 94.806 | Q18: 362.798 | R18: 297.816 | S18: 64.982 | T18: 2001
B19: 2002 | C19: 1043.036 | D19: 32.275 | E19: 256.139 | F19: 145.053 | G19: 117.959 | H19: 111.086 | I19: 754.622 | J19: 263.052 | K19: 242.239 | L19: 20.813 | M19: 129.612 | N19: 20.316 | O19: 12.305 | P19: 96.991 | Q19: 361.958 | R19: 297.72 | S19: 64.238 | T19: 2002
B20: 2003 | C20: 1026.88 | D20: 32.332 | E20: 241.98 | F20: 140.645 | G20: 113.689 | H20: 101.335 | I20: 752.568 | J20: 259.37 | K20: 238.453 | L20: 20.917 | M20: 133.209 | N20: 20.012 | O20: 12.195 | P20: 101.002 | Q20: 359.989 | R20: 295.969 | S20: 64.02 | T20: 2003
B21: 2004 | C21: 1029.555 | D21: 32.024 | E21: 233.15 | F21: 137.023 | G21: 110.645 | H21: 96.127 | I21: 764.381 | J21: 263.522 | K21: 242.469 | L21: 21.053 | M21: 139.015 | N21: 19.544 | O21: 12.267 | P21: 107.204 | Q21: 361.844 | R21: 294.709 | S21: 67.135 | T21: 2004
B22: 2005 | C22: 1021.516 | D22: 30.087 | E22: 228.188 | F22: 134.999 | G22: 108.918 | H22: 93.189 | I22: 763.241 | J22: 260.945 | K22: 239.716 | L22: 21.229 | M22: 143.182 | N22: 19.306 | O22: 12.316 | P22: 111.56 | Q22: 359.114 | R22: 291.39 | S22: 67.724 | T22: 2005
B23: 2006 | C23: 1027.229 | D23: 29.339 | E23: 228.015 | F23: 135.157 | G23: 109.33 | H23: 92.858 | I23: 769.875 | J23: 261.139 | K23: 239.749 | L23: 21.39 | M23: 149.648 | N23: 19.391 | O23: 12.275 | P23: 117.982 | Q23: 359.088 | R23: 290.752 | S23: 68.336 | T23: 2006
B24: 2007 | C24: 1047.732 | D24: 29.939 | E24: 236.006 | F24: 141.198 | G24: 115.097 | H24: 94.808 | I24: 781.787 | J24: 264.585 | K24: 243.011 | L24: 21.574 | M24: 156.795 | N24: 18.908 | O24: 12.752 | P24: 125.135 | Q24: 360.407 | R24: 289.775 | S24: 70.632 | T24: 2007
B25: 2008 | C25: 1063.312 | D25: 30.014 | E25: 238.324 | F25: 144.441 | G25: 118.848 | H25: 93.883 | I25: 794.974 | J25: 268.067 | K25: 244.627 | L25: 23.44 | M25: 160.622 | N25: 18.652 | O25: 12.507 | P25: 129.463 | Q25: 366.285 | R25: 293.109 | S25: 73.176 | T25: 2008
B26: 2009 | C26: 1076.557 | D26: 29.918 | E26: 238.456 | F26: 144.789 | G26: 119.528 | H26: 93.667 | I26: 808.183 | J26: 269.382 | K26: 245.877 | L26: 23.505 | M26: 164.123 | N26: 19.455 | O26: 12 | P26: 132.668 | Q26: 374.678 | R26: 298.748 | S26: 75.93 | T26: 2009
B27: 2010 | C27: 1081.754 | D27: 29.027 | E27: 237.006 | F27: 144.404 | G27: 119.57 | H27: 92.602 | I27: 815.721 | J27: 270.872 | K27: 247.53 | L27: 23.342 | M27: 170.799 | N27: 19.952 | O27: 12.06 | P27: 138.787 | Q27: 374.05 | R27: 298.51 | S27: 75.54 | T27: 2010
B28: 2011 | C28: 1080.906 | D28: 29.524 | E28: 246.549 | F28: 151.348 | G28: 126.32 | H28: 95.201 | I28: 804.833 | J28: 273.852 | K28: 250.089 | L28: 23.763 | M28: 169.464 | N28: 19.265 | O28: 11.987 | P28: 138.212 | Q28: 361.517 | R28: 288.47 | S28: 73.047 | T28: 2011
... B42: 2025 | C42: 1144.106 | D42: 24.345 | E42: 244.682 | F42: 153.29 | G42: 129.324 | H42: 91.392 | I42: 875.079 | J42: 280.314 | K42: 263.095 | L42: 17.219 | M42: 174.871 | N42: 14.495 | O42: 14.302 | P42: 146.074 | Q42: 419.894 | R42: 354.5 | S42: 65.394 | T42: 2025
C44: Veränderung zum Vorjahr in % | I44: Veränderung zum Vorjahr in %
B45: 1992 | C45: =ROUND(C9/C8*100-100,5) -> -10.7483 | D45: =ROUND(D9/D8*100-100,5) -> -31.89139 | E45: =ROUND(E9/E8*100-100,5) -> -18.1399 | F45: =ROUND(F9/F8*100-100,5) -> -29.32583 | G45: =ROUND(G9/G8*100-100,5) -> -31.78736 | H45: =ROUND(H9/H8*100-100,5) -> 8.37635 | I45: =ROUND(I9/I8*100-100,5) -> -3.70695 | J45: =ROUND(J9/J8*100-100,5) -> -5.50701 | K45: • | L45: • | M45: =ROUND(M9/M8*100-100,5) -> -2.85926 | N45: • | O45: • | P45: • | Q45: =ROUND(Q9/Q8*100-100,5) -> -2.53509 | R45: • | S45: • | T45: 1992
B46: 1993 | C46: =ROUND(C10/C9*100-100,5) -> -2.95858 | D46: =ROUND(D10/D9*100-100,5) -> -16.81942 | E46: =ROUND(E10/E9*100-100,5) -> -3.09057 | F46: =ROUND(F10/F9*100-100,5) -> -14.24726 | G46: =ROUND(G10/G9*100-100,5) -> -13.57987 | H46: =ROUND(H10/H9*100-100,5) -> 14.15596 | I46: =ROUND(I10/I9*100-100,5) -> -1.7725 | J46: =ROUND(J10/J9*100-100,5) -> -1.36655 | K46: • | L46: • | M46: =ROUND(M10/M9*100-100,5) -> 3.61184 | N46: • | O46: • | P46: • | Q46: =ROUND(Q10/Q9*100-100,5) -> -3.44727 | R46: • | S46: • | T46: 1993
B47: 1994 | C47: =ROUND(C11/C10*100-100,5) -> 3.08901 | D47: =ROUND(D11/D10*100-100,5) -> -3.40973 | E47: =ROUND(E11/E10*100-100,5) -> 3.05075 | F47: =ROUND(F11/F10*100-100,5) -> -5.06983 | G47: =ROUND(G11/G10*100-100,5) -> -4.42308 | H47: =ROUND(H11/H10*100-100,5) -> 12.48055 | I47: =ROUND(I11/I10*100-100,5) -> 3.55211 | J47: =ROUND(J11/J10*100-100,5) -> 3.57168 | K47: • | L47: • | M47: =ROUND(M11/M10*100-100,5) -> 8.41532 | N47: • | O47: • | P47: • | Q47: =ROUND(Q11/Q10*100-100,5) -> 2.20813 | R47: • | S47: • | T47: 1994
B48: 1995 | C48: =ROUND(C12/C11*100-100,5) -> 2.38155 | D48: =ROUND(D12/D11*100-100,5) -> 0.37789 | E48: =ROUND(E12/E11*100-100,5) -> 3.38099 | F48: =ROUND(F12/F11*100-100,5) -> -0.20968 | G48: =ROUND(G12/G11*100-100,5) -> -0.23217 | H48: =ROUND(H12/H11*100-100,5) -> 6.89998 | I48: =ROUND(I12/I11*100-100,5) -> 1.98584 | J48: =ROUND(J12/J11*100-100,5) -> 1.7344 | K48: • | L48: • | M48: =ROUND(M12/M11*100-100,5) -> 2.59056 | N48: • | O48: • | P48: • | Q48: =ROUND(Q12/Q11*100-100,5) -> 2.00519 | R48: • | S48: • | T48: 1995
B49: 1996 | C49: =ROUND(C13/C12*100-100,5) -> -0.11738 | D49: =ROUND(D13/D12*100-100,5) -> -4.01253 | E49: =ROUND(E13/E12*100-100,5) -> -3.31427 | F49: =ROUND(F13/F12*100-100,5) -> -3.90173 | G49: =ROUND(G13/G12*100-100,5) -> -1.21763 | H49: =ROUND(H13/H12*100-100,5) -> -2.77682 | I49: =ROUND(I13/I12*100-100,5) -> 1.8225 | J49: =ROUND(J13/J12*100-100,5) -> 0.63672 | K49: • | L49: • | M49: =ROUND(M13/M12*100-100,5) -> 5.88199 | N49: • | O49: • | P49: • | Q49: =ROUND(Q13/Q12*100-100,5) -> 1.5545 | R49: • | S49: • | T49: 1996
B50: 1997 | C50: =ROUND(C14/C13*100-100,5) -> 0.00708 | D50: =ROUND(D14/D13*100-100,5) -> -8.4799 | E50: =ROUND(E14/E13*100-100,5) -> -3.55767 | F50: =ROUND(F14/F13*100-100,5) -> -1.90122 | G50: =ROUND(G14/G13*100-100,5) -> -0.78959 | H50: =ROUND(H14/H13*100-100,5) -> -5.05554 | I50: =ROUND(I14/I13*100-100,5) -> 2.30363 | J50: =ROUND(J14/J13*100-100,5) -> 3.13781 | K50: • | L50: • | M50: =ROUND(M14/M13*100-100,5) -> 6.2791 | N50: • | O50: • | P50: • | Q50: =ROUND(Q14/Q13*100-100,5) -> 0.45701 | R50: • | S50: • | T50: 1997
B51: 1998 | C51: =ROUND(C15/C14*100-100,5) -> -0.42545 | D51: =ROUND(D15/D14*100-100,5) -> -0.47379 | E51: =ROUND(E15/E14*100-100,5) -> -5.20386 | F51: =ROUND(F15/F14*100-100,5) -> -2.13402 | G51: =ROUND(G15/G14*100-100,5) -> -1.35351 | H51: =ROUND(H15/H14*100-100,5) -> -8.07206 | I51: =ROUND(I15/I14*100-100,5) -> 1.8465 | J51: =ROUND(J15/J14*100-100,5) -> -1.2706 | K51: • | L51: • | M51: =ROUND(M15/M14*100-100,5) -> 7.88149 | N51: • | O51: • | P51: • | Q51: =ROUND(Q15/Q14*100-100,5) -> 2.35428 | R51: • | S51: • | T51: 1998
B52: 1999 | C52: =ROUND(C16/C15*100-100,5) -> 0.48452 | D52: =ROUND(D16/D15*100-100,5) -> -2.91514 | E52: =ROUND(E16/E15*100-100,5) -> -4.24242 | F52: =ROUND(F16/F15*100-100,5) -> -4.32481 | G52: =ROUND(G16/G15*100-100,5) -> -4.14421 | H52: =ROUND(H16/H15*100-100,5) -> -4.16047 | I52: =ROUND(I16/I15*100-100,5) -> 2.7494 | J52: =ROUND(J16/J15*100-100,5) -> 0.75339 | K52: • | L52: • | M52: =ROUND(M16/M15*100-100,5) -> 5.73074 | N52: • | O52: • | P52: • | Q52: =ROUND(Q16/Q15*100-100,5) -> 3.25124 | R52: • | S52: • | T52: 1999
B53: 2000 | C53: =ROUND(C17/C16*100-100,5) -> 0.152 | D53: =ROUND(D17/D16*100-100,5) -> -2.74373 | E53: =ROUND(E17/E16*100-100,5) -> -3.93641 | F53: =ROUND(F17/F16*100-100,5) -> -0.40547 | G53: =ROUND(G17/G16*100-100,5) -> -0.02268 | H53: =ROUND(H17/H16*100-100,5) -> -7.4425 | I53: =ROUND(I17/I16*100-100,5) -> 1.97741 | J53: =ROUND(J17/J16*100-100,5) -> 2.43836 | K53: • | L53: • | M53: =ROUND(M17/M16*100-100,5) -> 2.13351 | N53: • | O53: • | P53: • | Q53: =ROUND(Q17/Q16*100-100,5) -> 1.58241 | R53: • | S53: • | T53: 2000
B54: 2001 | C54: =ROUND(C18/C17*100-100,5) -> -2.3746 | D54: =ROUND(D18/D17*100-100,5) -> -6.79224 | E54: =ROUND(E18/E17*100-100,5) -> -7.15311 | F54: =ROUND(F18/F17*100-100,5) -> -2.08878 | G54: =ROUND(G18/G17*100-100,5) -> -1.87819 | H54: =ROUND(H18/H17*100-100,5) -> -12.56411 | I54: =ROUND(I18/I17*100-100,5) -> -0.31486 | J54: =ROUND(J18/J17*100-100,5) -> -1.09087 | ... S54: =ROUND(S18/S17*100-100,5) -> -0.37256 | T54: 2001
B55: 2002 | C55: =ROUND(C19/C18*100-100,5) -> -1.96533 | D55: =ROUND(D19/D18*100-100,5) -> -1.92056 | E55: =ROUND(E19/E18*100-100,5) -> -6.42777 | F55: =ROUND(F19/F18*100-100,5) -> -2.72016 | G55: =ROUND(G19/G18*100-100,5) -> -2.59292 | H55: =ROUND(H19/H18*100-100,5) -> -10.86379 | I55: =ROUND(I19/I18*100-100,5) -> -0.35428 | J55: =ROUND(J19/J18*100-100,5) -> -1.65398 | ... S55: =ROUND(S19/S18*100-100,5) -> -1.14493 | T55: 2002
B56: 2003 | C56: =ROUND(C20/C19*100-100,5) -> -1.54894 | D56: =ROUND(D20/D19*100-100,5) -> 0.17661 | E56: =ROUND(E20/E19*100-100,5) -> -5.52786 | F56: =ROUND(F20/F19*100-100,5) -> -3.03889 | G56: =ROUND(G20/G19*100-100,5) -> -3.6199 | H56: =ROUND(H20/H19*100-100,5) -> -8.77788 | I56: =ROUND(I20/I19*100-100,5) -> -0.27219 | J56: =ROUND(J20/J19*100-100,5) -> -1.39972 | ... S56: =ROUND(S20/S19*100-100,5) -> -0.33936 | T56: 2003
...

Sheet T3
B1: 3 Arbeitnehmer am Arbeitsort im Land Brandenburg 1991 bis 2025 nach ausgewählten Wirtschaftsbereichen | I1: 3 Arbeitnehmer am Arbeitsort im Land Brandenburg 1991 bis 2025 nach ausgewählten Wirtschaftsbereichen
B3: Jahr | C3: Ins- gesamt | D3: Land- und Forst- wirtschaft, Fischerei | E3: Produ- zierendes Gewerbe | F3: Davon | I3: Dienst- leistungs- bereiche | J3: Davon | T3: Jahr
F4: Produ- zierendes Gewerbe ohne Baugewerbe | G4: darunter | H4: Bau- gewerbe | J4: Handel, Verkehr und Lagerei, Gast- gewerbe, Infor- mation und Kommuni- kation | K4: Davon | M4: Finanz-, Versich.- und Unter- nehmens- dienst- leister, Grund- stücks- u. Wohnungs- wesen | N4: Davon | Q4: Öffentliche und sonstige Dienst- leister, Erziehung und Gesund- heit, priv. Haushalte | R4: Davon
G5: Verarbei-tendes Gewerbe | K5: Handel, Verkehr und Lagerei, Gast- gewerbe | L5: Infor- mation und Kommuni- kation | N5: Finanz- und Versich.- dienst- leister | O5: Grund- stücks- und Wohnungs- wesen | P5: Unter- nehmens- dienst- leister | R5: Öffentl. Dienst- leister, Erziehung, Gesund- heit | S5: Sonstige Dienst- leister, private Haushalte
C7: Jahresdurchschnitt in 1 000 Personen | I7: Jahresdurchschnitt in 1 000 Personen
B8: 1991 | C8: 1131.908 | D8: 74.029 | E8: 417.13 | F8: 296.647 | G8: 231.998 | H8: 120.483 | I8: 640.749 | J8: 237.194 | K8: • | L8: • | M8: 78.493 | N8: • | O8: • | P8: • | Q8: 325.062 | R8: • | S8: • | T8: 1991
B9: 1992 | C9: 992.334 | D9: 48.022 | E9: 336.991 | F9: 206.113 | G9: 154.74 | H9: 130.878 | I9: 607.321 | J9: 216.543 | K9: • | L9: • | M9: 74.969 | N9: • | O9: • | P9: • | Q9: 315.809 | R9: • | S9: • | T9: 1992
B10: 1993 | C10: 956.325 | D10: 39.185 | E10: 325.134 | F10: 175.235 | G10: 132.358 | H10: 149.899 | I10: 592.006 | J10: 211.584 | K10: • | L10: • | M10: 76.149 | N10: • | O10: • | P10: • | Q10: 304.273 | R10: • | S10: • | T10: 1993
B11: 1994 | C11: 982.344 | D11: 37.335 | E11: 334.45 | F11: 166.039 | G11: 126.24 | H11: 168.411 | I11: 610.559 | J11: 218.416 | K11: • | L11: • | M11: 81.795 | N11: • | O11: • | P11: • | Q11: 310.348 | R11: • | S11: • | T11: 1994
B12: 1995 | C12: 1005.244 | D12: 37.883 | E12: 345.344 | F12: 166.616 | G12: 126.972 | H12: 178.728 | I12: 622.017 | J12: 222.139 | K12: • | L12: • | M12: 83.638 | N12: • | O12: • | P12: • | Q12: 316.24 | R12: • | S12: • | T12: 1995
B13: 1996 | C13: 1001.266 | D13: 36.459 | E13: 331.199 | F13: 159.606 | G13: 125.086 | H13: 171.593 | I13: 633.608 | J13: 223.807 | K13: • | L13: • | M13: 88.204 | N13: • | O13: • | P13: • | Q13: 321.597 | R13: • | S13: • | T13: 1996
B14: 1997 | C14: 996.853 | D14: 33.141 | E14: 317.496 | F14: 156.595 | G14: 124.238 | H14: 160.901 | I14: 646.216 | J14: 231.689 | K14: • | L14: • | M14: 92.873 | N14: • | O14: • | P14: • | Q14: 321.654 | R14: • | S14: • | T14: 1997
B15: 1998 | C15: 987.501 | D15: 33.095 | E15: 298.855 | F15: 152.897 | G15: 122.253 | H15: 145.958 | I15: 655.551 | J15: 228.069 | K15: • | L15: • | M15: 100.172 | N15: • | O15: • | P15: • | Q15: 327.31 | R15: • | S15: • | T15: 1998
B16: 1999 | C16: 985.727 | D16: 32.043 | E16: 282.85 | F16: 145.976 | G16: 116.895 | H16: 136.874 | I16: 670.834 | J16: 229.01 | K16: • | L16: • | M16: 105.229 | N16: • | O16: • | P16: • | Q16: 336.595 | R16: • | S16: • | T16: 1999
B17: 2000 | C17: 980.845 | D17: 30.878 | E17: 269.252 | F17: 145.121 | G17: 116.635 | H17: 124.131 | I17: 680.715 | J17: 234.376 | K17: 215.475 | L17: 18.901 | M17: 106.75 | N17: 14.562 | O17: 11.325 | P17: 80.863 | Q17: 339.589 | R17: 284.981 | S17: 54.608 | T17: 2000
B18: 2001 | C18: 951.795 | D18: 28.305 | E18: 247.783 | F18: 141.527 | G18: 113.942 | H18: 106.256 | I18: 675.707 | J18: 231.427 | K18: 212.073 | L18: 19.354 | M18: 106.18 | N18: 14.261 | O18: 10.812 | P18: 81.107 | Q18: 338.1 | R18: 284.846 | S18: 53.254 | T18: 2001
B19: 2002 | C19: 930.711 | D19: 27.699 | E19: 230.102 | F19: 137.639 | G19: 110.974 | H19: 92.463 | I19: 672.91 | J19: 226.966 | K19: 207.842 | L19: 19.124 | M19: 107.414 | N19: 14.09 | O19: 10.932 | P19: 82.392 | Q19: 338.53 | R19: 285.866 | S19: 52.664 | T19: 2002
B20: 2003 | C20: 912.142 | D20: 27.709 | E20: 216.675 | F20: 133.252 | G20: 106.782 | H20: 83.423 | I20: 667.758 | J20: 222.826 | K20: 204.126 | L20: 18.7 | M20: 109.208 | N20: 13.693 | O20: 10.753 | P20: 84.762 | Q20: 335.724 | R20: 283.675 | S20: 52.049 | T20: 2003
B21: 2004 | C21: 908.752 | D21: 27.383 | E21: 207.101 | F21: 129.493 | G21: 103.603 | H21: 77.608 | I21: 674.268 | J21: 226.261 | K21: 207.73 | L21: 18.531 | M21: 112.879 | N21: 13.558 | O21: 10.83 | P21: 88.491 | Q21: 335.128 | R21: 281.788 | S21: 53.34 | T21: 2004
B22: 2005 | C22: 892.439 | D22: 25.372 | E22: 197.583 | F22: 127.303 | G22: 101.772 | H22: 70.28 | I22: 669.484 | J22: 223.466 | K22: 205.019 | L22: 18.447 | M22: 115.164 | N22: 13.347 | O22: 10.791 | P22: 91.026 | Q22: 330.854 | R22: 277.912 | S22: 52.942 | T22: 2005
B23: 2006 | C23: 896.564 | D23: 24.661 | E23: 196.007 | F23: 127.569 | G23: 102.28 | H23: 68.438 | I23: 675.896 | J23: 224.074 | K23: 205.707 | L23: 18.367 | M23: 120.416 | N23: 13.187 | O23: 10.655 | P23: 96.574 | Q23: 331.406 | R23: 277.343 | S23: 54.063 | T23: 2006
B24: 2007 | C24: 915.496 | D24: 25.139 | E24: 203.369 | F24: 133.499 | G24: 107.978 | H24: 69.87 | I24: 686.988 | J24: 228.032 | K24: 209.536 | L24: 18.496 | M24: 126.618 | N24: 12.922 | O24: 10.981 | P24: 102.715 | Q24: 332.338 | R24: 276.27 | S24: 56.068 | T24: 2007
B25: 2008 | C25: 926.77 | D25: 25.26 | E25: 205.187 | F25: 136.652 | G25: 111.637 | H25: 68.535 | I25: 696.323 | J25: 231.831 | K25: 211.392 | L25: 20.439 | M25: 128.811 | N25: 12.746 | O25: 10.531 | P25: 105.534 | Q25: 335.681 | R25: 278.712 | S25: 56.969 | T25: 2008
B26: 2009 | C26: 936.562 | D26: 25.288 | E26: 205.407 | F26: 136.937 | G26: 112.305 | H26: 68.47 | I26: 705.867 | J26: 233.288 | K26: 212.796 | L26: 20.492 | M26: 130.305 | N26: 12.776 | O26: 10.015 | P26: 107.514 | Q26: 342.274 | R26: 282.675 | S26: 59.599 | T26: 2009
B27: 2010 | C27: 941.985 | D27: 24.538 | E27: 204.475 | F27: 136.565 | G27: 112.362 | H27: 67.91 | I27: 712.972 | J27: 234.878 | K27: 214.638 | L27: 20.24 | M27: 136.004 | N27: 12.784 | O27: 10.048 | P27: 113.172 | Q27: 342.09 | R27: 281.712 | S27: 60.378 | T27: 2010
B28: 2011 | C28: 943.37 | D28: 25.004 | E28: 212.924 | F28: 143.534 | G28: 119.133 | H28: 69.39 | I28: 705.442 | J28: 238.682 | K28: 217.982 | L28: 20.7 | M28: 136.156 | N28: 12.584 | O28: 10.004 | P28: 113.568 | Q28: 330.604 | R28: 272.229 | S28: 58.375 | T28: 2011
... B42: 2025 | C42: 1033.046 | D42: 20.605 | E42: 218.479 | F42: 147.627 | G42: 123.935 | H42: 70.852 | I42: 793.962 | J42: 256.12 | K42: 242.115 | L42: 14.005 | M42: 148.837 | N42: 10.993 | O42: 12.131 | P42: 125.713 | Q42: 389.005 | R42: 335.285 | S42: 53.72 | T42: 2025
C44: Veränderung zum Vorjahr in % | I44: Veränderung zum Vorjahr in %
B45: 1992 | C45: =ROUND(C9/C8*100-100,5) -> -12.33086 | D45: =ROUND(D9/D8*100-100,5) -> -35.13083 | E45: =ROUND(E9/E8*100-100,5) -> -19.212 | F45: =ROUND(F9/F8*100-100,5) -> -30.5191 | G45: =ROUND(G9/G8*100-100,5) -> -33.30115 | H45: =ROUND(H9/H8*100-100,5) -> 8.62777 | I45: =ROUND(I9/I8*100-100,5) -> -5.21702 | J45: =ROUND(J9/J8*100-100,5) -> -8.70638 | K45: • | L45: • | M45: =ROUND(M9/M8*100-100,5) -> -4.48957 | N45: • | O45: • | P45: • | Q45: =ROUND(Q9/Q8*100-100,5) -> -2.84653 | R45: • | S45: • | T45: 1992
B46: 1993 | C46: =ROUND(C10/C9*100-100,5) -> -3.62872 | D46: =ROUND(D10/D9*100-100,5) -> -18.40198 | E46: =ROUND(E10/E9*100-100,5) -> -3.51849 | F46: =ROUND(F10/F9*100-100,5) -> -14.9811 | G46: =ROUND(G10/G9*100-100,5) -> -14.46426 | H46: =ROUND(H10/H9*100-100,5) -> 14.53338 | I46: =ROUND(I10/I9*100-100,5) -> -2.52173 | J46: =ROUND(J10/J9*100-100,5) -> -2.29008 | K46: • | L46: • | M46: =ROUND(M10/M9*100-100,5) -> 1.57398 | N46: • | O46: • | P46: • | Q46: =ROUND(Q10/Q9*100-100,5) -> -3.65284 | R46: • | S46: • | T46: 1993
B47: 1994 | C47: =ROUND(C11/C10*100-100,5) -> 2.72073 | D47: =ROUND(D11/D10*100-100,5) -> -4.72119 | E47: =ROUND(E11/E10*100-100,5) -> 2.86528 | F47: =ROUND(F11/F10*100-100,5) -> -5.24781 | G47: =ROUND(G11/G10*100-100,5) -> -4.62231 | H47: =ROUND(H11/H10*100-100,5) -> 12.34965 | I47: =ROUND(I11/I10*100-100,5) -> 3.13392 | J47: =ROUND(J11/J10*100-100,5) -> 3.22898 | K47: • | L47: • | M47: =ROUND(M11/M10*100-100,5) -> 7.41441 | N47: • | O47: • | P47: • | Q47: =ROUND(Q11/Q10*100-100,5) -> 1.99656 | R47: • | S47: • | T47: 1994
B48: 1995 | C48: =ROUND(C12/C11*100-100,5) -> 2.33116 | D48: =ROUND(D12/D11*100-100,5) -> 1.46779 | E48: =ROUND(E12/E11*100-100,5) -> 3.25729 | F48: =ROUND(F12/F11*100-100,5) -> 0.34751 | G48: =ROUND(G12/G11*100-100,5) -> 0.57985 | H48: =ROUND(H12/H11*100-100,5) -> 6.12608 | I48: =ROUND(I12/I11*100-100,5) -> 1.87664 | J48: =ROUND(J12/J11*100-100,5) -> 1.70455 | K48: • | L48: • | M48: =ROUND(M12/M11*100-100,5) -> 2.25319 | N48: • | O48: • | P48: • | Q48: =ROUND(Q12/Q11*100-100,5) -> 1.89851 | R48: • | S48: • | T48: 1995
B49: 1996 | C49: =ROUND(C13/C12*100-100,5) -> -0.39572 | D49: =ROUND(D13/D12*100-100,5) -> -3.75894 | E49: =ROUND(E13/E12*100-100,5) -> -4.09592 | F49: =ROUND(F13/F12*100-100,5) -> -4.20728 | G49: =ROUND(G13/G12*100-100,5) -> -1.48537 | H49: =ROUND(H13/H12*100-100,5) -> -3.9921 | I49: =ROUND(I13/I12*100-100,5) -> 1.86345 | J49: =ROUND(J13/J12*100-100,5) -> 0.75088 | K49: • | L49: • | M49: =ROUND(M13/M12*100-100,5) -> 5.45924 | N49: • | O49: • | P49: • | Q49: =ROUND(Q13/Q12*100-100,5) -> 1.69397 | R49: • | S49: • | T49: 1996
B50: 1997 | C50: =ROUND(C14/C13*100-100,5) -> -0.44074 | D50: =ROUND(D14/D13*100-100,5) -> -9.10063 | E50: =ROUND(E14/E13*100-100,5) -> -4.13739 | F50: =ROUND(F14/F13*100-100,5) -> -1.88652 | G50: =ROUND(G14/G13*100-100,5) -> -0.67793 | H50: =ROUND(H14/H13*100-100,5) -> -6.23102 | I50: =ROUND(I14/I13*100-100,5) -> 1.98987 | J50: =ROUND(J14/J13*100-100,5) -> 3.52178 | K50: • | L50: • | M50: =ROUND(M14/M13*100-100,5) -> 5.29341 | N50: • | O50: • | P50: • | Q50: =ROUND(Q14/Q13*100-100,5) -> 0.01772 | R50: • | S50: • | T50: 1997
B51: 1998 | C51: =ROUND(C15/C14*100-100,5) -> -0.93815 | D51: =ROUND(D15/D14*100-100,5) -> -0.1388 | E51: =ROUND(E15/E14*100-100,5) -> -5.87126 | F51: =ROUND(F15/F14*100-100,5) -> -2.36151 | G51: =ROUND(G15/G14*100-100,5) -> -1.59774 | H51: =ROUND(H15/H14*100-100,5) -> -9.28708 | I51: =ROUND(I15/I14*100-100,5) -> 1.44456 | J51: =ROUND(J15/J14*100-100,5) -> -1.56244 | K51: • | L51: • | M51: =ROUND(M15/M14*100-100,5) -> 7.85912 | N51: • | O51: • | P51: • | Q51: =ROUND(Q15/Q14*100-100,5) -> 1.75841 | R51: • | S51: • | T51: 1998
B52: 1999 | C52: =ROUND(C16/C15*100-100,5) -> -0.17965 | D52: =ROUND(D16/D15*100-100,5) -> -3.17873 | E52: =ROUND(E16/E15*100-100,5) -> -5.35544 | F52: =ROUND(F16/F15*100-100,5) -> -4.52658 | G52: =ROUND(G16/G15*100-100,5) -> -4.38271 | H52: =ROUND(H16/H15*100-100,5) -> -6.22371 | I52: =ROUND(I16/I15*100-100,5) -> 2.33132 | J52: =ROUND(J16/J15*100-100,5) -> 0.41259 | K52: • | L52: • | M52: =ROUND(M16/M15*100-100,5) -> 5.04832 | N52: • | O52: • | P52: • | Q52: =ROUND(Q16/Q15*100-100,5) -> 2.83676 | R52: • | S52: • | T52: 1999
B53: 2000 | C53: =ROUND(C17/C16*100-100,5) -> -0.49527 | D53: =ROUND(D17/D16*100-100,5) -> -3.63574 | E53: =ROUND(E17/E16*100-100,5) -> -4.8075 | F53: =ROUND(F17/F16*100-100,5) -> -0.58571 | G53: =ROUND(G17/G16*100-100,5) -> -0.22242 | H53: =ROUND(H17/H16*100-100,5) -> -9.31002 | I53: =ROUND(I17/I16*100-100,5) -> 1.47294 | J53: =ROUND(J17/J16*100-100,5) -> 2.34313 | K53: • | L53: • | M53: =ROUND(M17/M16*100-100,5) -> 1.44542 | N53: • | O53: • | P53: • | Q53: =ROUND(Q17/Q16*100-100,5) -> 0.8895 | R53: • | S53: • | T53: 2000
B54: 2001 | C54: =ROUND(C18/C17*100-100,5) -> -2.96173 | D54: =ROUND(D18/D17*100-100,5) -> -8.33279 | E54: =ROUND(E18/E17*100-100,5) -> -7.97357 | F54: =ROUND(F18/F17*100-100,5) -> -2.47655 | G54: =ROUND(G18/G17*100-100,5) -> -2.30891 | H54: =ROUND(H18/H17*100-100,5) -> -14.40011 | I54: =ROUND(I18/I17*100-100,5) -> -0.7357 | J54: =ROUND(J18/J17*100-100,5) -> -1.25823 | ... S54: =ROUND(S18/S17*100-100,5) -> -2.47949 | T54: 2001
B55: 2002 | C55: =ROUND(C19/C18*100-100,5) -> -2.21518 | D55: =ROUND(D19/D18*100-100,5) -> -2.14096 | E55: =ROUND(E19/E18*100-100,5) -> -7.13568 | F55: =ROUND(F19/F18*100-100,5) -> -2.74718 | G55: =ROUND(G19/G18*100-100,5) -> -2.60483 | H55: =ROUND(H19/H18*100-100,5) -> -12.98091 | I55: =ROUND(I19/I18*100-100,5) -> -0.41394 | J55: =ROUND(J19/J18*100-100,5) -> -1.92761 | ... S55: =ROUND(S19/S18*100-100,5) -> -1.1079 | T55: 2002
B56: 2003 | C56: =ROUND(C20/C19*100-100,5) -> -1.99514 | D56: =ROUND(D20/D19*100-100,5) -> 0.0361 | E56: =ROUND(E20/E19*100-100,5) -> -5.83524 | F56: =ROUND(F20/F19*100-100,5) -> -3.18732 | G56: =ROUND(G20/G19*100-100,5) -> -3.77746 | H56: =ROUND(H20/H19*100-100,5) -> -9.77688 | I56: =ROUND(I20/I19*100-100,5) -> -0.76563 | J56: =ROUND(J20/J19*100-100,5) -> -1.82406 | ... S56: =ROUND(S20/S19*100-100,5) -> -1.16778 | T56: 2003
...

Sheet T4
B1: 4 Selbstständige am Arbeitsort im Land Brandenburg 1991 bis 2025 nach ausgewählten Wirtschaftsbereichen | I1: 4 Selbstständige am Arbeitsort im Land Brandenburg 1991 bis 2025 nach ausgewählten Wirtschaftsbereichen
B3: Jahr | C3: Ins- gesamt | D3: Land- und Forst- wirtschaft, Fischerei | E3: Produ- zierendes Gewerbe | F3: Davon | I3: Dienst- leistungs- bereiche | J3: Davon | T3: Jahr
F4: Produ- zierendes Gewerbe ohne Baugewerbe | G4: darunter | H4: Bau- gewerbe | J4: Handel, Verkehr und Lagerei, Gast- gewerbe, Infor- mation und Kommuni- kation | K4: Davon | M4: Finanz-, Versich.- und Unter- nehmens- dienst- leister, Grund- stücks- u. Wohnungs- wesen | N4: Davon | Q4: Öffentliche und sonstige Dienst- leister, Erziehung und Gesund- heit, priv. Haushalte | R4: Davon
G5: Verarbei-tendes Gewerbe | K5: Handel, Verkehr und Lagerei, Gast- gewerbe | L5: Infor- mation und Kommuni- kation | N5: Finanz- und Versich.- dienst- leister | O5: Grund- stücks- und Wohnungs- wesen | P5: Unter- nehmens- dienst- leister | R5: Öffentl. Dienst- leister, Erziehung, Gesund- heit | S5: Sonstige Dienst- leister, private Haushalte
C7: Jahresdurchschnitt in 1 000 Personen | I7: Jahresdurchschnitt in 1 000 Personen
B8: 1991 | C8: 59.118 | D8: 3.829 | E8: 11.891 | F8: 5.087 | G8: 4.983 | H8: 6.804 | I8: 43.398 | J8: 23.165 | K8: • | L8: • | M8: 7.753 | N8: • | O8: • | P8: • | Q8: 12.48 | R8: • | S8: • | T8: 1991
B9: 1992 | C9: 70.677 | D9: 5.006 | E9: 14.206 | F9: 7.135 | G9: 6.911 | H9: 7.071 | I9: 51.465 | J9: 29.478 | K9: • | L9: • | M9: 8.811 | N9: • | O9: • | P9: • | Q9: 13.176 | R9: • | S9: • | T9: 1992
B10: 1993 | C10: 75.236 | D10: 4.924 | E10: 15.209 | F10: 7.631 | G10: 7.341 | H10: 7.578 | I10: 55.103 | J10: 31.075 | K10: • | L10: • | M10: 10.657 | N10: • | O10: • | P10: • | Q10: 13.371 | R10: • | S10: • | T10: 1993
B11: 1994 | C11: 81.082 | D11: 5.27 | E11: 16.276 | F11: 7.556 | G11: 7.28 | H11: 8.72 | I11: 59.536 | J11: 32.91 | K11: • | L11: • | M11: 12.316 | N11: • | O11: • | P11: • | Q11: 14.31 | R11: • | S11: • | T11: 1994
B12: 1995 | C12: 83.508 | D12: 4.883 | E12: 17.24 | F12: 6.615 | G12: 6.238 | H12: 10.625 | I12: 61.385 | J12: 33.546 | K12: • | L12: • | M12: 12.911 | N12: • | O12: • | P12: • | Q12: 14.928 | R12: • | S12: • | T12: 1995
B13: 1996 | C13: 86.208 | D13: 4.591 | E13: 19.368 | F13: 6.866 | G13: 6.502 | H13: 12.502 | I13: 62.249 | J13: 33.506 | K13: • | L13: • | M13: 14.024 | N13: • | O13: • | P13: • | Q13: 14.719 | R13: • | S13: • | T13: 1996
B14: 1997 | C14: 90.698 | D14: 4.428 | E14: 20.599 | F14: 6.712 | G14: 6.311 | H14: 13.887 | I14: 65.671 | J14: 33.698 | K14: • | L14: • | M14: 15.774 | N14: • | O14: • | P14: • | Q14: 16.199 | R14: • | S14: • | T14: 1997
B15: 1998 | C15: 95.423 | D15: 4.296 | E15: 21.646 | F15: 6.925 | G15: 6.529 | H15: 14.721 | I15: 69.481 | J15: 33.946 | K15: • | L15: • | M15: 17.038 | N15: • | O15: • | P15: • | Q15: 18.497 | R15: • | S15: • | T15: 1998
B16: 1999 | C16: 102.444 | D16: 4.258 | E16: 24.054 | F16: 6.934 | G16: 6.55 | H16: 17.12 | I16: 74.132 | J16: 34.979 | K16: • | L16: • | M16: 18.698 | N16: • | O16: • | P16: • | Q16: 20.455 | R16: • | S16: • | T16: 1999
B17: 2000 | C17: 108.98 | D17: 4.427 | E17: 25.571 | F17: 7.169 | G17: 6.782 | H17: 18.402 | I17: 78.982 | J17: 36.05 | K17: 34.859 | L17: 1.191 | M17: 19.821 | N17: 5.257 | O17: 1.471 | P17: 13.093 | Q17: 23.111 | R17: 12.494 | S17: 10.617 | T17: 2000
B18: 2001 | C18: 112.151 | D18: 4.602 | E18: 25.951 | F18: 7.582 | G18: 7.157 | H18: 18.369 | I18: 81.598 | J18: 36.049 | K18: 34.711 | L18: 1.338 | M18: 20.851 | N18: 5.777 | O18: 1.375 | P18: 13.699 | Q18: 24.698 | R18: 12.97 | S18: 11.728 | T18: 2001
B19: 2002 | C19: 112.325 | D19: 4.576 | E19: 26.037 | F19: 7.414 | G19: 6.985 | H19: 18.623 | I19: 81.712 | J19: 36.086 | K19: 34.397 | L19: 1.689 | M19: 22.198 | N19: 6.226 | O19: 1.373 | P19: 14.599 | Q19: 23.428 | R19: 11.854 | S19: 11.574 | T19: 2002
B20: 2003 | C20: 114.738 | D20: 4.623 | E20: 25.305 | F20: 7.393 | G20: 6.907 | H20: 17.912 | I20: 84.81 | J20: 36.544 | K20: 34.327 | L20: 2.217 | M20: 24.001 | N20: 6.319 | O20: 1.442 | P20: 16.24 | Q20: 24.265 | R20: 12.294 | S20: 11.971 | T20: 2003
B21: 2004 | C21: 120.803 | D21: 4.641 | E21: 26.049 | F21: 7.53 | G21: 7.042 | H21: 18.519 | I21: 90.113 | J21: 37.261 | K21: 34.739 | L21: 2.522 | M21: 26.136 | N21: 5.986 | O21: 1.437 | P21: 18.713 | Q21: 26.716 | R21: 12.921 | S21: 13.795 | T21: 2004
B22: 2005 | C22: 129.077 | D22: 4.715 | E22: 30.605 | F22: 7.696 | G22: 7.146 | H22: 22.909 | I22: 93.757 | J22: 37.479 | K22: 34.697 | L22: 2.782 | M22: 28.018 | N22: 5.959 | O22: 1.525 | P22: 20.534 | Q22: 28.26 | R22: 13.478 | S22: 14.782 | T22: 2005
B23: 2006 | C23: 130.665 | D23: 4.678 | E23: 32.008 | F23: 7.588 | G23: 7.05 | H23: 24.42 | I23: 93.979 | J23: 37.065 | K23: 34.042 | L23: 3.023 | M23: 29.232 | N23: 6.204 | O23: 1.62 | P23: 21.408 | Q23: 27.682 | R23: 13.409 | S23: 14.273 | T23: 2006
B24: 2007 | C24: 132.236 | D24: 4.8 | E24: 32.637 | F24: 7.699 | G24: 7.119 | H24: 24.938 | I24: 94.799 | J24: 36.553 | K24: 33.475 | L24: 3.078 | M24: 30.177 | N24: 5.986 | O24: 1.771 | P24: 22.42 | Q24: 28.069 | R24: 13.505 | S24: 14.564 | T24: 2007
B25: 2008 | C25: 136.542 | D25: 4.754 | E25: 33.137 | F25: 7.789 | G25: 7.211 | H25: 25.348 | I25: 98.651 | J25: 36.236 | K25: 33.235 | L25: 3.001 | M25: 31.811 | N25: 5.906 | O25: 1.976 | P25: 23.929 | Q25: 30.604 | R25: 14.397 | S25: 16.207 | T25: 2008
B26: 2009 | C26: 139.995 | D26: 4.63 | E26: 33.049 | F26: 7.852 | G26: 7.223 | H26: 25.197 | I26: 102.316 | J26: 36.094 | K26: 33.081 | L26: 3.013 | M26: 33.818 | N26: 6.679 | O26: 1.985 | P26: 25.154 | Q26: 32.404 | R26: 16.073 | S26: 16.331 | T26: 2009
B27: 2010 | C27: 139.769 | D27: 4.489 | E27: 32.531 | F27: 7.839 | G27: 7.208 | H27: 24.692 | I27: 102.749 | J27: 35.994 | K27: 32.892 | L27: 3.102 | M27: 34.795 | N27: 7.168 | O27: 2.012 | P27: 25.615 | Q27: 31.96 | R27: 16.798 | S27: 15.162 | T27: 2010
B28: 2011 | C28: 137.536 | D28: 4.52 | E28: 33.625 | F28: 7.814 | G28: 7.187 | H28: 25.811 | I28: 99.391 | J28: 35.17 | K28: 32.107 | L28: 3.063 | M28: 33.308 | N28: 6.681 | O28: 1.983 | P28: 24.644 | Q28: 30.913 | R28: 16.241 | S28: 14.672 | T28: 2011
... B42: 2025 | C42: 111.06 | D42: 3.74 | E42: 26.203 | F42: 5.663 | G42: 5.389 | H42: 20.54 | I42: 81.117 | J42: 24.194 | K42: 20.98 | L42: 3.214 | M42: 26.034 | N42: 3.502 | O42: 2.171 | P42: 20.361 | Q42: 30.889 | R42: 19.215 | S42: 11.674 | T42: 2025
C44: Veränderung zum Vorjahr in % | I44: Veränderung zum Vorjahr in %
B45: 1992 | C45: =ROUND(C9/C8*100-100,5) -> 19.55242 | D45: =ROUND(D9/D8*100-100,5) -> 30.7391 | E45: =ROUND(E9/E8*100-100,5) -> 19.46851 | F45: =ROUND(F9/F8*100-100,5) -> 40.25948 | G45: =ROUND(G9/G8*100-100,5) -> 38.69155 | H45: =ROUND(H9/H8*100-100,5) -> 3.92416 | I45: =ROUND(I9/I8*100-100,5) -> 18.58841 | J45: =ROUND(J9/J8*100-100,5) -> 27.25232 | K45: • | L45: • | M45: =ROUND(M9/M8*100-100,5) -> 13.64633 | N45: • | O45: • | P45: • | Q45: =ROUND(Q9/Q8*100-100,5) -> 5.57692 | R45: • | S45: • | T45: 1992
B46: 1993 | C46: =ROUND(C10/C9*100-100,5) -> 6.45047 | D46: =ROUND(D10/D9*100-100,5) -> -1.63803 | E46: =ROUND(E10/E9*100-100,5) -> 7.0604 | F46: =ROUND(F10/F9*100-100,5) -> 6.95165 | G46: =ROUND(G10/G9*100-100,5) -> 6.22196 | H46: =ROUND(H10/H9*100-100,5) -> 7.17013 | I46: =ROUND(I10/I9*100-100,5) -> 7.06888 | J46: =ROUND(J10/J9*100-100,5) -> 5.4176 | K46: • | L46: • | M46: =ROUND(M10/M9*100-100,5) -> 20.95108 | N46: • | O46: • | P46: • | Q46: =ROUND(Q10/Q9*100-100,5) -> 1.47996 | R46: • | S46: • | T46: 1993
B47: 1994 | C47: =ROUND(C11/C10*100-100,5) -> 7.77022 | D47: =ROUND(D11/D10*100-100,5) -> 7.02681 | E47: =ROUND(E11/E10*100-100,5) -> 7.01558 | F47: =ROUND(F11/F10*100-100,5) -> -0.98283 | G47: =ROUND(G11/G10*100-100,5) -> -0.83095 | H47: =ROUND(H11/H10*100-100,5) -> 15.06994 | I47: =ROUND(I11/I10*100-100,5) -> 8.04493 | J47: =ROUND(J11/J10*100-100,5) -> 5.90507 | K47: • | L47: • | M47: =ROUND(M11/M10*100-100,5) -> 15.56723 | N47: • | O47: • | P47: • | Q47: =ROUND(Q11/Q10*100-100,5) -> 7.02266 | R47: • | S47: • | T47: 1994
B48: 1995 | C48: =ROUND(C12/C11*100-100,5) -> 2.99203 | D48: =ROUND(D12/D11*100-100,5) -> -7.34345 | E48: =ROUND(E12/E11*100-100,5) -> 5.92283 | F48: =ROUND(F12/F11*100-100,5) -> -12.45368 | G48: =ROUND(G12/G11*100-100,5) -> -14.31319 | H48: =ROUND(H12/H11*100-100,5) -> 21.84633 | I48: =ROUND(I12/I11*100-100,5) -> 3.10568 | J48: =ROUND(J12/J11*100-100,5) -> 1.93254 | K48: • | L48: • | M48: =ROUND(M12/M11*100-100,5) -> 4.83111 | N48: • | O48: • | P48: • | Q48: =ROUND(Q12/Q11*100-100,5) -> 4.31866 | R48: • | S48: • | T48: 1995
B49: 1996 | C49: =ROUND(C13/C12*100-100,5) -> 3.23322 | D49: =ROUND(D13/D12*100-100,5) -> -5.97993 | E49: =ROUND(E13/E12*100-100,5) -> 12.34339 | F49: =ROUND(F13/F12*100-100,5) -> 3.79441 | G49: =ROUND(G13/G12*100-100,5) -> 4.23213 | H49: =ROUND(H13/H12*100-100,5) -> 17.66588 | I49: =ROUND(I13/I12*100-100,5) -> 1.40751 | J49: =ROUND(J13/J12*100-100,5) -> -0.11924 | K49: • | L49: • | M49: =ROUND(M13/M12*100-100,5) -> 8.62056 | N49: • | O49: • | P49: • | Q49: =ROUND(Q13/Q12*100-100,5) -> -1.40005 | R49: • | S49: • | T49: 1996
B50: 1997 | C50: =ROUND(C14/C13*100-100,5) -> 5.20833 | D50: =ROUND(D14/D13*100-100,5) -> -3.55042 | E50: =ROUND(E14/E13*100-100,5) -> 6.35584 | F50: =ROUND(F14/F13*100-100,5) -> -2.24294 | G50: =ROUND(G14/G13*100-100,5) -> -2.93756 | H50: =ROUND(H14/H13*100-100,5) -> 11.07823 | I50: =ROUND(I14/I13*100-100,5) -> 5.49728 | J50: =ROUND(J14/J13*100-100,5) -> 0.57303 | K50: • | L50: • | M50: =ROUND(M14/M13*100-100,5) -> 12.47861 | N50: • | O50: • | P50: • | Q50: =ROUND(Q14/Q13*100-100,5) -> 10.05503 | R50: • | S50: • | T50: 1997
B51: 1998 | C51: =ROUND(C15/C14*100-100,5) -> 5.2096 | D51: =ROUND(D15/D14*100-100,5) -> -2.98103 | E51: =ROUND(E15/E14*100-100,5) -> 5.08277 | F51: =ROUND(F15/F14*100-100,5) -> 3.17342 | G51: =ROUND(G15/G14*100-100,5) -> 3.45429 | H51: =ROUND(H15/H14*100-100,5) -> 6.00562 | I51: =ROUND(I15/I14*100-100,5) -> 5.80165 | J51: =ROUND(J15/J14*100-100,5) -> 0.73595 | K51: • | L51: • | M51: =ROUND(M15/M14*100-100,5) -> 8.01319 | N51: • | O51: • | P51: • | Q51: =ROUND(Q15/Q14*100-100,5) -> 14.18606 | R51: • | S51: • | T51: 1998
B52: 1999 | C52: =ROUND(C16/C15*100-100,5) -> 7.35776 | D52: =ROUND(D16/D15*100-100,5) -> -0.88454 | E52: =ROUND(E16/E15*100-100,5) -> 11.12446 | F52: =ROUND(F16/F15*100-100,5) -> 0.12996 | G52: =ROUND(G16/G15*100-100,5) -> 0.32164 | H52: =ROUND(H16/H15*100-100,5) -> 16.29645 | I52: =ROUND(I16/I15*100-100,5) -> 6.69392 | J52: =ROUND(J16/J15*100-100,5) -> 3.04307 | K52: • | L52: • | M52: =ROUND(M16/M15*100-100,5) -> 9.74293 | N52: • | O52: • | P52: • | Q52: =ROUND(Q16/Q15*100-100,5) -> 10.5855 | R52: • | S52: • | T52: 1999
B53: 2000 | C53: =ROUND(C17/C16*100-100,5) -> 6.38007 | D53: =ROUND(D17/D16*100-100,5) -> 3.969 | E53: =ROUND(E17/E16*100-100,5) -> 6.30664 | F53: =ROUND(F17/F16*100-100,5) -> 3.3891 | G53: =ROUND(G17/G16*100-100,5) -> 3.54198 | H53: =ROUND(H17/H16*100-100,5) -> 7.48832 | I53: =ROUND(I17/I16*100-100,5) -> 6.54238 | J53: =ROUND(J17/J16*100-100,5) -> 3.06184 | K53: • | L53: • | M53: =ROUND(M17/M16*100-100,5) -> 6.00599 | N53: • | O53: • | P53: • | Q53: =ROUND(Q17/Q16*100-100,5) -> 12.9846 | R53: • | S53: • | T53: 2000
B54: 2001 | C54: =ROUND(C18/C17*100-100,5) -> 2.90971 | D54: =ROUND(D18/D17*100-100,5) -> 3.95302 | E54: =ROUND(E18/E17*100-100,5) -> 1.48606 | F54: =ROUND(F18/F17*100-100,5) -> 5.76092 | G54: =ROUND(G18/G17*100-100,5) -> 5.52934 | H54: =ROUND(H18/H17*100-100,5) -> -0.17933 | I54: =ROUND(I18/I17*100-100,5) -> 3.31215 | J54: =ROUND(J18/J17*100-100,5) -> -0.00277 | ... S54: =ROUND(S18/S17*100-100,5) -> 10.46435 | T54: 2001
B55: 2002 | C55: =ROUND(C19/C18*100-100,5) -> 0.15515 | D55: =ROUND(D19/D18*100-100,5) -> -0.56497 | E55: =ROUND(E19/E18*100-100,5) -> 0.33139 | F55: =ROUND(F19/F18*100-100,5) -> -2.21577 | G55: =ROUND(G19/G18*100-100,5) -> -2.40324 | H55: =ROUND(H19/H18*100-100,5) -> 1.38276 | I55: =ROUND(I19/I18*100-100,5) -> 0.13971 | J55: =ROUND(J19/J18*100-100,5) -> 0.10264 | ... S55: =ROUND(S19/S18*100-100,5) -> -1.3131 | T55: 2002
B56: 2003 | C56: =ROUND(C20/C19*100-100,5) -> 2.14823 | D56: =ROUND(D20/D19*100-100,5) -> 1.0271 | E56: =ROUND(E20/E19*100-100,5) -> -2.81138 | F56: =ROUND(F20/F19*100-100,5) -> -0.28325 | G56: =ROUND(G20/G19*100-100,5) -> -1.11668 | H56: =ROUND(H20/H19*100-100,5) -> -3.81786 | I56: =ROUND(I20/I19*100-100,5) -> 3.79136 | J56: =ROUND(J20/J19*100-100,5) -> 1.26919 | ... S56: =ROUND(S20/S19*100-100,5) -> 3.4301 | T56: 2003
...

Sheet T5
A1: 5 Erwerbstätige am Arbeitsort im Land Brandenburg 2008 bis 2025 nach Wirtschaftsbereichen | O1: 5 Erwerbstätige am Arbeitsort im Land Brandenburg 2008 bis 2025 nach Wirtschaftsbereichen
A3: Jahr | B3: Ins- gesamt | C3: Land- und Forst- wirt- schaft, Fische- rei | D3: Produzierendes Gewerbe ohne Baugewerbe | I3: Bau- ge- werbe | J3: Handel, Verkehr und Lagerei, Gastgewerbe | N3: Infor- mation und Kom- muni- ka- tion | O3: Finanz- und Versiche- rungs- dienst- leister | P3: Grund- stücks- und Woh-nungs- wesen | Q3: Unternehmensdienstleister | T3: Öffentliche Dienstleister, Erziehung, Gesundheit | X3: sonstige Dienstleister | AB3: Jahr
D4: zu- sam- men | E4: Bergbau und Gewin- nung von Steinen und Erden | F4: Verarbei- tendes Gewerbe | G4: Energie- versor- gung | H4: Wasser- versor- gung, Entsor- gung u.Ä. | J4: zu- sam- men | K4: Handel; Instandh. und Repa- ratur von Kfz | L4: Verkehr und Lagerei | M4: Gast- ge- werbe | Q4: zu- sam- men | R4: Frei- berufl., wiss. u. techn. Dienst- leister | S4: Sonstige Unter-nehmens- dienst- leister | T4: zu- sam- men | U4: Öffentliche Verwaltg., Verteid., Sozial- versiche- rung | V4: Erzieh- ung und Unter-richt | W4: Gesund- heits- und Sozial- wesen | X4: zu- sam- men | Y4: Kunst, Unter- haltung und Erholung | Z4: Sonstige Dienst- leister a.n.g. | AA4: Häus- liche Dienste
B6: Jahresdurchschnitt in 1 000 Personen | O6: Jahresdurchschnitt in 1 000 Personen
A7: 2008 | B7: 1063.312 | C7: 30.014 | D7: 144.441 | E7: 3.68 | F7: 118.848 | G7: 7.524 | H7: 14.389 | I7: 93.883 | J7: 244.627 | K7: 142.221 | L7: 60.832 | M7: 41.574 | N7: 23.44 | O7: 18.652 | P7: 12.507 | Q7: 129.463 | R7: 49.33 | S7: 80.133 | T7: 293.109 | U7: 95.764 | V7: 64.19 | W7: 133.155 | X7: 73.176 | Y7: 17.768 | Z7: 44.953 | AA7: 10.455 | AB7: 2008
A8: 2009 | B8: 1076.557 | C8: 29.918 | D8: 144.789 | E8: 3.624 | F8: 119.528 | G8: 7.601 | H8: 14.036 | I8: 93.667 | J8: 245.877 | K8: 141.843 | L8: 60.592 | M8: 43.442 | N8: 23.505 | O8: 19.455 | P8: 12 | Q8: 132.668 | R8: 51.354 | S8: 81.314 | T8: 298.748 | U8: 97.361 | V8: 63.383 | W8: 138.004 | X8: 75.93 | Y8: 18.61 | Z8: 46.558 | AA8: 10.762 | AB8: 2009
A9: 2010 | B9: 1081.754 | C9: 29.027 | D9: 144.404 | E9: 3.601 | F9: 119.57 | G9: 7.661 | H9: 13.572 | I9: 92.602 | J9: 247.53 | K9: 140.892 | L9: 62.578 | M9: 44.06 | N9: 23.342 | O9: 19.952 | P9: 12.06 | Q9: 138.787 | R9: 51.996 | S9: 86.791 | T9: 298.51 | U9: 95.552 | V9: 61.248 | W9: 141.71 | X9: 75.54 | Y9: 18.274 | Z9: 46.405 | AA9: 10.861 | AB9: 2010
A10: 2011 | B10: 1080.906 | C10: 29.524 | D10: 151.348 | E10: 3.478 | F10: 126.32 | G10: 7.876 | H10: 13.674 | I10: 95.201 | J10: 250.089 | K10: 141.915 | L10: 64.33 | M10: 43.844 | N10: 23.763 | O10: 19.265 | P10: 11.987 | Q10: 138.212 | R10: 50.581 | S10: 87.631 | T10: 288.47 | U10: 89.028 | V10: 57.053 | W10: 142.389 | X10: 73.047 | Y10: 17.137 | Z10: 44.918 | AA10: 10.992 | AB10: 2011
A11: 2012 | B11: 1083.504 | C11: 29.479 | D11: 152.514 | E11: 3.713 | F11: 127.974 | G11: 7.815 | H11: 13.012 | I11: 95.721 | J11: 254.852 | K11: 143.371 | L11: 66.542 | M11: 44.939 | N11: 23.167 | O11: 18.706 | P11: 12.062 | Q11: 139.381 | R11: 50.744 | S11: 88.637 | T11: 286.421 | U11: 86.154 | V11: 54.879 | W11: 145.388 | X11: 71.201 | Y11: 16.7 | Z11: 43.415 | AA11: 11.086 | AB11: 2012
A12: 2013 | B12: 1081.834 | C12: 29.417 | D12: 151.479 | E12: 3.672 | F12: 127.143 | G12: 7.924 | H12: 12.74 | I12: 94.139 | J12: 254.697 | K12: 141.179 | L12: 68.017 | M12: 45.501 | N12: 21.081 | O12: 18.09 | P12: 12.448 | Q12: 143.779 | R12: 53.678 | S12: 90.101 | T12: 287.301 | U12: 85.189 | V12: 55.099 | W12: 147.013 | X12: 69.403 | Y12: 16.461 | Z12: 41.667 | AA12: 11.275 | AB12: 2013
A13: 2014 | B13: 1082.629 | C13: 29.412 | D13: 152.174 | E13: 3.685 | F13: 127.601 | G13: 8.124 | H13: 12.764 | I13: 93.662 | J13: 256.546 | K13: 140.551 | L13: 70.035 | M13: 45.96 | N13: 18.975 | O13: 17.967 | P13: 12.568 | Q13: 145.419 | R13: 54.863 | S13: 90.556 | T13: 288.336 | U13: 84.545 | V13: 55.231 | W13: 148.56 | X13: 67.57 | Y13: 16.428 | Z13: 39.905 | AA13: 11.237 | AB13: 2014
A14: 2015 | B14: 1084.937 | C14: 29.482 | D14: 151.488 | E14: 3.633 | F14: 127.254 | G14: 8.094 | H14: 12.507 | I14: 93.076 | J14: 256.016 | K14: 138.15 | L14: 72.252 | M14: 45.614 | N14: 17.526 | O14: 18.527 | P14: 12.392 | Q14: 146.345 | R14: 53.002 | S14: 93.343 | T14: 292.494 | U14: 84.125 | V14: 54.538 | W14: 153.831 | X14: 67.591 | Y14: 17 | Z14: 39.251 | AA14: 11.34 | AB14: 2015
A15: 2016 | B15: 1099.041 | C15: 29.309 | D15: 151.449 | E15: 3.468 | F15: 127.585 | G15: 8.349 | H15: 12.047 | I15: 93.254 | J15: 257.646 | K15: 138.438 | L15: 73.451 | M15: 45.757 | N15: 17.303 | O15: 18.567 | P15: 12.024 | Q15: 149.513 | R15: 53.348 | S15: 96.165 | T15: 301.092 | U15: 84.873 | V15: 55.184 | W15: 161.035 | X15: 68.884 | Y15: 16.773 | Z15: 40.544 | AA15: 11.567 | AB15: 2016
A16: 2017 | B16: 1113.207 | C16: 29.994 | D16: 152.141 | E16: 3.392 | F16: 128.555 | G16: 8.235 | H16: 11.959 | I16: 93.479 | J16: 261.778 | K16: 138.84 | L16: 76.356 | M16: 46.582 | N16: 17.701 | O16: 17.763 | P16: 12.097 | Q16: 151.985 | R16: 54.086 | S16: 97.899 | T16: 307.02 | U16: 85.402 | V16: 55.275 | W16: 166.343 | X16: 69.249 | Y16: 17.125 | Z16: 40.21 | AA16: 11.914 | AB16: 2017
A17: 2018 | B17: 1123.923 | C17: 28.795 | D17: 153.979 | E17: 2.975 | F17: 130.535 | G17: 8.213 | H17: 12.256 | I17: 95.552 | J17: 267.988 | K17: 139.758 | L17: 81.753 | M17: 46.477 | N17: 17.461 | O17: 16.647 | P17: 12.518 | Q17: 151.498 | R17: 53.832 | S17: 97.666 | T17: 311.41 | U17: 85.525 | V17: 56.123 | W17: 169.762 | X17: 68.075 | Y17: 17.78 | Z17: 38.179 | AA17: 12.116 | AB17: 2018
A18: 2019 | B18: 1129.779 | C18: 27.92 | D18: 154.163 | E18: 3.047 | F18: 130.746 | G18: 8.062 | H18: 12.308 | I18: 97 | J18: 267.008 | K18: 138.861 | L18: 81.066 | M18: 47.081 | N18: 17.808 | O18: 16.333 | P18: 12.858 | Q18: 151.31 | R18: 53.514 | S18: 97.796 | T18: 316.561 | U18: 86.367 | V18: 57.688 | W18: 172.506 | X18: 68.818 | Y18: 18.776 | Z18: 37.303 | AA18: 12.739 | AB18: 2019
... A24: 2025 | B24: 1144.106 | C24: 24.345 | D24: 153.29 | E24: 2.187 | F24: 129.324 | G24: 9.009 | H24: 12.77 | I24: 91.392 | J24: 263.095 | K24: 134.106 | L24: 82.806 | M24: 46.183 | N24: 17.219 | O24: 14.495 | P24: 14.302 | Q24: 146.074 | R24: 55.327 | S24: 90.747 | T24: 354.5 | U24: 96.759 | V24: 66.301 | W24: 191.44 | X24: 65.394 | Y24: 16.067 | Z24: 35.858 | AA24: 13.469 | AB24: 2025
B26: Veränderung zum Vorjahr in % | O26: Veränderung zum Vorjahr in %
A27: 2009 | B27: =ROUND(B8/B7*100-100,5) -> 1.24564 | C27: =ROUND(C8/C7*100-100,5) -> -0.31985 | D27: =ROUND(D8/D7*100-100,5) -> 0.24093 | E27: =ROUND(E8/E7*100-100,5) -> -1.52174 | F27: =ROUND(F8/F7*100-100,5) -> 0.57216 | G27: =ROUND(G8/G7*100-100,5) -> 1.02339 | H27: =ROUND(H8/H7*100-100,5) -> -2.45326 | I27: =ROUND(I8/I7*100-100,5) -> -0.23007 | ... AA27: =ROUND(AA8/AA7*100-100,5) -> 2.93639 | AB27: 2009
A28: 2010 | B28: =ROUND(B9/B8*100-100,5) -> 0.48274 | C28: =ROUND(C9/C8*100-100,5) -> -2.97814 | D28: =ROUND(D9/D8*100-100,5) -> -0.2659 | E28: =ROUND(E9/E8*100-100,5) -> -0.63466 | F28: =ROUND(F9/F8*100-100,5) -> 0.03514 | G28: =ROUND(G9/G8*100-100,5) -> 0.78937 | H28: =ROUND(H9/H8*100-100,5) -> -3.30579 | I28: =ROUND(I9/I8*100-100,5) -> -1.13701 | ... AA28: =ROUND(AA9/AA8*100-100,5) -> 0.9199 | AB28: 2010
A29: 2011 | B29: =ROUND(B10/B9*100-100,5) -> -0.07839 | C29: =ROUND(C10/C9*100-100,5) -> 1.7122 | D29: =ROUND(D10/D9*100-100,5) -> 4.80873 | E29: =ROUND(E10/E9*100-100,5) -> -3.41572 | F29: =ROUND(F10/F9*100-100,5) -> 5.64523 | G29: =ROUND(G10/G9*100-100,5) -> 2.80642 | H29: =ROUND(H10/H9*100-100,5) -> 0.75155 | I29: =ROUND(I10/I9*100-100,5) -> 2.80663 | ... AA29: =ROUND(AA10/AA9*100-100,5) -> 1.20615 | AB29: 2011
A30: 2012 | B30: =ROUND(B11/B10*100-100,5) -> 0.24035 | C30: =ROUND(C11/C10*100-100,5) -> -0.15242 | D30: =ROUND(D11/D10*100-100,5) -> 0.77041 | E30: =ROUND(E11/E10*100-100,5) -> 6.75676 | F30: =ROUND(F11/F10*100-100,5) -> 1.30937 | G30: =ROUND(G11/G10*100-100,5) -> -0.7745 | H30: =ROUND(H11/H10*100-100,5) -> -4.8413 | I30: =ROUND(I11/I10*100-100,5) -> 0.54621 | ... AA30: =ROUND(AA11/AA10*100-100,5) -> 0.85517 | AB30: 2012
A31: 2013 | B31: =ROUND(B12/B11*100-100,5) -> -0.15413 | C31: =ROUND(C12/C11*100-100,5) -> -0.21032 | D31: =ROUND(D12/D11*100-100,5) -> -0.67863 | E31: =ROUND(E12/E11*100-100,5) -> -1.10423 | F31: =ROUND(F12/F11*100-100,5) -> -0.64935 | G31: =ROUND(G12/G11*100-100,5) -> 1.39475 | H31: =ROUND(H12/H11*100-100,5) -> -2.09038 | I31: =ROUND(I12/I11*100-100,5) -> -1.65272 | ... AA31: =ROUND(AA12/AA11*100-100,5) -> 1.70485 | AB31: 2013
A32: 2014 | B32: =ROUND(B13/B12*100-100,5) -> 0.07349 | C32: =ROUND(C13/C12*100-100,5) -> -0.017 | D32: =ROUND(D13/D12*100-100,5) -> 0.45881 | E32: =ROUND(E13/E12*100-100,5) -> 0.35403 | F32: =ROUND(F13/F12*100-100,5) -> 0.36022 | G32: =ROUND(G13/G12*100-100,5) -> 2.52398 | H32: =ROUND(H13/H12*100-100,5) -> 0.18838 | I32: =ROUND(I13/I12*100-100,5) -> -0.5067 | ... AA32: =ROUND(AA13/AA12*100-100,5) -> -0.33703 | AB32: 2014
A33: 2015 | B33: =ROUND(B14/B13*100-100,5) -> 0.21318 | C33: =ROUND(C14/C13*100-100,5) -> 0.238 | D33: =ROUND(D14/D13*100-100,5) -> -0.4508 | E33: =ROUND(E14/E13*100-100,5) -> -1.41113 | F33: =ROUND(F14/F13*100-100,5) -> -0.27194 | G33: =ROUND(G14/G13*100-100,5) -> -0.36928 | H33: =ROUND(H14/H13*100-100,5) -> -2.01348 | I33: =ROUND(I14/I13*100-100,5) -> -0.62565 | ... AA33: =ROUND(AA14/AA13*100-100,5) -> 0.91661 | AB33: 2015
A34: 2016 | B34: =ROUND(B15/B14*100-100,5) -> 1.29998 | C34: =ROUND(C15/C14*100-100,5) -> -0.5868 | D34: =ROUND(D15/D14*100-100,5) -> -0.02574 | E34: =ROUND(E15/E14*100-100,5) -> -4.5417 | F34: =ROUND(F15/F14*100-100,5) -> 0.26011 | G34: =ROUND(G15/G14*100-100,5) -> 3.15048 | H34: =ROUND(H15/H14*100-100,5) -> -3.67794 | I34: =ROUND(I15/I14*100-100,5) -> 0.19124 | ... AA34: =ROUND(AA15/AA14*100-100,5) -> 2.00176 | AB34: 2016
A35: 2017 | B35: =ROUND(B16/B15*100-100,5) -> 1.28894 | C35: =ROUND(C16/C15*100-100,5) -> 2.33717 | D35: =ROUND(D16/D15*100-100,5) -> 0.45692 | E35: =ROUND(E16/E15*100-100,5) -> -2.19146 | F35: =ROUND(F16/F15*100-100,5) -> 0.76028 | G35: =ROUND(G16/G15*100-100,5) -> -1.36543 | H35: =ROUND(H16/H15*100-100,5) -> -0.73047 | I35: =ROUND(I16/I15*100-100,5) -> 0.24128 | ... AA35: =ROUND(AA16/AA15*100-100,5) -> 2.99991 | AB35: 2017
A36: 2018 | B36: =ROUND(B17/B16*100-100,5) -> 0.96262 | C36: =ROUND(C17/C16*100-100,5) -> -3.99747 | D36: =ROUND(D17/D16*100-100,5) -> 1.20809 | E36: =ROUND(E17/E16*100-100,5) -> -12.29363 | F36: =ROUND(F17/F16*100-100,5) -> 1.5402 | G36: =ROUND(G17/G16*100-100,5) -> -0.26715 | H36: =ROUND(H17/H16*100-100,5) -> 2.48349 | I36: =ROUND(I17/I16*100-100,5) -> 2.21761 | ... AA36: =ROUND(AA17/AA16*100-100,5) -> 1.69548 | AB36: 2018
A37: 2019 | B37: =ROUND(B18/B17*100-100,5) -> 0.52103 | C37: =ROUND(C18/C17*100-100,5) -> -3.03872 | D37: =ROUND(D18/D17*100-100,5) -> 0.1195 | E37: =ROUND(E18/E17*100-100,5) -> 2.42017 | F37: =ROUND(F18/F17*100-100,5) -> 0.16164 | G37: =ROUND(G18/G17*100-100,5) -> -1.83855 | H37: =ROUND(H18/H17*100-100,5) -> 0.42428 | I37: =ROUND(I18/I17*100-100,5) -> 1.51541 | ... AA37: =ROUND(AA18/AA17*100-100,5) -> 5.14196 | AB37: 2019
A38: 2020 | B38: =ROUND(B19/B18*100-100,5) -> -0.6157 | C38: =ROUND(C19/C18*100-100,5) -> -4.20129 | D38: =ROUND(D19/D18*100-100,5) -> -1.46728 | E38: =ROUND(E19/E18*100-100,5) -> -11.45389 | F38: =ROUND(F19/F18*100-100,5) -> -1.60846 | G38: =ROUND(G19/G18*100-100,5) -> 1.9226 | H38: =ROUND(H19/H18*100-100,5) -> 0.28437 | I38: =ROUND(I19/I18*100-100,5) -> 0.1268 | ... AA38: =ROUND(AA19/AA18*100-100,5) -> 3.73656 | AB38: 2020
... A43: 2025 | B43: =ROUND(B24/B23*100-100,5) -> -0.23248 | C43: =ROUND(C24/C23*100-100,5) -> -4.984 | D43: =ROUND(D24/D23*100-100,5) -> -2.30519 | E43: =ROUND(E24/E23*100-100,5) -> -3.57143 | F43: =ROUND(F24/F23*100-100,5) -> -2.98202 | G43: =ROUND(G24/G23*100-100,5) -> 3.16043 | H43: =ROUND(H24/H23*100-100,5) -> 1.29293 | I43: =ROUND(I24/I23*100-100,5) -> -1.70367 | ... AA43: =ROUND(AA24/AA23*100-100,5) -> -1.29708 | AB43: 2025
B45: Veränderung zum Vorjahr in 1 000 Personen | O45: Veränderung zum Vorjahr in 1 000 Personen
A46: 2009 | B46: =B8-B7 -> 13.245 | C46: =C8-C7 -> -0.096 | D46: =D8-D7 -> 0.348 | E46: =E8-E7 -> -0.056 | F46: =F8-F7 -> 0.68 | G46: =G8-G7 -> 0.077 | H46: =H8-H7 -> -0.353 | I46: =I8-I7 -> -0.216 | ... AA46: =AA8-AA7 -> 0.307 | AB46: 2009
A47: 2010 | B47: =B9-B8 -> 5.197 | C47: =C9-C8 -> -0.891 | D47: =D9-D8 -> -0.385 | E47: =E9-E8 -> -0.023 | F47: =F9-F8 -> 0.042 | G47: =G9-G8 -> 0.06 | H47: =H9-H8 -> -0.464 | I47: =I9-I8 -> -1.065 | ... AA47: =AA9-AA8 -> 0.099 | AB47: 2010
A48: 2011 | B48: =B10-B9 -> -0.848 | C48: =C10-C9 -> 0.497 | D48: =D10-D9 -> 6.944 | E48: =E10-E9 -> -0.123 | F48: =F10-F9 -> 6.75 | G48: =G10-G9 -> 0.215 | H48: =H10-H9 -> 0.102 | I48: =I10-I9 -> 2.599 | ... AA48: =AA10-AA9 -> 0.131 | AB48: 2011
A49: 2012 | B49: =B11-B10 -> 2.598 | C49: =C11-C10 -> -0.045 | D49: =D11-D10 -> 1.166 | E49: =E11-E10 -> 0.235 | F49: =F11-F10 -> 1.654 | G49: =G11-G10 -> -0.061 | H49: =H11-H10 -> -0.662 | I49: =I11-I10 -> 0.52 | ... AA49: =AA11-AA10 -> 0.094 | AB49: 2012
A50: 2013 | B50: =B12-B11 -> -1.67 | C50: =C12-C11 -> -0.062 | D50: =D12-D11 -> -1.035 | E50: =E12-E11 -> -0.041 | F50: =F12-F11 -> -0.831 | G50: =G12-G11 -> 0.109 | H50: =H12-H11 -> -0.272 | I50: =I12-I11 -> -1.582 | ... AA50: =AA12-AA11 -> 0.189 | AB50: 2013
A51: 2014 | B51: =B13-B12 -> 0.795 | C51: =C13-C12 -> -0.005 | D51: =D13-D12 -> 0.695 | E51: =E13-E12 -> 0.013 | F51: =F13-F12 -> 0.458 | G51: =G13-G12 -> 0.2 | H51: =H13-H12 -> 0.024 | I51: =I13-I12 -> -0.477 | ... AA51: =AA13-AA12 -> -0.038 | AB51: 2014
